BEGIN:VCALENDAR
VERSION:2.0
PRODID:-//North Kitsap Indivisible - ECPv6.15.20//NONSGML v1.0//EN
CALSCALE:GREGORIAN
METHOD:PUBLISH
X-WR-CALNAME:North Kitsap Indivisible
X-ORIGINAL-URL:https://nkindivisible.com
X-WR-CALDESC:Events for North Kitsap Indivisible
REFRESH-INTERVAL;VALUE=DURATION:PT1H
X-Robots-Tag:noindex
X-PUBLISHED-TTL:PT1H
BEGIN:VTIMEZONE
TZID:America/Los_Angeles
BEGIN:DAYLIGHT
TZOFFSETFROM:-0800
TZOFFSETTO:-0700
TZNAME:PDT
DTSTART:20260308T100000
END:DAYLIGHT
BEGIN:STANDARD
TZOFFSETFROM:-0700
TZOFFSETTO:-0800
TZNAME:PST
DTSTART:20261101T090000
END:STANDARD
BEGIN:DAYLIGHT
TZOFFSETFROM:-0800
TZOFFSETTO:-0700
TZNAME:PDT
DTSTART:20270314T100000
END:DAYLIGHT
BEGIN:STANDARD
TZOFFSETFROM:-0700
TZOFFSETTO:-0800
TZNAME:PST
DTSTART:20271107T090000
END:STANDARD
BEGIN:DAYLIGHT
TZOFFSETFROM:-0800
TZOFFSETTO:-0700
TZNAME:PDT
DTSTART:20280312T100000
END:DAYLIGHT
BEGIN:STANDARD
TZOFFSETFROM:-0700
TZOFFSETTO:-0800
TZNAME:PST
DTSTART:20281105T090000
END:STANDARD
END:VTIMEZONE
BEGIN:VEVENT
DTSTART;TZID=America/Los_Angeles:20270402T160000
DTEND;TZID=America/Los_Angeles:20270402T170000
DTSTAMP:20260423T034503
CREATED:20250913T053001Z
LAST-MODIFIED:20250914T204719Z
UID:10002169-1806681600-1806685200@nkindivisible.com
SUMMARY:End Occupation of Palestine
DESCRIPTION:Every Friday from 4 to 5pm. Next Gathering pm September 5th\nWhere: Corner of Viking Way and Finn Hill Rd in Poulsbo\, In front of the Viking Statue\nBring signs
URL:https://nkindivisible.com/event/end-occupation-of-palestine-2/2027-04-02/
END:VEVENT
BEGIN:VEVENT
DTSTART;TZID=America/Los_Angeles:20270402T160000
DTEND;TZID=America/Los_Angeles:20270402T173000
DTSTAMP:20260423T034503
CREATED:20250914T061829Z
LAST-MODIFIED:20250914T201149Z
UID:10000230-1806681600-1806687000@nkindivisible.com
SUMMARY:Fridays @4 Letter Writing and More
DESCRIPTION:Swing Left– Fridays @4 Letter Writing and More\n\n\n\n\nThis is a weekly meeting via Zoom. Learn about the next letter writing campaign with Vote Forward.   And more: making phone calls to our elected officials\, sending postcards to voters\, using Bluesky…. \nSign up at https://swingleft.org/event/register/mobilize:274619?source=%2Fgroup%2Fswing-left-fridays-at-4-letter-writing-team&s=u
URL:https://nkindivisible.com/event/fridays-4-letter-writing-and-more-3/2027-04-02/
END:VEVENT
BEGIN:VEVENT
DTSTART;TZID=America/Los_Angeles:20270403T123000
DTEND;TZID=America/Los_Angeles:20270403T140000
DTSTAMP:20260423T034503
CREATED:20260401T195608Z
LAST-MODIFIED:20260401T195610Z
UID:10004072-1806755400-1806760800@nkindivisible.com
SUMMARY:NKI Sign-Waving
DESCRIPTION:Hosted by North Kitsap Indivisible.\nWhere: George’s Corner\, the intersection of Bond Rd and Hansville Hwy (27000 Miller Bay Rd NE Kingston)\nBring your signs\, your determination to sink the tRump ship and your friends! We have extra signs so don’t let that be a barrier.
URL:https://nkindivisible.com/event/nki-sign-waving-2-3-2-3/2027-04-03/
END:VEVENT
BEGIN:VEVENT
DTSTART;TZID=America/Los_Angeles:20270404T110000
DTEND;TZID=America/Los_Angeles:20270404T133000
DTSTAMP:20260423T034503
CREATED:20251129T005609Z
LAST-MODIFIED:20260412T203903Z
UID:10001650-1806836400-1806845400@nkindivisible.com
SUMMARY:Poulsbo Weekly Democracy Rally
DESCRIPTION:Hosted by Poulsbo For All. \nWhere: Meet at the gazebo\, waterfront park.\nBring your signs\, your friends\, and your determination stand up for democracy. This is a peaceful event\, and it starts with an inspiring talk by Dr. Claudia Gorbman. Then attendees march with chants and signs\, and ending with open mike and inspirational comments from attendees at the gazebo. \nDuring winter months\, event may be called off due to weather.
URL:https://nkindivisible.com/event/poulsbo-weekly-democracy-rally-2-2/2027-04-04/
END:VEVENT
BEGIN:VEVENT
DTSTART;TZID=America/Los_Angeles:20270404T124500
DTEND;TZID=America/Los_Angeles:20270404T141500
DTSTAMP:20260423T034503
CREATED:20250913T053215Z
LAST-MODIFIED:20250914T205035Z
UID:10002519-1806842700-1806848100@nkindivisible.com
SUMMARY:Free Palestine-Kingston
DESCRIPTION:Alternate Sundays between Bainbridge and Kingston.\nWhere: Kola Kole Park Sidewalk across from Coffee Oasis
URL:https://nkindivisible.com/event/free-palestine-kingston-2/2027-04-04/
END:VEVENT
BEGIN:VEVENT
DTSTART;TZID=America/Los_Angeles:20270404T160000
DTEND;TZID=America/Los_Angeles:20270404T170000
DTSTAMP:20260423T034503
CREATED:20260119T084057Z
LAST-MODIFIED:20260119T084057Z
UID:10003681-1806854400-1806858000@nkindivisible.com
SUMMARY:End the Occupation - Free Palestine Rally - Bremerton
DESCRIPTION:Hosted by Kitsap Palestine Solidarity Coalition Where: Manette Circle (East end of Manette bridge)
URL:https://nkindivisible.com/event/end-the-occupation-free-palestine-rally-bremerton/2027-04-04/
END:VEVENT
BEGIN:VEVENT
DTSTART;TZID=America/Los_Angeles:20270407T120000
DTEND;TZID=America/Los_Angeles:20270407T133000
DTSTAMP:20260423T034503
CREATED:20250913T052204Z
LAST-MODIFIED:20250914T195502Z
UID:10000491-1807099200-1807104600@nkindivisible.com
SUMMARY:Bainbridge Island Rally for America
DESCRIPTION:Wednesdays\, noon to 1:30 pm\nWhere: the intersection of 305 and Winslow Way.\nWhat: Signs in support of Ukraine\, Medicaid\, Social Security\, Medicare\, Education\, you name it.
URL:https://nkindivisible.com/event/bainbridge-island-rally-for-america-5/2027-04-07/
END:VEVENT
BEGIN:VEVENT
DTSTART;TZID=America/Los_Angeles:20270407T140000
DTEND;TZID=America/Los_Angeles:20270407T153000
DTSTAMP:20260423T034503
CREATED:20250913T052524Z
LAST-MODIFIED:20250914T202009Z
UID:10001131-1807106400-1807111800@nkindivisible.com
SUMMARY:Postcards on Wednesday-Indivisible Bainbridge Island
DESCRIPTION:Every Wednesday  from 2 pm to 3:30 pm.\nHosted by Indivisible Bainbridge Island\nWhere: Upstairs at the Town & Country Market \n\n\nEmail postcards@indivisiblebainbridgeisland.org to get on the reminder list.
URL:https://nkindivisible.com/event/postcards-on-wednesday-indivisible-bainbridge-island-3/2027-04-07/
END:VEVENT
BEGIN:VEVENT
DTSTART;TZID=America/Los_Angeles:20270407T160000
DTEND;TZID=America/Los_Angeles:20270407T173000
DTSTAMP:20260423T034503
CREATED:20250913T052647Z
LAST-MODIFIED:20250914T202223Z
UID:10001391-1807113600-1807119000@nkindivisible.com
SUMMARY:Rally-Indivisible Bremerton
DESCRIPTION:Every Wednesday from 4 to 5:30 pm.\nHosted by Indivisible Bremerton\nWhere:  Warren @ 15th\, Bremerton.\nJoin us for a peaceful low-key WEEKLY gathering. Bring your signs\, flags\,voices\, and friends. Whether you are a new or seasoned resister – you are welcome to join us.\nContact us at indivisiblebremerton@gmail.com
URL:https://nkindivisible.com/event/rally-indivisible-bremerton-3/2027-04-07/
END:VEVENT
BEGIN:VEVENT
DTSTART;TZID=America/Los_Angeles:20270409T160000
DTEND;TZID=America/Los_Angeles:20270409T170000
DTSTAMP:20260423T034503
CREATED:20250913T053001Z
LAST-MODIFIED:20250914T204719Z
UID:10002170-1807286400-1807290000@nkindivisible.com
SUMMARY:End Occupation of Palestine
DESCRIPTION:Every Friday from 4 to 5pm. Next Gathering pm September 5th\nWhere: Corner of Viking Way and Finn Hill Rd in Poulsbo\, In front of the Viking Statue\nBring signs
URL:https://nkindivisible.com/event/end-occupation-of-palestine-2/2027-04-09/
END:VEVENT
BEGIN:VEVENT
DTSTART;TZID=America/Los_Angeles:20270409T160000
DTEND;TZID=America/Los_Angeles:20270409T173000
DTSTAMP:20260423T034503
CREATED:20250914T061829Z
LAST-MODIFIED:20250914T201149Z
UID:10000231-1807286400-1807291800@nkindivisible.com
SUMMARY:Fridays @4 Letter Writing and More
DESCRIPTION:Swing Left– Fridays @4 Letter Writing and More\n\n\n\n\nThis is a weekly meeting via Zoom. Learn about the next letter writing campaign with Vote Forward.   And more: making phone calls to our elected officials\, sending postcards to voters\, using Bluesky…. \nSign up at https://swingleft.org/event/register/mobilize:274619?source=%2Fgroup%2Fswing-left-fridays-at-4-letter-writing-team&s=u
URL:https://nkindivisible.com/event/fridays-4-letter-writing-and-more-3/2027-04-09/
END:VEVENT
BEGIN:VEVENT
DTSTART;TZID=America/Los_Angeles:20270410T094500
DTEND;TZID=America/Los_Angeles:20270410T111500
DTSTAMP:20260423T034503
CREATED:20251129T010238Z
LAST-MODIFIED:20251129T010238Z
UID:10003508-1807350300-1807355700@nkindivisible.com
SUMMARY:Signs of Fascism\, Kingston
DESCRIPTION:Hosted by Kingston Alliance for Democracy\nWhere: Kola Kole Park near the ferry dock\, 26100 Bannister St NE\, Kingston\nThe Kingston Alliance for Democracy will be holding the “Signs of Fascism” as the ferry traffic goes by. It is very powerful. We furnish the signs. Wear all black\, dress warm\, and plan for rain. We have a few black umbrellas! Watch the video and you can see what it looks like here.
URL:https://nkindivisible.com/event/signs-of-fascism-kingston/2027-04-10/
END:VEVENT
BEGIN:VEVENT
DTSTART;TZID=America/Los_Angeles:20270410T123000
DTEND;TZID=America/Los_Angeles:20270410T140000
DTSTAMP:20260423T034503
CREATED:20260401T195608Z
LAST-MODIFIED:20260401T195610Z
UID:10004073-1807360200-1807365600@nkindivisible.com
SUMMARY:NKI Sign-Waving
DESCRIPTION:Hosted by North Kitsap Indivisible.\nWhere: George’s Corner\, the intersection of Bond Rd and Hansville Hwy (27000 Miller Bay Rd NE Kingston)\nBring your signs\, your determination to sink the tRump ship and your friends! We have extra signs so don’t let that be a barrier.
URL:https://nkindivisible.com/event/nki-sign-waving-2-3-2-3/2027-04-10/
END:VEVENT
BEGIN:VEVENT
DTSTART;TZID=America/Los_Angeles:20270411T110000
DTEND;TZID=America/Los_Angeles:20270411T133000
DTSTAMP:20260423T034503
CREATED:20251129T005609Z
LAST-MODIFIED:20260412T203903Z
UID:10001651-1807441200-1807450200@nkindivisible.com
SUMMARY:Poulsbo Weekly Democracy Rally
DESCRIPTION:Hosted by Poulsbo For All. \nWhere: Meet at the gazebo\, waterfront park.\nBring your signs\, your friends\, and your determination stand up for democracy. This is a peaceful event\, and it starts with an inspiring talk by Dr. Claudia Gorbman. Then attendees march with chants and signs\, and ending with open mike and inspirational comments from attendees at the gazebo. \nDuring winter months\, event may be called off due to weather.
URL:https://nkindivisible.com/event/poulsbo-weekly-democracy-rally-2-2/2027-04-11/
END:VEVENT
BEGIN:VEVENT
DTSTART;TZID=America/Los_Angeles:20270411T124500
DTEND;TZID=America/Los_Angeles:20270411T141500
DTSTAMP:20260423T034503
CREATED:20250902T064758Z
LAST-MODIFIED:20250914T204902Z
UID:10002390-1807447500-1807452900@nkindivisible.com
SUMMARY:Free Palestine-Bainbridge Island
DESCRIPTION:Alternate Sundays between Bainbridge Island and Kingston.\nWhere: Stop light near Ferry Terminal
URL:https://nkindivisible.com/event/free-palestine-bainbridge-island/2027-04-11/
END:VEVENT
BEGIN:VEVENT
DTSTART;TZID=America/Los_Angeles:20270411T160000
DTEND;TZID=America/Los_Angeles:20270411T170000
DTSTAMP:20260423T034503
CREATED:20260119T084057Z
LAST-MODIFIED:20260119T084057Z
UID:10003682-1807459200-1807462800@nkindivisible.com
SUMMARY:End the Occupation - Free Palestine Rally - Bremerton
DESCRIPTION:Hosted by Kitsap Palestine Solidarity Coalition Where: Manette Circle (East end of Manette bridge)
URL:https://nkindivisible.com/event/end-the-occupation-free-palestine-rally-bremerton/2027-04-11/
END:VEVENT
BEGIN:VEVENT
DTSTART;TZID=America/Los_Angeles:20270413T000000
DTEND;TZID=America/Los_Angeles:20270413T000000
DTSTAMP:20260423T034503
CREATED:20250914T201740Z
LAST-MODIFIED:20250914T212106Z
UID:10001009-1807574400-1807574400@nkindivisible.com
SUMMARY:Tuesdays at the VA Hospital\, Seattle
DESCRIPTION:Every 2nd and 4th Tuesday\, 3:00 to 6:00 PM\nTuesdays at the VA Hospital\nHosted by Veterans For Peace Daniel Ellsberg Chapter 92\, Seattle\nWhere: Location: 1660 S Columbian Way\, Seattle.\n\nJoin Veterans\, healthcare workers\, union members & supporters. No cuts to VA services\, no mass firings\, stop the Trump coup!
URL:https://nkindivisible.com/event/tuesdays-at-the-va-hospital-seattle-3-2/2027-04-13/
END:VEVENT
BEGIN:VEVENT
DTSTART;TZID=America/Los_Angeles:20270414T120000
DTEND;TZID=America/Los_Angeles:20270414T133000
DTSTAMP:20260423T034503
CREATED:20250913T052204Z
LAST-MODIFIED:20250914T195502Z
UID:10000492-1807704000-1807709400@nkindivisible.com
SUMMARY:Bainbridge Island Rally for America
DESCRIPTION:Wednesdays\, noon to 1:30 pm\nWhere: the intersection of 305 and Winslow Way.\nWhat: Signs in support of Ukraine\, Medicaid\, Social Security\, Medicare\, Education\, you name it.
URL:https://nkindivisible.com/event/bainbridge-island-rally-for-america-5/2027-04-14/
END:VEVENT
BEGIN:VEVENT
DTSTART;TZID=America/Los_Angeles:20270414T140000
DTEND;TZID=America/Los_Angeles:20270414T153000
DTSTAMP:20260423T034503
CREATED:20250913T052524Z
LAST-MODIFIED:20250914T202009Z
UID:10001132-1807711200-1807716600@nkindivisible.com
SUMMARY:Postcards on Wednesday-Indivisible Bainbridge Island
DESCRIPTION:Every Wednesday  from 2 pm to 3:30 pm.\nHosted by Indivisible Bainbridge Island\nWhere: Upstairs at the Town & Country Market \n\n\nEmail postcards@indivisiblebainbridgeisland.org to get on the reminder list.
URL:https://nkindivisible.com/event/postcards-on-wednesday-indivisible-bainbridge-island-3/2027-04-14/
END:VEVENT
BEGIN:VEVENT
DTSTART;TZID=America/Los_Angeles:20270414T160000
DTEND;TZID=America/Los_Angeles:20270414T173000
DTSTAMP:20260423T034503
CREATED:20250913T052647Z
LAST-MODIFIED:20250914T202223Z
UID:10001392-1807718400-1807723800@nkindivisible.com
SUMMARY:Rally-Indivisible Bremerton
DESCRIPTION:Every Wednesday from 4 to 5:30 pm.\nHosted by Indivisible Bremerton\nWhere:  Warren @ 15th\, Bremerton.\nJoin us for a peaceful low-key WEEKLY gathering. Bring your signs\, flags\,voices\, and friends. Whether you are a new or seasoned resister – you are welcome to join us.\nContact us at indivisiblebremerton@gmail.com
URL:https://nkindivisible.com/event/rally-indivisible-bremerton-3/2027-04-14/
END:VEVENT
BEGIN:VEVENT
DTSTART;TZID=America/Los_Angeles:20270416T160000
DTEND;TZID=America/Los_Angeles:20270416T170000
DTSTAMP:20260423T034503
CREATED:20250913T053001Z
LAST-MODIFIED:20250914T204719Z
UID:10002171-1807891200-1807894800@nkindivisible.com
SUMMARY:End Occupation of Palestine
DESCRIPTION:Every Friday from 4 to 5pm. Next Gathering pm September 5th\nWhere: Corner of Viking Way and Finn Hill Rd in Poulsbo\, In front of the Viking Statue\nBring signs
URL:https://nkindivisible.com/event/end-occupation-of-palestine-2/2027-04-16/
END:VEVENT
BEGIN:VEVENT
DTSTART;TZID=America/Los_Angeles:20270416T160000
DTEND;TZID=America/Los_Angeles:20270416T173000
DTSTAMP:20260423T034503
CREATED:20250914T061829Z
LAST-MODIFIED:20250914T201149Z
UID:10000232-1807891200-1807896600@nkindivisible.com
SUMMARY:Fridays @4 Letter Writing and More
DESCRIPTION:Swing Left– Fridays @4 Letter Writing and More\n\n\n\n\nThis is a weekly meeting via Zoom. Learn about the next letter writing campaign with Vote Forward.   And more: making phone calls to our elected officials\, sending postcards to voters\, using Bluesky…. \nSign up at https://swingleft.org/event/register/mobilize:274619?source=%2Fgroup%2Fswing-left-fridays-at-4-letter-writing-team&s=u
URL:https://nkindivisible.com/event/fridays-4-letter-writing-and-more-3/2027-04-16/
END:VEVENT
BEGIN:VEVENT
DTSTART;TZID=America/Los_Angeles:20270417T123000
DTEND;TZID=America/Los_Angeles:20270417T140000
DTSTAMP:20260423T034503
CREATED:20260401T195608Z
LAST-MODIFIED:20260401T195610Z
UID:10004074-1807965000-1807970400@nkindivisible.com
SUMMARY:NKI Sign-Waving
DESCRIPTION:Hosted by North Kitsap Indivisible.\nWhere: George’s Corner\, the intersection of Bond Rd and Hansville Hwy (27000 Miller Bay Rd NE Kingston)\nBring your signs\, your determination to sink the tRump ship and your friends! We have extra signs so don’t let that be a barrier.
URL:https://nkindivisible.com/event/nki-sign-waving-2-3-2-3/2027-04-17/
END:VEVENT
BEGIN:VEVENT
DTSTART;TZID=America/Los_Angeles:20270418T110000
DTEND;TZID=America/Los_Angeles:20270418T133000
DTSTAMP:20260423T034503
CREATED:20251129T005609Z
LAST-MODIFIED:20260412T203903Z
UID:10001652-1808046000-1808055000@nkindivisible.com
SUMMARY:Poulsbo Weekly Democracy Rally
DESCRIPTION:Hosted by Poulsbo For All. \nWhere: Meet at the gazebo\, waterfront park.\nBring your signs\, your friends\, and your determination stand up for democracy. This is a peaceful event\, and it starts with an inspiring talk by Dr. Claudia Gorbman. Then attendees march with chants and signs\, and ending with open mike and inspirational comments from attendees at the gazebo. \nDuring winter months\, event may be called off due to weather.
URL:https://nkindivisible.com/event/poulsbo-weekly-democracy-rally-2-2/2027-04-18/
END:VEVENT
BEGIN:VEVENT
DTSTART;TZID=America/Los_Angeles:20270418T124500
DTEND;TZID=America/Los_Angeles:20270418T141500
DTSTAMP:20260423T034503
CREATED:20250913T053215Z
LAST-MODIFIED:20250914T205035Z
UID:10002520-1808052300-1808057700@nkindivisible.com
SUMMARY:Free Palestine-Kingston
DESCRIPTION:Alternate Sundays between Bainbridge and Kingston.\nWhere: Kola Kole Park Sidewalk across from Coffee Oasis
URL:https://nkindivisible.com/event/free-palestine-kingston-2/2027-04-18/
END:VEVENT
BEGIN:VEVENT
DTSTART;TZID=America/Los_Angeles:20270418T160000
DTEND;TZID=America/Los_Angeles:20270418T170000
DTSTAMP:20260423T034503
CREATED:20260119T084057Z
LAST-MODIFIED:20260119T084057Z
UID:10003683-1808064000-1808067600@nkindivisible.com
SUMMARY:End the Occupation - Free Palestine Rally - Bremerton
DESCRIPTION:Hosted by Kitsap Palestine Solidarity Coalition Where: Manette Circle (East end of Manette bridge)
URL:https://nkindivisible.com/event/end-the-occupation-free-palestine-rally-bremerton/2027-04-18/
END:VEVENT
BEGIN:VEVENT
DTSTART;TZID=America/Los_Angeles:20270419T180000
DTEND;TZID=America/Los_Angeles:20270419T203000
DTSTAMP:20260423T034503
CREATED:20250815T071525Z
LAST-MODIFIED:20250914T205216Z
UID:10002627-1808157600-1808166600@nkindivisible.com
SUMMARY:Kitsap County Democrats Gen Membership Mtg
DESCRIPTION:Every Third Monday. \nWhere: 1240 Hollis St\, Bremerton [Cloverleaf Sports Bar & Grill]\nEveryone welcome. You don’t need to be a member. See what the Kitsap Dems are doing \n6:00 PM Dinner/Social \n7:00 PM  Meeting
URL:https://nkindivisible.com/event/kitsap-county-democrats-gen-membership-mtg-2/2027-04-19/
END:VEVENT
BEGIN:VEVENT
DTSTART;TZID=America/Los_Angeles:20270421T120000
DTEND;TZID=America/Los_Angeles:20270421T133000
DTSTAMP:20260423T034503
CREATED:20250913T052204Z
LAST-MODIFIED:20250914T195502Z
UID:10000493-1808308800-1808314200@nkindivisible.com
SUMMARY:Bainbridge Island Rally for America
DESCRIPTION:Wednesdays\, noon to 1:30 pm\nWhere: the intersection of 305 and Winslow Way.\nWhat: Signs in support of Ukraine\, Medicaid\, Social Security\, Medicare\, Education\, you name it.
URL:https://nkindivisible.com/event/bainbridge-island-rally-for-america-5/2027-04-21/
END:VEVENT
BEGIN:VEVENT
DTSTART;TZID=America/Los_Angeles:20270421T140000
DTEND;TZID=America/Los_Angeles:20270421T153000
DTSTAMP:20260423T034503
CREATED:20250913T052524Z
LAST-MODIFIED:20250914T202009Z
UID:10001133-1808316000-1808321400@nkindivisible.com
SUMMARY:Postcards on Wednesday-Indivisible Bainbridge Island
DESCRIPTION:Every Wednesday  from 2 pm to 3:30 pm.\nHosted by Indivisible Bainbridge Island\nWhere: Upstairs at the Town & Country Market \n\n\nEmail postcards@indivisiblebainbridgeisland.org to get on the reminder list.
URL:https://nkindivisible.com/event/postcards-on-wednesday-indivisible-bainbridge-island-3/2027-04-21/
END:VEVENT
BEGIN:VEVENT
DTSTART;TZID=America/Los_Angeles:20270421T160000
DTEND;TZID=America/Los_Angeles:20270421T173000
DTSTAMP:20260423T034503
CREATED:20250913T052647Z
LAST-MODIFIED:20250914T202223Z
UID:10001393-1808323200-1808328600@nkindivisible.com
SUMMARY:Rally-Indivisible Bremerton
DESCRIPTION:Every Wednesday from 4 to 5:30 pm.\nHosted by Indivisible Bremerton\nWhere:  Warren @ 15th\, Bremerton.\nJoin us for a peaceful low-key WEEKLY gathering. Bring your signs\, flags\,voices\, and friends. Whether you are a new or seasoned resister – you are welcome to join us.\nContact us at indivisiblebremerton@gmail.com
URL:https://nkindivisible.com/event/rally-indivisible-bremerton-3/2027-04-21/
END:VEVENT
END:VCALENDAR