BEGIN:VCALENDAR
VERSION:2.0
PRODID:-//North Kitsap Indivisible - ECPv6.15.20//NONSGML v1.0//EN
CALSCALE:GREGORIAN
METHOD:PUBLISH
X-WR-CALNAME:North Kitsap Indivisible
X-ORIGINAL-URL:https://nkindivisible.com
X-WR-CALDESC:Events for North Kitsap Indivisible
REFRESH-INTERVAL;VALUE=DURATION:PT1H
X-Robots-Tag:noindex
X-PUBLISHED-TTL:PT1H
BEGIN:VTIMEZONE
TZID:America/Los_Angeles
BEGIN:DAYLIGHT
TZOFFSETFROM:-0800
TZOFFSETTO:-0700
TZNAME:PDT
DTSTART:20240310T100000
END:DAYLIGHT
BEGIN:STANDARD
TZOFFSETFROM:-0700
TZOFFSETTO:-0800
TZNAME:PST
DTSTART:20241103T090000
END:STANDARD
BEGIN:DAYLIGHT
TZOFFSETFROM:-0800
TZOFFSETTO:-0700
TZNAME:PDT
DTSTART:20250309T100000
END:DAYLIGHT
BEGIN:STANDARD
TZOFFSETFROM:-0700
TZOFFSETTO:-0800
TZNAME:PST
DTSTART:20251102T090000
END:STANDARD
BEGIN:DAYLIGHT
TZOFFSETFROM:-0800
TZOFFSETTO:-0700
TZNAME:PDT
DTSTART:20260308T100000
END:DAYLIGHT
BEGIN:STANDARD
TZOFFSETFROM:-0700
TZOFFSETTO:-0800
TZNAME:PST
DTSTART:20261101T090000
END:STANDARD
END:VTIMEZONE
BEGIN:VEVENT
DTSTART;TZID=America/Los_Angeles:20250829T160000
DTEND;TZID=America/Los_Angeles:20250829T170000
DTSTAMP:20260423T120459
CREATED:20250824T080801Z
LAST-MODIFIED:20250824T080801Z
UID:10000110-1756483200-1756486800@nkindivisible.com
SUMMARY:Call for Peace in Palestine: Poulsbo
DESCRIPTION:Friday\, August 29th – 4 to 5pm\nCALL FOR PEACE IN PALESTINE\nCorner of Viking Way and Finn Hill Rd in Poulsbo. In front of the Viking Statue
URL:https://nkindivisible.com/event/call-for-peace-in-palestine-poulsbo/
END:VEVENT
BEGIN:VEVENT
DTSTART;TZID=America/Los_Angeles:20250829T113000
DTEND;TZID=America/Los_Angeles:20250829T133000
DTSTAMP:20260423T120459
CREATED:20250815T071926Z
LAST-MODIFIED:20250815T071926Z
UID:10000086-1756467000-1756474200@nkindivisible.com
SUMMARY:Seattle Federal Bldg – Every Fri
DESCRIPTION:Seattle Federal Bldg – Every Fri\n\nAugust 29 @ 11:30 am – 1:30 pm\n\n\n\n\n\n\nSeattle Federal Building Fridays\n\n\n\n\nHenry M. Jackson Federal Building\n915 2nd Ave\nSeattle\, WA 98174 US\nhttps://actionnetwork.org/events/seattle-federal-building-fridays\nWhen: Fridays 11:30 – 1:30 PM;\nCome for 5 minutes or 2 hours – we’ll be there every week\nWhere: Henry M. Jackson Federal Building\, 915 2nd Ave\, Seattle\n\nBring your banners! Bring your chants and songs\, your pots and pans! \nSupport federal workers and fight for the democratic future we believe in. \n\nIf the Trump / Musk agenda were happening in any other country no one would hesitate to call it a coup in progress. Naomi Klein has called it a “counter revolution”\, though she points out that we never completed the revolution\, so we find ourselves defending a future which hasn’t yet manifested itself.
URL:https://nkindivisible.com/event/seattle-federal-bldg-every-fri-3/
END:VEVENT
BEGIN:VEVENT
DTSTART;TZID=America/Los_Angeles:20250828T190000
DTEND;TZID=America/Los_Angeles:20250828T210000
DTSTAMP:20260423T120459
CREATED:20250812T025701Z
LAST-MODIFIED:20250812T025701Z
UID:10000077-1756407600-1756414800@nkindivisible.com
SUMMARY:23rd LD Dems monthly general membership meeting
DESCRIPTION:23rd LD Dems monthly general membership meeting\n4th Thursday of every month at 7pm to 9pm\nWhere: Poulsbo Library\, downstairs\, 700 NE Lincoln Road\, Poulsbo
URL:https://nkindivisible.com/event/23rd-ld-dems-monthly-general-membership-meeting/
END:VEVENT
BEGIN:VEVENT
DTSTART;TZID=America/Los_Angeles:20250828T120000
DTEND;TZID=America/Los_Angeles:20250828T130000
DTSTAMP:20260423T120459
CREATED:20250723T235416Z
LAST-MODIFIED:20250723T235416Z
UID:10000051-1756382400-1756386000@nkindivisible.com
SUMMARY:What’s the Plan? With Indivisible Co-Founders
DESCRIPTION:What’s the Plan? With Indivisible Co-Founders\n\n\n\n\n\nThursday\,  August 28 @ 12:00 pm – 1:00 pm  Pacific Time\n\n\n\n\n\n\nVirtual event \nJoin from anywhere\n\n\nJoin Indivisible co-founders Leah Greenberg and Ezra Levin each week\, as we carve out an hour to discuss what’s happening and – more importantly – what’s the plan?\n\nRSVP: https://www.mobilize.us/indivisible/event/773746/
URL:https://nkindivisible.com/event/whats-the-plan-with-indivisible-co-founders-10/
END:VEVENT
BEGIN:VEVENT
DTSTART;TZID=America/Los_Angeles:20250827T163000
DTEND;TZID=America/Los_Angeles:20250827T173000
DTSTAMP:20260423T120459
CREATED:20250824T080354Z
LAST-MODIFIED:20250824T080354Z
UID:10000109-1756312200-1756315800@nkindivisible.com
SUMMARY:Emergency Preparedness Meeting
DESCRIPTION:Wednesday August 27th – 4:30pm to 5:30pm\nEmergency Preparedness Meeting\nHosted by Emergency Management  for Kitsap  County\nWhere: Poulsbo Library\, 700 NE Lincoln Rd\, Poulsbo 98370 (downstairs)\nDave Rasmussen\, County Director Of Emergency Management  for Kitsap County\, will be coming to speak regarding the important need to organize ourselves and our communities  for an emergency.
URL:https://nkindivisible.com/event/emergency-preparedness-meeting/
END:VEVENT
BEGIN:VEVENT
DTSTART;TZID=America/Los_Angeles:20250827T160000
DTEND;TZID=America/Los_Angeles:20250827T173000
DTSTAMP:20260423T120459
CREATED:20250820T040111Z
LAST-MODIFIED:20250820T040111Z
UID:10000101-1756310400-1756315800@nkindivisible.com
SUMMARY:Indivisible Bremerton
DESCRIPTION:August 27 @ 4:00 pm – 5:30 pm\n\n\n\nEvery Wednesday from 4 to 5:30 pm. Next gathering August 20th\nHosted by Indivisible Bremerton\nWhere:  Warren @ 15th\, Bremerton.\nJoin us for a peaceful low-key WEEKLY gathering. Bring your signs\, flags\,voices\, and friends. Whether you are a new or seasoned resister – you are welcome to join us.\nContact us at indivisiblebremerton@gmail.com
URL:https://nkindivisible.com/event/indivisible-bremerton-2/
END:VEVENT
BEGIN:VEVENT
DTSTART;TZID=America/Los_Angeles:20250827T140000
DTEND;TZID=America/Los_Angeles:20250827T153000
DTSTAMP:20260423T120459
CREATED:20250820T035804Z
LAST-MODIFIED:20250820T035804Z
UID:10000099-1756303200-1756308600@nkindivisible.com
SUMMARY:Postcards on Wednesday – Indivisible BI
DESCRIPTION:August 27 @ 2:00 pm – 3:30 pm\n\n\n\nEvery Wednesday  from 2 pm to 3:30 pm.\nPostcards on Wednesday\nHosted by Indivisible Bainbridge Island\nWhere: Upstairs at the T&C.\nEmail postcards@indivisiblebainbridgeisland.org to get on the reminder list. We’re writing to Virginia and Arizona voters.
URL:https://nkindivisible.com/event/postcards-on-wednesday-indivisible-bi-2/
END:VEVENT
BEGIN:VEVENT
DTSTART;TZID=America/Los_Angeles:20250827T120000
DTEND;TZID=America/Los_Angeles:20250827T133000
DTSTAMP:20260423T120459
CREATED:20250815T073732Z
LAST-MODIFIED:20250815T073732Z
UID:10000091-1756296000-1756301400@nkindivisible.com
SUMMARY:Bainbridge Island Rally for America
DESCRIPTION:Bainbridge Island Rally for America\n\n\nBainbridge Island Rally for America\nWednesdays\, noon to 1:30 pm\nWhere: the intersection of 305 and Winslow Way.\nWhat: Signs in support of Ukraine\, Medicaid\, Social Security\, Medicare\, Education\, you name it.
URL:https://nkindivisible.com/event/bainbridge-island-rally-for-america-2/
END:VEVENT
BEGIN:VEVENT
DTSTART;TZID=America/Los_Angeles:20250826T170000
DTEND;TZID=America/Los_Angeles:20250826T183000
DTSTAMP:20260423T120459
CREATED:20250824T080028Z
LAST-MODIFIED:20250824T080028Z
UID:10000108-1756227600-1756233000@nkindivisible.com
SUMMARY:Immigration Update & Know Your Rights training from NWIRP
DESCRIPTION:Tuesday August 26th – 5pm to 6:30pm via zoom\nImmigration Update & Know Your Rights training from NWIRP\nNWIRP is hosting a free webinar on Tuesday\, August 26th\, to cover the latest updates on immigration & know your rights training. \nNote: English from 5:00-5:45; Spanish 5:45-6:30pm \nIf you’re interested and available\, click here to register: \nhttps://us02web.zoom.us/webinar/register/WN_8-c4M5nXTaKTHQn2HO4i1A#/registration
URL:https://nkindivisible.com/event/immigration-update-know-your-rights-training-from-nwirp/
END:VEVENT
BEGIN:VEVENT
DTSTART;TZID=America/Los_Angeles:20250826T170000
DTEND;TZID=America/Los_Angeles:20250826T180000
DTSTAMP:20260423T120459
CREATED:20250724T005231Z
LAST-MODIFIED:20250724T005231Z
UID:10000067-1756227600-1756231200@nkindivisible.com
SUMMARY:North Kitsap Indivisible - Sign Waving
DESCRIPTION:Weekly Action with North Kitsap Indivisible – Sign Waving\nEvery Tuesday from 5pm to 6pm.\nWhere: George’s Corner\, also known as Kountry Korners\, the intersection of Bond Rd (Hwy 104) and Miller Bay/Hansville Rd (27000 Miller Bay Rd NE Kingston) \nBring your signs\, your determination to sink the tRump ship and your friends!
URL:https://nkindivisible.com/event/north-kitsap-indivisible-sign-waving-4/
END:VEVENT
BEGIN:VEVENT
DTSTART;TZID=America/Los_Angeles:20250826T150000
DTEND;TZID=America/Los_Angeles:20250826T180000
DTSTAMP:20260423T120459
CREATED:20250815T072257Z
LAST-MODIFIED:20250815T072257Z
UID:10000087-1756220400-1756231200@nkindivisible.com
SUMMARY:Tuesdays at the VA Hospital\, Seattle
DESCRIPTION:Every 2nd and 4th Tuesday\, 3:00 to 6:00 PM; in August the12th and the 26th\nTuesdays at the VA Hospital\nHosted by Veterans For Peace DanielEllsberg Chapter 92\, Seattle\nWhere: Location: 1660 S Columbian Way\, Seattle.\n\nJoin Veterans\, healthcare workers\, union members & supporters. No cuts to VA services\, no mass firings\, stop the Trump coup!
URL:https://nkindivisible.com/event/tuesdays-at-the-va-hospital-seattle/
END:VEVENT
BEGIN:VEVENT
DTSTART;TZID=America/Los_Angeles:20250824T160000
DTEND;TZID=America/Los_Angeles:20250824T170000
DTSTAMP:20260423T120459
CREATED:20250824T070500Z
LAST-MODIFIED:20250824T070500Z
UID:10000107-1756051200-1756054800@nkindivisible.com
SUMMARY:Free Palestine: Bremerton
DESCRIPTION:End the Occupation – Free Palestine \n4-5 PM \nBremerton\, Manette Circle (Manette side of the bridge) 
URL:https://nkindivisible.com/event/free-palestine-bremerton/
END:VEVENT
BEGIN:VEVENT
DTSTART;TZID=America/Los_Angeles:20250824T124500
DTEND;TZID=America/Los_Angeles:20250824T141500
DTSTAMP:20260423T120459
CREATED:20250812T033748Z
LAST-MODIFIED:20250812T033748Z
UID:10000082-1756039500-1756044900@nkindivisible.com
SUMMARY:Kitsap Palestine Solidarity Actions: Kingston
DESCRIPTION:August 24  12:45-2:15 PM \nKingston: Kole Kole Park [11128 NE Maine St\, Kingston\, WA 98346] \n  \nDemonstrations alternate between Bainbridge Island and Kingston on Sundays at 12:45-2:15 \nIn August the actions will be on Bainbridge Island on the 3rd and 17th and in Kingston on the 10th and 24th.
URL:https://nkindivisible.com/event/kitsap-palestine-solidarity-actions-kingston/
END:VEVENT
BEGIN:VEVENT
DTSTART;TZID=America/Los_Angeles:20250824T110000
DTEND;TZID=America/Los_Angeles:20250824T133000
DTSTAMP:20260423T120459
CREATED:20250724T003058Z
LAST-MODIFIED:20250724T003058Z
UID:10000060-1756033200-1756042200@nkindivisible.com
SUMMARY:Poulsbo Weekly Democracy Rally
DESCRIPTION:Poulsbo Weekly Democracy Rally\n\nAugust 24  @ 11:00 am – 1:30 pm\n\n\n\nHosted by Poulsbo for All and North Kitsap Indivisible. \nMeet at the gazebo. Bring your signs\, your determination to sink the tRump ship and your friends. \nThis is a peaceful event.
URL:https://nkindivisible.com/event/poulsbo-weekly-democracy-rally-5/
END:VEVENT
BEGIN:VEVENT
DTSTART;TZID=America/Los_Angeles:20250823T170000
DTEND;TZID=America/Los_Angeles:20250823T193000
DTSTAMP:20260423T120459
CREATED:20250812T030520Z
LAST-MODIFIED:20250812T030520Z
UID:10000078-1755968400-1755977400@nkindivisible.com
SUMMARY:Indivisible Bainbridge Island Potluck
DESCRIPTION:Indivisible Bainbridge Island Potluck\nSaturday\, August 23rd – 5-7:30pm\nIndivisible Bainbridge Island Potluck; Let’s gather for some relaxed time together!\nHosted by Indivisible Bainbridge Island\nWhere: Beach Shelter at Fay Bainbridge Park\nPlease bring food to share\, non-alcoholic beverages & your own plates and utensils.
URL:https://nkindivisible.com/event/indivisible-bainbridge-island-potluck-2/
END:VEVENT
BEGIN:VEVENT
DTSTART;TZID=America/Los_Angeles:20250822T160000
DTEND;TZID=America/Los_Angeles:20250822T173000
DTSTAMP:20260423T120459
CREATED:20250724T002641Z
LAST-MODIFIED:20250724T002641Z
UID:10000055-1755878400-1755883800@nkindivisible.com
SUMMARY:Swing Left– Fridays @4 Letter Writing and More
DESCRIPTION:Swing Left– Fridays @4 Letter Writing and More\n\nAugust 22  @ 4:00 pm – 5:30 pm\n\n\n\n\n\nThis is a weekly meeting via Zoom. Learn about the next letter writing campaign with Vote Forward.   And more: making phone calls to our elected officials\, sending postcards to voters\, using Bluesky…. \nSign up at https://swingleft.org/event/register/mobilize:274619?source=%2Fgroup%2Fswing-left-fridays-at-4-letter-writing-team&s=u
URL:https://nkindivisible.com/event/swing-left-fridays-4-letter-writing-and-more-6/
END:VEVENT
BEGIN:VEVENT
DTSTART;TZID=America/Los_Angeles:20250822T160000
DTEND;TZID=America/Los_Angeles:20250822T170000
DTSTAMP:20260423T120459
CREATED:20250820T040417Z
LAST-MODIFIED:20250820T040417Z
UID:10000102-1755878400-1755882000@nkindivisible.com
SUMMARY:End the Occupation of Palestine-Poulsbo
DESCRIPTION:Friday – Poulsbo\nEvery Friday from 4 to 5pm. Next Gathering pm August 22nd\nEnd the Occupation of Palestine\nWhere: Corner of Viking Way and Finn Hill Rd in Poulsbo\, In front of the Viking Statue\nBring signs.
URL:https://nkindivisible.com/event/end-the-occupation-of-palestine-poulsbo/
END:VEVENT
BEGIN:VEVENT
DTSTART;TZID=America/Los_Angeles:20250822T113000
DTEND;TZID=America/Los_Angeles:20250822T133000
DTSTAMP:20260423T120459
CREATED:20250809T060757Z
LAST-MODIFIED:20250809T060757Z
UID:10000074-1755862200-1755869400@nkindivisible.com
SUMMARY:Seattle Federal Bldg – Every Fri
DESCRIPTION:Seattle Federal Bldg – Every Fri\n\nAugust 22 @ 11:30 am – 1:30 pm\n\n\n\n\n\n\nSeattle Federal Building Fridays\n\n\n\n\nHenry M. Jackson Federal Building\n915 2nd Ave\nSeattle\, WA 98174 US\nhttps://actionnetwork.org/events/seattle-federal-building-fridays\nWhen: Fridays 11:30 – 1:30 PM;\nCome for 5 minutes or 2 hours – we’ll be there every week\nWhere: Henry M. Jackson Federal Building\, 915 2nd Ave\, Seattle\n\nBring your banners! Bring your chants and songs\, your pots and pans! \nSupport federal workers and fight for the democratic future we believe in. \n\nIf the Trump / Musk agenda were happening in any other country no one would hesitate to call it a coup in progress. Naomi Klein has called it a “counter revolution”\, though she points out that we never completed the revolution\, so we find ourselves defending a future which hasn’t yet manifested itself.
URL:https://nkindivisible.com/event/seattle-federal-bldg-every-fri-2/
END:VEVENT
BEGIN:VEVENT
DTSTART;TZID=America/Los_Angeles:20250821T120000
DTEND;TZID=America/Los_Angeles:20250821T130000
DTSTAMP:20260423T120459
CREATED:20250723T235316Z
LAST-MODIFIED:20250723T235316Z
UID:10000050-1755777600-1755781200@nkindivisible.com
SUMMARY:What’s the Plan? With Indivisible Co-Founders
DESCRIPTION:What’s the Plan? With Indivisible Co-Founders\n\n\n\n\n\nThursday\,  August 21 @ 12:00 pm – 1:00 pm  Pacific Time\n\n\n\n\n\n\nVirtual event \nJoin from anywhere\n\n\nJoin Indivisible co-founders Leah Greenberg and Ezra Levin each week\, as we carve out an hour to discuss what’s happening and – more importantly – what’s the plan?\n\nRSVP: https://www.mobilize.us/indivisible/event/773746/
URL:https://nkindivisible.com/event/whats-the-plan-with-indivisible-co-founders-9/
END:VEVENT
BEGIN:VEVENT
DTSTART;TZID=America/Los_Angeles:20250820T163000
DTEND;TZID=America/Los_Angeles:20250820T173000
DTSTAMP:20260423T120459
CREATED:20250820T041800Z
LAST-MODIFIED:20250820T042548Z
UID:10000105-1755707400-1755711000@nkindivisible.com
SUMMARY:Defending the Rule of Law in our States-Zoom
DESCRIPTION:Wednesday August 20th – 4:30pm – 5:30pm PT\nDefending theRule of Law in our States\nWe will share effective strategies and focus on building momentum for local action to defend people and democracy. This is far more than a sit and listen kind of event. We will offer specific ways for you to get involved in your own community in this important work. This call will feature stories and tools from public officials and grassroots organizers working to protect the rule of law. It will also offer specific ways for people to get involved and support this  work in their own communities.\nPlease sign up to receive the Zoom link! \nhttps://www.mobilize.us/defendingtheruleoflawinourstates/event/823638/
URL:https://nkindivisible.com/event/defending-the-rule-of-law-in-our-states-zoom/
END:VEVENT
BEGIN:VEVENT
DTSTART;TZID=America/Los_Angeles:20250820T160000
DTEND;TZID=America/Los_Angeles:20250820T173000
DTSTAMP:20260423T120459
CREATED:20250820T040017Z
LAST-MODIFIED:20250820T040017Z
UID:10000100-1755705600-1755711000@nkindivisible.com
SUMMARY:Indivisible Bremerton
DESCRIPTION:Every Wednesday from 4 to 5:30 pm. Next gathering August 20th\nHosted by Indivisible Bremerton\nWhere:  Warren @ 15th\, Bremerton.\nJoin us for a peaceful low-key WEEKLY gathering. Bring your signs\, flags\,voices\, and friends. Whether you are a new or seasoned resister – you are welcome to join us.\nContact us at indivisiblebremerton@gmail.com
URL:https://nkindivisible.com/event/indivisible-bremerton/
END:VEVENT
BEGIN:VEVENT
DTSTART;TZID=America/Los_Angeles:20250820T140000
DTEND;TZID=America/Los_Angeles:20250820T153000
DTSTAMP:20260423T120459
CREATED:20250820T035512Z
LAST-MODIFIED:20250820T035512Z
UID:10000098-1755698400-1755703800@nkindivisible.com
SUMMARY:Postcards on Wednesday - Indivisible BI
DESCRIPTION:Every Wednesday  from 2 pm to 3:30 pm. Next gathering on August 20th\nPostcards on Wednesday\nHosted by Indivisible Bainbridge Island\nWhere: Upstairs at the T&C.\nEmail postcards@indivisiblebainbridgeisland.org to get on the reminder list. We’re writing to Virginia and Arizona voters.
URL:https://nkindivisible.com/event/postcards-on-wednesday-indivisible-bi/
END:VEVENT
BEGIN:VEVENT
DTSTART;TZID=America/Los_Angeles:20250820T120000
DTEND;TZID=America/Los_Angeles:20250820T133000
DTSTAMP:20260423T120459
CREATED:20250815T073113Z
LAST-MODIFIED:20250815T073113Z
UID:10000089-1755691200-1755696600@nkindivisible.com
SUMMARY:Bainbridge Island Rally for America
DESCRIPTION:Bainbridge Island Rally for America\nWednesdays\, noon to 1:30 pm\nWhere: the intersection of 305 and Winslow Way.\nWhat: Signs in support of Ukraine\, Medicaid\, Social Security\, Medicare\, Education\, you name it.
URL:https://nkindivisible.com/event/bainbridge-island-rally-for-america/
END:VEVENT
BEGIN:VEVENT
DTSTART;TZID=America/Los_Angeles:20250819T170000
DTEND;TZID=America/Los_Angeles:20250819T180000
DTSTAMP:20260423T120459
CREATED:20250724T005135Z
LAST-MODIFIED:20250724T005135Z
UID:10000066-1755622800-1755626400@nkindivisible.com
SUMMARY:North Kitsap Indivisible - Sign Waving
DESCRIPTION:Weekly Action with North Kitsap Indivisible – Sign Waving\nEvery Tuesday from 5pm to 6pm.\nWhere: George’s Corner\, also known as Kountry Korners\, the intersection of Bond Rd (Hwy 104) and Miller Bay/Hansville Rd (27000 Miller Bay Rd NE Kingston) \nBring your signs\, your determination to sink the tRump ship and your friends!
URL:https://nkindivisible.com/event/north-kitsap-indivisible-sign-waving-3/
END:VEVENT
BEGIN:VEVENT
DTSTART;TZID=America/Los_Angeles:20250818T180000
DTEND;TZID=America/Los_Angeles:20250818T203000
DTSTAMP:20260423T120459
CREATED:20250812T025124Z
LAST-MODIFIED:20250812T025159Z
UID:10000076-1755540000-1755549000@nkindivisible.com
SUMMARY:Kitsap County Democrats Gen Membership Mtg
DESCRIPTION:Kitsap County Democrats General Membership Meeting \nThird Monday  6:00-8:30 PM \nWhere: 1240 Hollis St\, Bremerton [Cloverleaf Sports Bar & Grill]\nEveryone welcome. You don’t need to be a member. See what the Kitsap Dems are doing \n5:45 PM Set-up \n6:00 PM Dinner/Social \n7:00 PM  Meeting
URL:https://nkindivisible.com/event/kitsap-county-democrats-gen-membership-mtg/
END:VEVENT
BEGIN:VEVENT
DTSTART;TZID=America/Los_Angeles:20250817T160000
DTEND;TZID=America/Los_Angeles:20250817T170000
DTSTAMP:20260423T120459
CREATED:20250812T031705Z
LAST-MODIFIED:20250812T031747Z
UID:10000079-1755446400-1755450000@nkindivisible.com
SUMMARY:Kitsap Palestine Solidarity Actions: Bremerton
DESCRIPTION:Kitsap Palestine Solidarity Coalition \nKitsap Palestine Solidarity Actions: \nEvery Sunday\n 4-5 PM Bremerton\, Manette Circle (Manette side of the bridge)
URL:https://nkindivisible.com/event/kitsap-palestine-solidarity-actions/
END:VEVENT
BEGIN:VEVENT
DTSTART;TZID=America/Los_Angeles:20250817T124500
DTEND;TZID=America/Los_Angeles:20250817T141500
DTSTAMP:20260423T120459
CREATED:20250812T033321Z
LAST-MODIFIED:20250812T033321Z
UID:10000081-1755434700-1755440100@nkindivisible.com
SUMMARY:Kitsap Palestine Solidarity Actions: Bainbridge Island
DESCRIPTION:August 17  12:45-2:15 PM \nBainbridge Island: Hwy 305 and Winslow Way \nDemonstrations alternate between Bainbridge Island and Kingston on Sundays at 12:45-2:15 \nIn August the actions will be on Bainbridge Island on the 3rd and 17th and in Kingston on the 10th and 24th.
URL:https://nkindivisible.com/event/kitsap-palestine-solidarity-actions-bainbridge-island/
END:VEVENT
BEGIN:VEVENT
DTSTART;TZID=America/Los_Angeles:20250816T170000
DTEND;TZID=America/Los_Angeles:20250816T180000
DTSTAMP:20260423T120459
CREATED:20250814T074815Z
LAST-MODIFIED:20250814T074815Z
UID:10000084-1755363600-1755367200@nkindivisible.com
SUMMARY:Fight The Trump Takeover Rally - Kingston
DESCRIPTION:Saturday – Kingston\nNational Day of Action\nSaturday\, August 16th – 5pm to 6pm\nHosted by North Kitsap Indivisible\nWhere: George’s Corner\, also known as Kountry Korners\, the intersection of Bond Rd [Hwy 104] and Miller Bay/Hansville Hwy (27000 Miller Bay Rd NE Kingston) \nFight The Trump Takeover Rally. The Texas House Democrats are denying quorum to stop theTrump takeover of Texas and block his attempt to rig the 2026 midterm elections. But Trump isn’t stopping in Texas. He’s targeting Missouri\, Ohio\,Florida\, and every state he can twist to help him steal Congress next year. Let’s be clear:this fight started in Texas\, but it doesn’t end there. It ends with us and it won’t be easy! Bring your signs\, your determination to sink the tRump ship and your friends!\nRSVP and more information here.
URL:https://nkindivisible.com/event/fight-the-trump-takeover-rally-kingston/
END:VEVENT
BEGIN:VEVENT
DTSTART;TZID=America/Los_Angeles:20250816T123000
DTEND;TZID=America/Los_Angeles:20250816T140000
DTSTAMP:20260423T120459
CREATED:20250812T023541Z
LAST-MODIFIED:20250814T074936Z
UID:10000075-1755347400-1755352800@nkindivisible.com
SUMMARY:National Day of Action: Fight the Trump Takeover: Bremerton
DESCRIPTION: Saturday\, August     12:30 – 2pm PDT\n\n\n\n\n\n\nLocation  Manette Bridge  Bremerton\, WA 98337\n\n\n\n\nAbout this event\n                                       sign up: https://www.mobilize.us/fightthetrumptakeover/event/826375/\n\n\n\n\n\n\nThe Texas House Democrats are denying quorum to stop the Trump takeover of Texas and block his attempt to rig the 2026 midterm elections. But Trump isn’t stopping in Texas. He’s targeting Missouri\, Ohio\, Florida\, and every state he can twist to help him steal Congress next year. States like California and New York are starting to fight back. \nLet’s be clear: this fight started in Texas\, but it doesn’t end there. This isn’t just about redistricting or one state’s politics. It’s about the future of our democracy. Trump is terrified of the American people. He knows he can’t win on his ideas\, so he’s trying to take Congress by hook or by crook–and he’s doing it by silencing the voices of communities of color. We’re not going to let that happen. \nThat’s why we’re organizing a National Day of Action\, on Saturday\, August 16\, to fight back against the Trump takeover of our country. \nTexas will lead with an anchor rally at the Capitol in Austin. Across the country\, we’re asking people to show up at their state houses\, city halls\, or community spaces and make it clear — we see what Trump is doing\, and we won’t stand for it. \nPlease note: A core principle behind our Fight the Trump Takeover actions is a commitment to nonviolence in all we do. We expect all participants to seek to de-escalate any potential confrontation with those who disagree with our values.
URL:https://nkindivisible.com/event/national-day-of-action-fight-the-trump-takeover/
END:VEVENT
BEGIN:VEVENT
DTSTART;TZID=America/Los_Angeles:20250815T160000
DTEND;TZID=America/Los_Angeles:20250815T173000
DTSTAMP:20260423T120459
CREATED:20250723T235949Z
LAST-MODIFIED:20250723T235949Z
UID:10000054-1755273600-1755279000@nkindivisible.com
SUMMARY:Swing Left– Fridays @4 Letter Writing and More
DESCRIPTION:Swing Left– Fridays @4 Letter Writing and More\n\nAugust 15  @ 4:00 pm – 5:30 pm\n\n\n\n\n\nThis is a weekly meeting via Zoom. Learn about the next letter writing campaign with Vote Forward.   And more: making phone calls to our elected officials\, sending postcards to voters\, using Bluesky…. \nSign up at https://swingleft.org/event/register/mobilize:274619?source=%2Fgroup%2Fswing-left-fridays-at-4-letter-writing-team&s=u
URL:https://nkindivisible.com/event/swing-left-fridays-4-letter-writing-and-more-5/
END:VEVENT
END:VCALENDAR