BEGIN:VCALENDAR
VERSION:2.0
PRODID:-//North Kitsap Indivisible - ECPv6.15.20//NONSGML v1.0//EN
CALSCALE:GREGORIAN
METHOD:PUBLISH
X-WR-CALNAME:North Kitsap Indivisible
X-ORIGINAL-URL:https://nkindivisible.com
X-WR-CALDESC:Events for North Kitsap Indivisible
REFRESH-INTERVAL;VALUE=DURATION:PT1H
X-Robots-Tag:noindex
X-PUBLISHED-TTL:PT1H
BEGIN:VTIMEZONE
TZID:America/Los_Angeles
BEGIN:DAYLIGHT
TZOFFSETFROM:-0800
TZOFFSETTO:-0700
TZNAME:PDT
DTSTART:20240310T100000
END:DAYLIGHT
BEGIN:STANDARD
TZOFFSETFROM:-0700
TZOFFSETTO:-0800
TZNAME:PST
DTSTART:20241103T090000
END:STANDARD
BEGIN:DAYLIGHT
TZOFFSETFROM:-0800
TZOFFSETTO:-0700
TZNAME:PDT
DTSTART:20250309T100000
END:DAYLIGHT
BEGIN:STANDARD
TZOFFSETFROM:-0700
TZOFFSETTO:-0800
TZNAME:PST
DTSTART:20251102T090000
END:STANDARD
BEGIN:DAYLIGHT
TZOFFSETFROM:-0800
TZOFFSETTO:-0700
TZNAME:PDT
DTSTART:20260308T100000
END:DAYLIGHT
BEGIN:STANDARD
TZOFFSETFROM:-0700
TZOFFSETTO:-0800
TZNAME:PST
DTSTART:20261101T090000
END:STANDARD
END:VTIMEZONE
BEGIN:VEVENT
DTSTART;TZID=America/Los_Angeles:20251005T124500
DTEND;TZID=America/Los_Angeles:20251005T141500
DTSTAMP:20260423T031658
CREATED:20250913T053215Z
LAST-MODIFIED:20250914T205035Z
UID:10002480-1759668300-1759673700@nkindivisible.com
SUMMARY:Free Palestine-Kingston
DESCRIPTION:Alternate Sundays between Bainbridge and Kingston.\nWhere: Kola Kole Park Sidewalk across from Coffee Oasis
URL:https://nkindivisible.com/event/free-palestine-kingston-2/2025-10-05/
END:VEVENT
BEGIN:VEVENT
DTSTART;TZID=America/Los_Angeles:20251005T110000
DTEND;TZID=America/Los_Angeles:20251005T133000
DTSTAMP:20260423T031658
CREATED:20250913T053659Z
LAST-MODIFIED:20250914T203936Z
UID:10001572-1759662000-1759671000@nkindivisible.com
SUMMARY:Poulsbo Weekly Democracy Rally
DESCRIPTION:Hosted by Poulsbo For All. \nWhere: Meet at the gazebo\, waterfront park.\nBring your signs\, your friends\, and your determination stand up for democracy. This is a peaceful event\, and it starts with an inspiring talk by Dr. Claudia Gorbman. Then attendees march with chants and signs\, and ending with open mike and inspirational comments from attendees at the gazebo.
URL:https://nkindivisible.com/event/poulsbo-weekly-democracy-rally-2/2025-10-05/
END:VEVENT
BEGIN:VEVENT
DTSTART;TZID=America/Los_Angeles:20251004T100000
DTEND;TZID=America/Los_Angeles:20251004T120000
DTSTAMP:20260423T031658
CREATED:20251003T071603Z
LAST-MODIFIED:20251003T071603Z
UID:10002676-1759572000-1759579200@nkindivisible.com
SUMMARY:Healthcare not Authoritarianism Rally - Kingston
DESCRIPTION:Join us at Kola Kole Park in Kingston to show our support for our senators\, who are fighting to prevent the government from kicking millions off health care and jacking up prices for the rest of us. \nIf you can bring healthcare oriented signs\, that is a plus.
URL:https://nkindivisible.com/event/healthcare-not-authoritarianism-rally-kingston/
END:VEVENT
BEGIN:VEVENT
DTSTART;TZID=America/Los_Angeles:20251004T090000
DTEND;TZID=America/Los_Angeles:20251004T140000
DTSTAMP:20260423T031658
CREATED:20250914T071654Z
LAST-MODIFIED:20250914T213137Z
UID:10000149-1759568400-1759586400@nkindivisible.com
SUMMARY:Food Drive for Helpline House
DESCRIPTION:Where: Eagle Harbor Congregational Church\, front parking lot.\nThis food drive was originally planned for Oct. 18.  SNAP cuts went into effect on Sept. 1\, so this food drive is needed more than ever. \nHosted by Indivisible Bainbridge Island
URL:https://nkindivisible.com/event/food-drive-for-helpline-house/
END:VEVENT
BEGIN:VEVENT
DTSTART;TZID=America/Los_Angeles:20251003T160000
DTEND;TZID=America/Los_Angeles:20251003T173000
DTSTAMP:20260423T031658
CREATED:20250914T061829Z
LAST-MODIFIED:20250914T201149Z
UID:10000152-1759507200-1759512600@nkindivisible.com
SUMMARY:Fridays @4 Letter Writing and More
DESCRIPTION:Swing Left– Fridays @4 Letter Writing and More\n\n\n\n\nThis is a weekly meeting via Zoom. Learn about the next letter writing campaign with Vote Forward.   And more: making phone calls to our elected officials\, sending postcards to voters\, using Bluesky…. \nSign up at https://swingleft.org/event/register/mobilize:274619?source=%2Fgroup%2Fswing-left-fridays-at-4-letter-writing-team&s=u
URL:https://nkindivisible.com/event/fridays-4-letter-writing-and-more-3/2025-10-03/
END:VEVENT
BEGIN:VEVENT
DTSTART;TZID=America/Los_Angeles:20251003T160000
DTEND;TZID=America/Los_Angeles:20251003T170000
DTSTAMP:20260423T031658
CREATED:20251003T060844Z
LAST-MODIFIED:20251003T060844Z
UID:10002672-1759507200-1759510800@nkindivisible.com
SUMMARY:STAND WITH PALESTINE
DESCRIPTION:Israel Is Attacking the Global Sumud Flotilla Today \nSTAND WITH PALESTINE: STOP THE GENOCIDE \nPoulsbo \nCorner of Viking Way and Finn Hill Rd in Poulsbo\nIn front of the Viking Statue
URL:https://nkindivisible.com/event/stand-with-palestine/
END:VEVENT
BEGIN:VEVENT
DTSTART;TZID=America/Los_Angeles:20251003T160000
DTEND;TZID=America/Los_Angeles:20251003T170000
DTSTAMP:20260423T031658
CREATED:20250913T053001Z
LAST-MODIFIED:20250914T204719Z
UID:10002091-1759507200-1759510800@nkindivisible.com
SUMMARY:End Occupation of Palestine
DESCRIPTION:Every Friday from 4 to 5pm. Next Gathering pm September 5th\nWhere: Corner of Viking Way and Finn Hill Rd in Poulsbo\, In front of the Viking Statue\nBring signs
URL:https://nkindivisible.com/event/end-occupation-of-palestine-2/2025-10-03/
END:VEVENT
BEGIN:VEVENT
DTSTART;TZID=America/Los_Angeles:20251003T140000
DTEND;TZID=America/Los_Angeles:20251003T150000
DTSTAMP:20260423T031658
CREATED:20250918T063557Z
LAST-MODIFIED:20250918T063557Z
UID:10002669-1759500000-1759503600@nkindivisible.com
SUMMARY:Book Reading: Safa Suleiman
DESCRIPTION:October 3 @ 2 pm –3 pm\n\n\n\nKPSC welcomes author Safa Suleiman\nFor two special readings with discussion of her children’s book: Hilwa’s Gifts \nAdmission free\nFriday\, Oct. 3\, 2 PM\, Suquamish Museum\n6861 NE South St.\, Suquamish \nAbout Hilwa’s Gifts:\nAli is visiting his family in Palestine during the olive harvest and is startled by the whacking of the trees\, especially his favorite tree\, Hilwa. His grandfather Seedo reassures him that the whacking doesn’t harm the trees. “We would never hurt olive trees\, habibi\,” Seedo tells him. “Their gifts are too precious.” Soon Ali joins his grandparents and his cousins in singing and dancing and harvesting olives—just a gentle whack is all it takes for the tree to rain down its fruit. After that the olives are taken to the press and made into delicious oil. But Hilwa’s gifts don’t end there. \n“Combining a centuries-old practice with the story about a Palestinian family and their relationship to the land make Hilwa’s Gifts an absolute treasure.”\n—Booklist Starred Review
URL:https://nkindivisible.com/event/book-reading-safa-suleiman-2/
END:VEVENT
BEGIN:VEVENT
DTSTART;TZID=America/Los_Angeles:20251003T120000
DTEND;TZID=America/Los_Angeles:20251003T130000
DTSTAMP:20260423T031658
CREATED:20251003T060325Z
LAST-MODIFIED:20251003T060325Z
UID:10002670-1759492800-1759496400@nkindivisible.com
SUMMARY:What’s the Plan? With Indivisible Co-Founders
DESCRIPTION:October 3 @ 12:00 pm – 1:00 pm\n\n\n\n\n\n\n\n\n\n\n\n\n\n\nJoin Indivisible co-founders Leah Greenberg and Ezra Levin each week\, as we carve out an hour to discuss what’s happening and – more importantly – what’s the plan?\n\n\nWhat’s the Plan will be on Fridays (instead of Thursdays)  Oct 3 and Oct 10\n\n\n\n\n\n\n\nVirtual event.  Sign up here.
URL:https://nkindivisible.com/event/whats-the-plan-with-indivisible-co-founders-13/
END:VEVENT
BEGIN:VEVENT
DTSTART;TZID=America/Los_Angeles:20251002T183000
DTEND;TZID=America/Los_Angeles:20251002T193000
DTSTAMP:20260423T031658
CREATED:20250918T063146Z
LAST-MODIFIED:20250918T063257Z
UID:10002668-1759429800-1759433400@nkindivisible.com
SUMMARY:Book Reading: Safa Suleiman
DESCRIPTION:KPSC welcomes author Safa Suleiman\nFor two special readings with discussion of her children’s book: Hilwa’s Gifts \nAdmission free\nThursday\, Oct 2\, 6:30 PM\, Eagle Harbor Books\n157 Winslow Way E.\, Bainbridge Island\nOptional: Register in advance at Eagle Harbor Book Co. \nFriday\, Oct. 3\, 2 PM\, Suquamish Museum\n6861 NE South St.\, Suquamish \nAbout Hilwa’s Gifts:\nAli is visiting his family in Palestine during the olive harvest and is startled by the whacking of the trees\, especially his favorite tree\, Hilwa. His grandfather Seedo reassures him that the whacking doesn’t harm the trees. “We would never hurt olive trees\, habibi\,” Seedo tells him. “Their gifts are too precious.” Soon Ali joins his grandparents and his cousins in singing and dancing and harvesting olives—just a gentle whack is all it takes for the tree to rain down its fruit. After that the olives are taken to the press and made into delicious oil. But Hilwa’s gifts don’t end there. \n“Combining a centuries-old practice with the story about a Palestinian family and their relationship to the land make Hilwa’s Gifts an absolute treasure.”\n—Booklist Starred Review
URL:https://nkindivisible.com/event/book-reading-safa-suleiman/
END:VEVENT
BEGIN:VEVENT
DTSTART;TZID=America/Los_Angeles:20251001T160000
DTEND;TZID=America/Los_Angeles:20251001T173000
DTSTAMP:20260423T031658
CREATED:20250913T052647Z
LAST-MODIFIED:20250914T202223Z
UID:10001312-1759334400-1759339800@nkindivisible.com
SUMMARY:Rally-Indivisible Bremerton
DESCRIPTION:Every Wednesday from 4 to 5:30 pm.\nHosted by Indivisible Bremerton\nWhere:  Warren @ 15th\, Bremerton.\nJoin us for a peaceful low-key WEEKLY gathering. Bring your signs\, flags\,voices\, and friends. Whether you are a new or seasoned resister – you are welcome to join us.\nContact us at indivisiblebremerton@gmail.com
URL:https://nkindivisible.com/event/rally-indivisible-bremerton-3/2025-10-01/
END:VEVENT
BEGIN:VEVENT
DTSTART;TZID=America/Los_Angeles:20251001T140000
DTEND;TZID=America/Los_Angeles:20251001T153000
DTSTAMP:20260423T031658
CREATED:20250913T052524Z
LAST-MODIFIED:20250914T202009Z
UID:10001052-1759327200-1759332600@nkindivisible.com
SUMMARY:Postcards on Wednesday-Indivisible Bainbridge Island
DESCRIPTION:Every Wednesday  from 2 pm to 3:30 pm.\nHosted by Indivisible Bainbridge Island\nWhere: Upstairs at the Town & Country Market \n\n\nEmail postcards@indivisiblebainbridgeisland.org to get on the reminder list.
URL:https://nkindivisible.com/event/postcards-on-wednesday-indivisible-bainbridge-island-3/2025-10-01/
END:VEVENT
BEGIN:VEVENT
DTSTART;TZID=America/Los_Angeles:20251001T120000
DTEND;TZID=America/Los_Angeles:20251001T133000
DTSTAMP:20260423T031658
CREATED:20250913T052204Z
LAST-MODIFIED:20250914T195502Z
UID:10000412-1759320000-1759325400@nkindivisible.com
SUMMARY:Bainbridge Island Rally for America
DESCRIPTION:Wednesdays\, noon to 1:30 pm\nWhere: the intersection of 305 and Winslow Way.\nWhat: Signs in support of Ukraine\, Medicaid\, Social Security\, Medicare\, Education\, you name it.
URL:https://nkindivisible.com/event/bainbridge-island-rally-for-america-5/2025-10-01/
END:VEVENT
BEGIN:VEVENT
DTSTART;TZID=America/Los_Angeles:20250930T170000
DTEND;TZID=America/Los_Angeles:20250930T180000
DTSTAMP:20260423T031658
CREATED:20250913T051935Z
LAST-MODIFIED:20250914T200934Z
UID:10000672-1759251600-1759255200@nkindivisible.com
SUMMARY:North Kitsap Indivisible – Sign Waving
DESCRIPTION:Every Tuesday from 5pm to 6pm.\nWhere: George’s Corner\, also known as Kountry Korners\, the intersection of Bond Rd (Hwy 104) and Miller Bay/Hansville Rd (27000 Miller Bay Rd NE Kingston) \nBring your signs\, your determination to sink the tRump ship and your friends!
URL:https://nkindivisible.com/event/north-kitsap-indivisible-sign-waving-7/2025-09-30/
END:VEVENT
BEGIN:VEVENT
DTSTART;TZID=America/Los_Angeles:20250928T124500
DTEND;TZID=America/Los_Angeles:20250928T141500
DTSTAMP:20260423T031658
CREATED:20250902T064758Z
LAST-MODIFIED:20250914T204902Z
UID:10002350-1759063500-1759068900@nkindivisible.com
SUMMARY:Free Palestine-Bainbridge Island
DESCRIPTION:Alternate Sundays between Bainbridge Island and Kingston.\nWhere: Stop light near Ferry Terminal
URL:https://nkindivisible.com/event/free-palestine-bainbridge-island/2025-09-28/
END:VEVENT
BEGIN:VEVENT
DTSTART;TZID=America/Los_Angeles:20250928T110000
DTEND;TZID=America/Los_Angeles:20250928T133000
DTSTAMP:20260423T031658
CREATED:20250913T053659Z
LAST-MODIFIED:20250914T203936Z
UID:10001571-1759057200-1759066200@nkindivisible.com
SUMMARY:Poulsbo Weekly Democracy Rally
DESCRIPTION:Hosted by Poulsbo For All. \nWhere: Meet at the gazebo\, waterfront park.\nBring your signs\, your friends\, and your determination stand up for democracy. This is a peaceful event\, and it starts with an inspiring talk by Dr. Claudia Gorbman. Then attendees march with chants and signs\, and ending with open mike and inspirational comments from attendees at the gazebo.
URL:https://nkindivisible.com/event/poulsbo-weekly-democracy-rally-2/2025-09-28/
END:VEVENT
BEGIN:VEVENT
DTSTART;TZID=America/Los_Angeles:20250926T160000
DTEND;TZID=America/Los_Angeles:20250926T173000
DTSTAMP:20260423T031658
CREATED:20250914T061829Z
LAST-MODIFIED:20250914T201149Z
UID:10000140-1758902400-1758907800@nkindivisible.com
SUMMARY:Fridays @4 Letter Writing and More
DESCRIPTION:Swing Left– Fridays @4 Letter Writing and More\n\n\n\n\nThis is a weekly meeting via Zoom. Learn about the next letter writing campaign with Vote Forward.   And more: making phone calls to our elected officials\, sending postcards to voters\, using Bluesky…. \nSign up at https://swingleft.org/event/register/mobilize:274619?source=%2Fgroup%2Fswing-left-fridays-at-4-letter-writing-team&s=u
URL:https://nkindivisible.com/event/fridays-4-letter-writing-and-more-3/2025-09-26/
END:VEVENT
BEGIN:VEVENT
DTSTART;TZID=America/Los_Angeles:20250926T160000
DTEND;TZID=America/Los_Angeles:20250926T170000
DTSTAMP:20260423T031658
CREATED:20250914T062022Z
LAST-MODIFIED:20250914T062022Z
UID:10000141-1758902400-1758906000@nkindivisible.com
SUMMARY:End Occupation of Palestine
DESCRIPTION:End Occupation of Palestine\n\nSeptember 26 @ 4:00 pm – 5:00 pm\n\n\n\nEvery Friday from 4 to 5pm.\nWhere: Corner of Viking Way and Finn Hill Rd in Poulsbo\, In front of the Viking Statue\nBring signs
URL:https://nkindivisible.com/event/end-occupation-of-palestine-3/
END:VEVENT
BEGIN:VEVENT
DTSTART;TZID=America/Los_Angeles:20250926T160000
DTEND;TZID=America/Los_Angeles:20250926T170000
DTSTAMP:20260423T031658
CREATED:20250913T053001Z
LAST-MODIFIED:20250914T204719Z
UID:10002090-1758902400-1758906000@nkindivisible.com
SUMMARY:End Occupation of Palestine
DESCRIPTION:Every Friday from 4 to 5pm. Next Gathering pm September 5th\nWhere: Corner of Viking Way and Finn Hill Rd in Poulsbo\, In front of the Viking Statue\nBring signs
URL:https://nkindivisible.com/event/end-occupation-of-palestine-2/2025-09-26/
END:VEVENT
BEGIN:VEVENT
DTSTART;TZID=America/Los_Angeles:20250925T150000
DTEND;TZID=America/Los_Angeles:20250925T170000
DTSTAMP:20260423T031658
CREATED:20250914T060812Z
LAST-MODIFIED:20250914T213007Z
UID:10000135-1758812400-1758819600@nkindivisible.com
SUMMARY:Postcarding for Deb Krishnadasan-Poulsbo
DESCRIPTION:Location: Poulsbo Library Lower Level Meeting Room \nWe will be writing postcards to voters\, asking them to vote for Deb Krishnadasan for WA Senate LD 26. Deb is running for re-election in a tight race against a well-funded opponent. \nEveryone is welcome. If you have never done any postcarding\, we encourage you to give it a try! Writing postcards is one of the most impactful things you can do to support candidates\, by encouraging voters in their district to turn out and vote! Join us to see how it works without having to sign up for anything. \nAll materials (including stamps) will be provided. All you need to bring is your legible handwriting. \nNorth Kitsap Indivisible
URL:https://nkindivisible.com/event/postcarding-for-deb-krishnadasan/
END:VEVENT
BEGIN:VEVENT
DTSTART;TZID=America/Los_Angeles:20250925T120000
DTEND;TZID=America/Los_Angeles:20250925T130000
DTSTAMP:20260423T031658
CREATED:20250913T052800Z
LAST-MODIFIED:20251003T070858Z
UID:10001830-1758801600-1758805200@nkindivisible.com
SUMMARY:What’s the Plan? With Indivisible Co-Founders
DESCRIPTION:Join Indivisible co-founders Leah Greenberg and Ezra Levin each week\, as we carve out an hour to discuss what’s happening and – more importantly – what’s the plan?\n\nVirtual event.  Sign up here.
URL:https://nkindivisible.com/event/whats-the-plan-with-indivisible-co-founders-11/2025-09-25/
END:VEVENT
BEGIN:VEVENT
DTSTART;TZID=America/Los_Angeles:20250924T160000
DTEND;TZID=America/Los_Angeles:20250924T173000
DTSTAMP:20260423T031658
CREATED:20250913T052647Z
LAST-MODIFIED:20250914T202223Z
UID:10001311-1758729600-1758735000@nkindivisible.com
SUMMARY:Rally-Indivisible Bremerton
DESCRIPTION:Every Wednesday from 4 to 5:30 pm.\nHosted by Indivisible Bremerton\nWhere:  Warren @ 15th\, Bremerton.\nJoin us for a peaceful low-key WEEKLY gathering. Bring your signs\, flags\,voices\, and friends. Whether you are a new or seasoned resister – you are welcome to join us.\nContact us at indivisiblebremerton@gmail.com
URL:https://nkindivisible.com/event/rally-indivisible-bremerton-3/2025-09-24/
END:VEVENT
BEGIN:VEVENT
DTSTART;TZID=America/Los_Angeles:20250924T140000
DTEND;TZID=America/Los_Angeles:20250924T153000
DTSTAMP:20260423T031658
CREATED:20250913T052524Z
LAST-MODIFIED:20250914T202009Z
UID:10001051-1758722400-1758727800@nkindivisible.com
SUMMARY:Postcards on Wednesday-Indivisible Bainbridge Island
DESCRIPTION:Every Wednesday  from 2 pm to 3:30 pm.\nHosted by Indivisible Bainbridge Island\nWhere: Upstairs at the Town & Country Market \n\n\nEmail postcards@indivisiblebainbridgeisland.org to get on the reminder list.
URL:https://nkindivisible.com/event/postcards-on-wednesday-indivisible-bainbridge-island-3/2025-09-24/
END:VEVENT
BEGIN:VEVENT
DTSTART;TZID=America/Los_Angeles:20250924T120000
DTEND;TZID=America/Los_Angeles:20250924T133000
DTSTAMP:20260423T031658
CREATED:20250913T052204Z
LAST-MODIFIED:20250914T195502Z
UID:10000411-1758715200-1758720600@nkindivisible.com
SUMMARY:Bainbridge Island Rally for America
DESCRIPTION:Wednesdays\, noon to 1:30 pm\nWhere: the intersection of 305 and Winslow Way.\nWhat: Signs in support of Ukraine\, Medicaid\, Social Security\, Medicare\, Education\, you name it.
URL:https://nkindivisible.com/event/bainbridge-island-rally-for-america-5/2025-09-24/
END:VEVENT
BEGIN:VEVENT
DTSTART;TZID=America/Los_Angeles:20250923T170000
DTEND;TZID=America/Los_Angeles:20250923T180000
DTSTAMP:20260423T031658
CREATED:20250913T051935Z
LAST-MODIFIED:20250914T200934Z
UID:10000671-1758646800-1758650400@nkindivisible.com
SUMMARY:North Kitsap Indivisible – Sign Waving
DESCRIPTION:Every Tuesday from 5pm to 6pm.\nWhere: George’s Corner\, also known as Kountry Korners\, the intersection of Bond Rd (Hwy 104) and Miller Bay/Hansville Rd (27000 Miller Bay Rd NE Kingston) \nBring your signs\, your determination to sink the tRump ship and your friends!
URL:https://nkindivisible.com/event/north-kitsap-indivisible-sign-waving-7/2025-09-23/
END:VEVENT
BEGIN:VEVENT
DTSTART;TZID=America/Los_Angeles:20250923T150000
DTEND;TZID=America/Los_Angeles:20250923T180000
DTSTAMP:20260423T031658
CREATED:20250913T052056Z
LAST-MODIFIED:20250914T211648Z
UID:10000124-1758639600-1758650400@nkindivisible.com
SUMMARY:Tuesdays at the VA Hospital\, Seattle
DESCRIPTION:Every 2nd and 4th Tuesday\, 3:00 to 6:00 PM\nTuesdays at the VA Hospital\nHosted by Veterans For Peace Daniel Ellsberg Chapter 92\, Seattle\nWhere: Location: 1660 S Columbian Way\, Seattle.\n\nJoin Veterans\, healthcare workers\, union members & supporters. No cuts to VA services\, no mass firings\, stop the Trump coup!
URL:https://nkindivisible.com/event/tuesdays-at-the-va-hospital-seattle-3/2025-09-23/
END:VEVENT
BEGIN:VEVENT
DTSTART;TZID=America/Los_Angeles:20250922T180000
DTEND;TZID=America/Los_Angeles:20250922T200000
DTSTAMP:20260423T031658
CREATED:20250914T070809Z
LAST-MODIFIED:20250914T212802Z
UID:10000147-1758564000-1758571200@nkindivisible.com
SUMMARY:A conversation with Poulsbo Mayor Erickson and City Administrator Rob Gelder
DESCRIPTION:Where: Kitsap Public Library – Poulsbo Branch in their Community Room \nThe Mayor and City Administrator will present information regarding their roles\, separation of powers\, and the role of the City Council\, as well as other topics. \n 
URL:https://nkindivisible.com/event/a-conversation-with-poulsbo-mayor-erickson-and-city-administrator-rob-gelder/
END:VEVENT
BEGIN:VEVENT
DTSTART;TZID=America/Los_Angeles:20250921T124500
DTEND;TZID=America/Los_Angeles:20250921T141500
DTSTAMP:20260423T031658
CREATED:20250913T053215Z
LAST-MODIFIED:20250914T205035Z
UID:10000132-1758458700-1758464100@nkindivisible.com
SUMMARY:Free Palestine-Kingston
DESCRIPTION:Alternate Sundays between Bainbridge and Kingston.\nWhere: Kola Kole Park Sidewalk across from Coffee Oasis
URL:https://nkindivisible.com/event/free-palestine-kingston-2/2025-09-21/
END:VEVENT
BEGIN:VEVENT
DTSTART;TZID=America/Los_Angeles:20250921T110000
DTEND;TZID=America/Los_Angeles:20250921T133000
DTSTAMP:20260423T031658
CREATED:20250913T053659Z
LAST-MODIFIED:20250914T203936Z
UID:10000134-1758452400-1758461400@nkindivisible.com
SUMMARY:Poulsbo Weekly Democracy Rally
DESCRIPTION:Hosted by Poulsbo For All. \nWhere: Meet at the gazebo\, waterfront park.\nBring your signs\, your friends\, and your determination stand up for democracy. This is a peaceful event\, and it starts with an inspiring talk by Dr. Claudia Gorbman. Then attendees march with chants and signs\, and ending with open mike and inspirational comments from attendees at the gazebo.
URL:https://nkindivisible.com/event/poulsbo-weekly-democracy-rally-2/2025-09-21/
END:VEVENT
BEGIN:VEVENT
DTSTART;TZID=America/Los_Angeles:20250920T170000
DTEND;TZID=America/Los_Angeles:20250920T210000
DTSTAMP:20260423T031658
CREATED:20250914T070506Z
LAST-MODIFIED:20250914T212657Z
UID:10000146-1758387600-1758402000@nkindivisible.com
SUMMARY:NAACP Freedom Fund Banquet -Bremerton
DESCRIPTION:Where: The Admiral Theatre\, 515 Pacific Avenue\, Bremerton\, WA\, (map)\nWe cordially invite you to be part of NAACP Bremerton Unit 1134’s Freedom Fund Banquet. \nNAACP Bremerton Unit 1134 represents Kitsap\, Jefferson\, and Mason Counties. \nThe mission of the NAACP is to promote equity\, political rights\, and social inclusion by advocating for policies and practices that enhance human and civil rights\, eradicate discrimination\, and improve the well-being\, education\, and economic security of Black people and all persons of color. \nThis fundraiser is a ticketed event\, with individual or group tickets available for purchase at the Admiral Theatre. The banquet will feature live music\, a reception with a non-host bar\, a plated dinner\, a silent auction\, community speakers\, a special keynote speaker\, a dessert dash\, community service awards\, a 360-photo booth\, and more. This occasion provides an opportunity for fellowship\, community building\, networking\, and honoring individuals who have made significant contributions to our community. \nMore information here
URL:https://nkindivisible.com/event/naacp-freedom-fund-banquet-bremerton/
END:VEVENT
END:VCALENDAR