BEGIN:VCALENDAR
VERSION:2.0
PRODID:-//North Kitsap Indivisible - ECPv6.15.20//NONSGML v1.0//EN
CALSCALE:GREGORIAN
METHOD:PUBLISH
X-WR-CALNAME:North Kitsap Indivisible
X-ORIGINAL-URL:https://nkindivisible.com
X-WR-CALDESC:Events for North Kitsap Indivisible
REFRESH-INTERVAL;VALUE=DURATION:PT1H
X-Robots-Tag:noindex
X-PUBLISHED-TTL:PT1H
BEGIN:VTIMEZONE
TZID:America/Los_Angeles
BEGIN:DAYLIGHT
TZOFFSETFROM:-0800
TZOFFSETTO:-0700
TZNAME:PDT
DTSTART:20240310T100000
END:DAYLIGHT
BEGIN:STANDARD
TZOFFSETFROM:-0700
TZOFFSETTO:-0800
TZNAME:PST
DTSTART:20241103T090000
END:STANDARD
BEGIN:DAYLIGHT
TZOFFSETFROM:-0800
TZOFFSETTO:-0700
TZNAME:PDT
DTSTART:20250309T100000
END:DAYLIGHT
BEGIN:STANDARD
TZOFFSETFROM:-0700
TZOFFSETTO:-0800
TZNAME:PST
DTSTART:20251102T090000
END:STANDARD
BEGIN:DAYLIGHT
TZOFFSETFROM:-0800
TZOFFSETTO:-0700
TZNAME:PDT
DTSTART:20260308T100000
END:DAYLIGHT
BEGIN:STANDARD
TZOFFSETFROM:-0700
TZOFFSETTO:-0800
TZNAME:PST
DTSTART:20261101T090000
END:STANDARD
END:VTIMEZONE
BEGIN:VEVENT
DTSTART;TZID=America/Los_Angeles:20250612T150000
DTEND;TZID=America/Los_Angeles:20250612T160000
DTSTAMP:20260424T005315
CREATED:20250610T020119Z
LAST-MODIFIED:20250610T020445Z
UID:10000013-1749740400-1749744000@nkindivisible.com
SUMMARY:What’s the Plan?  with Indivisible’s Co-Founders
DESCRIPTION:Wednesday June 12\, 2025 \n3 – 4pm EDT\n\n\n\nVirtual event \nJoin from anywhere\n\n\nJoin Indivisible co-founders Leah Greenberg and Ezra Levin each week\, as we carve out an hour to discuss what’s happening and – more importantly – what’s the plan?\nRSVP: https://www.mobilize.us/indivisible/event/773746/
URL:https://nkindivisible.com/event/whats-the-plan-with-indivisibles-co-founders/
END:VEVENT
BEGIN:VEVENT
DTSTART;TZID=America/Los_Angeles:20250610T160000
DTEND;TZID=America/Los_Angeles:20250610T170000
DTSTAMP:20260424T005315
CREATED:20250609T231821Z
LAST-MODIFIED:20250609T231929Z
UID:10000008-1749571200-1749574800@nkindivisible.com
SUMMARY:Know Your Rights Training
DESCRIPTION:Tuesday\, June 10th at 4 PM PT via Zoom\nKnow Your Rights Training: Get Ready for June 14th\nProvided by ACLU.  At this training\, we’ll make sure you know your rights during protests and law enforcement encounters. Get prepared to take action safely\, powerfully and together. For the Zoom link:  RSVP here
URL:https://nkindivisible.com/event/know-your-rights-training/
END:VEVENT
BEGIN:VEVENT
DTSTART;TZID=America/Los_Angeles:20250610T130000
DTEND;TZID=America/Los_Angeles:20250610T140000
DTSTAMP:20260424T005315
CREATED:20250610T022209Z
LAST-MODIFIED:20250610T022209Z
UID:10000017-1749560400-1749564000@nkindivisible.com
SUMMARY:Lunchtime Meeting with Senator Murray's Staff
DESCRIPTION:Seattle Indivisible In-Person Meeting with Senator Patty Murray’s Staff\n📅 Date: Tuesday\, June 10\, 2025\n⏰ Time: 1:00 PM – 2:00 PM\n📍 Location: Henry M. Jackson Federal Building\, 915 2nd Ave\, Seattle\, WA 98174 \nJoin Seattle Indivisible for an in-person meeting with representatives from Senator Patty Murray’s office. This is an important opportunity to discuss pressing issues and make our voices heard. \nImportant Details\n\n🚨 Early Arrival Recommended: Attendees should arrive at least 15 minutes early to allow time for security screening.\n✈️ Security Screening: The building has entry procedures similar to TSA screenings at airports. Minimize personal items to speed up the process.\n🔴 In-Person Only: This event will not be available via Zoom or any other virtual platform.\n\nWe look forward to seeing you there! \nRSVP: https://indivisible.zoom.us/meeting/register/4DILP6dPSJ657dgDxH6sdQ?emci=f93ea183-8c3d-f011-a5f1-6045bda9d96b&emdi=2416b7cc-a13d-f011-a5f1-6045bda9d96b&ceid=493932#/registration
URL:https://nkindivisible.com/event/lunchtime-meeting-with-senator-murrays-staff/
END:VEVENT
BEGIN:VEVENT
DTSTART;TZID=America/Los_Angeles:20250608T110000
DTEND;TZID=America/Los_Angeles:20250608T133000
DTSTAMP:20260424T005315
CREATED:20250521T232825Z
LAST-MODIFIED:20250521T232825Z
UID:10000003-1749380400-1749389400@nkindivisible.com
SUMMARY:Rally for Democracy and march for Democracy
DESCRIPTION:
URL:https://nkindivisible.com/event/rally-for-democracy-and-march-for-democracy-2-2/
LOCATION:Poulsbo Waterfront Park\, Poulsbo\, WA\, United States
END:VEVENT
BEGIN:VEVENT
DTSTART;TZID=America/Los_Angeles:20250601T110000
DTEND;TZID=America/Los_Angeles:20250601T133000
DTSTAMP:20260424T005315
CREATED:20250521T232406Z
LAST-MODIFIED:20250521T232853Z
UID:10000002-1748775600-1748784600@nkindivisible.com
SUMMARY:Rally for Democracy and march for Democracy
DESCRIPTION:
URL:https://nkindivisible.com/event/rally-for-democracy-and-march-for-democracy-2/
LOCATION:Poulsbo Waterfront Park\, Poulsbo\, WA\, United States
END:VEVENT
BEGIN:VEVENT
DTSTART;TZID=America/Los_Angeles:20250525T110000
DTEND;TZID=America/Los_Angeles:20250525T110000
DTSTAMP:20260424T005315
CREATED:20250521T232255Z
LAST-MODIFIED:20250521T233245Z
UID:10000001-1748170800-1748170800@nkindivisible.com
SUMMARY:Rally for Democracy and march for Democracy
DESCRIPTION:We are rallying in Poulsbo this Sunday and hope you can join us! Forecast is 76 degrees\, sunny and warm – hydrate. Note: Sunday is the 5th anniversary of the killing of George Floyd – and there have been rumors about Trmp pardoning Derek Chauvin. Even if Chauvin was absolved of federal charges he would still have to serve his time for his state conviction. We will have a peaceful\, but passionate\, event as usual and your presence helps that happen.
URL:https://nkindivisible.com/event/rally-for-democracy-and-march-for-democracy/
LOCATION:Poulsbo Waterfront Park\, Poulsbo\, WA\, United States
END:VEVENT
END:VCALENDAR