BEGIN:VCALENDAR
VERSION:2.0
PRODID:-//North Kitsap Indivisible - ECPv6.15.20//NONSGML v1.0//EN
CALSCALE:GREGORIAN
METHOD:PUBLISH
X-WR-CALNAME:North Kitsap Indivisible
X-ORIGINAL-URL:https://nkindivisible.com
X-WR-CALDESC:Events for North Kitsap Indivisible
REFRESH-INTERVAL;VALUE=DURATION:PT1H
X-Robots-Tag:noindex
X-PUBLISHED-TTL:PT1H
BEGIN:VTIMEZONE
TZID:America/Los_Angeles
BEGIN:DAYLIGHT
TZOFFSETFROM:-0800
TZOFFSETTO:-0700
TZNAME:PDT
DTSTART:20240310T100000
END:DAYLIGHT
BEGIN:STANDARD
TZOFFSETFROM:-0700
TZOFFSETTO:-0800
TZNAME:PST
DTSTART:20241103T090000
END:STANDARD
BEGIN:DAYLIGHT
TZOFFSETFROM:-0800
TZOFFSETTO:-0700
TZNAME:PDT
DTSTART:20250309T100000
END:DAYLIGHT
BEGIN:STANDARD
TZOFFSETFROM:-0700
TZOFFSETTO:-0800
TZNAME:PST
DTSTART:20251102T090000
END:STANDARD
BEGIN:DAYLIGHT
TZOFFSETFROM:-0800
TZOFFSETTO:-0700
TZNAME:PDT
DTSTART:20260308T100000
END:DAYLIGHT
BEGIN:STANDARD
TZOFFSETFROM:-0700
TZOFFSETTO:-0800
TZNAME:PST
DTSTART:20261101T090000
END:STANDARD
END:VTIMEZONE
BEGIN:VEVENT
DTSTART;TZID=America/Los_Angeles:20250914T120000
DTEND;TZID=America/Los_Angeles:20250914T140000
DTSTAMP:20260423T163802
CREATED:20250914T063138Z
LAST-MODIFIED:20250914T202606Z
UID:10000143-1757851200-1757858400@nkindivisible.com
SUMMARY:We the People Ride - Documentary - Bainbridge Island
DESCRIPTION:Lynwood Theater – 4569 Lynwood Center Rd NE\, Bainbridge Island \nDoug Pagitt is the executive director of Vote Common Good. He is a Pastor and now adds legendary bicyclist to his life list. His team rode an incredible 3\,200 miles over 66 days to advocate for immigration justice. Doug is coming to Bainbridge Island to share this powerful documentary. \n“As we biked across the entire United States/Mexico border\, we heard the stories of the people who live and work on the border; those who know the best way forward for our border practices. We have heard incredible stories and now it is time to share them with the world. These scenes provide some of the most stirring and personal stories of our entire journey.” \nFor more information on We The People Ride click here  \nTickets are $10 and can be purchased ahead of time here
URL:https://nkindivisible.com/event/we-the-people-ride-documentary-bainbridge-island/
END:VEVENT
BEGIN:VEVENT
DTSTART;TZID=America/Los_Angeles:20250914T080000
DTEND;TZID=America/Los_Angeles:20250916T170000
DTSTAMP:20260423T163802
CREATED:20250914T062431Z
LAST-MODIFIED:20250914T062431Z
UID:10000142-1757836800-1758042000@nkindivisible.com
SUMMARY:Thank the Judges who are holding the line
DESCRIPTION:Thank the Judges who are Holding the Line \nPlease click the link above for details. \nDEADLINE: Sep 16 • 5:00pm\nFacing threats\, political pressure and a Supreme Court that has frequently not had their backs\, lower court judges are still doing vitally important work to keep this administration’s power within the bounds of the law. Let’s acknowledge their work and send encouragement to keep fighting!
URL:https://nkindivisible.com/event/thank-the-judges-who-are-holding-the-line/
END:VEVENT
BEGIN:VEVENT
DTSTART;TZID=America/Los_Angeles:20250913T100000
DTEND;TZID=America/Los_Angeles:20250913T140000
DTSTAMP:20260423T163802
CREATED:20250824T085932Z
LAST-MODIFIED:20250902T065118Z
UID:10000114-1757757600-1757772000@nkindivisible.com
SUMMARY:Walk Against Ice: Silverdale
DESCRIPTION:Saturday September 13th – 10am to 2pm\nWalk Against ICE\nHosted by the following groups: \nPoulsbo for All\, Indivisible Bainbridge Island\, Kingston Alliance for Democracy\, North Kitsap Indivisible\, Indivisible Bremerton\, Evergreen Resistance\, South Kitsap Indivisible. \nIndivisible Sequim and Port Angeles will be participating. \n \nRSVP and more information here
URL:https://nkindivisible.com/event/walk-against-ice-silverdale/
END:VEVENT
BEGIN:VEVENT
DTSTART;TZID=America/Los_Angeles:20250912T160000
DTEND;TZID=America/Los_Angeles:20250912T173000
DTSTAMP:20260423T163802
CREATED:20250820T035227Z
LAST-MODIFIED:20250820T035227Z
UID:10000097-1757692800-1757698200@nkindivisible.com
SUMMARY:Fridays @4 Letter Writing and More
DESCRIPTION:Swing Left– Fridays @4 Letter Writing and More\n\nSept 12  @ 4:00 pm – 5:30 pm\n\n\n\n\n\nThis is a weekly meeting via Zoom. Learn about the next letter writing campaign with Vote Forward.   And more: making phone calls to our elected officials\, sending postcards to voters\, using Bluesky…. \nSign up at https://swingleft.org/event/register/mobilize:274619?source=%2Fgroup%2Fswing-left-fridays-at-4-letter-writing-team&s=u
URL:https://nkindivisible.com/event/fridays-4-letter-writing-and-more/
END:VEVENT
BEGIN:VEVENT
DTSTART;TZID=America/Los_Angeles:20250912T160000
DTEND;TZID=America/Los_Angeles:20250912T170000
DTSTAMP:20260423T163802
CREATED:20250902T064137Z
LAST-MODIFIED:20250902T064137Z
UID:10000120-1757692800-1757696400@nkindivisible.com
SUMMARY:End Occupation of Palestine
DESCRIPTION:Every Friday from 4 to 5pm. Next Gathering pm September 5th\nWhere: Corner of Viking Way and Finn Hill Rd in Poulsbo\, In front of the Viking Statue\nBring signs.
URL:https://nkindivisible.com/event/end-occupation-of-palestine/
END:VEVENT
BEGIN:VEVENT
DTSTART;TZID=America/Los_Angeles:20250911T120000
DTEND;TZID=America/Los_Angeles:20250911T130000
DTSTAMP:20260423T163802
CREATED:20250820T034429Z
LAST-MODIFIED:20250820T034429Z
UID:10000095-1757592000-1757595600@nkindivisible.com
SUMMARY:What’s the Plan? With Indivisible Co-Founders
DESCRIPTION:What’s the Plan? With Indivisible Co-Founders\n\n\n\n\n\nThursday\,  September 11\, 2025  @ 12:00 pm – 1:00 pm  Pacific Time\n\n\n\n\n\n\nVirtual event \nJoin from anywhere\n\n\nJoin Indivisible co-founders Leah Greenberg and Ezra Levin each week\, as we carve out an hour to discuss what’s happening and – more importantly – what’s the plan?\n\nRSVP: https://www.mobilize.us/indivisible/event/773746/
URL:https://nkindivisible.com/event/whats-the-plan-with-indivisible-co-founders-7/
END:VEVENT
BEGIN:VEVENT
DTSTART;TZID=America/Los_Angeles:20250910T160000
DTEND;TZID=America/Los_Angeles:20250910T173000
DTSTAMP:20260423T163802
CREATED:20250902T063421Z
LAST-MODIFIED:20250902T063421Z
UID:10000117-1757520000-1757525400@nkindivisible.com
SUMMARY:Rally-Indivisible Bremerton
DESCRIPTION:Every Wednesday from 4 to 5:30 pm.\nHosted by Indivisible Bremerton\nWhere:  Warren @ 15th\, Bremerton.\nJoin us for a peaceful low-key WEEKLY gathering. Bring your signs\, flags\,voices\, and friends. Whether you are a new or seasoned resister – you are welcometo join us.\nContact us at indivisiblebremerton@gmail.com
URL:https://nkindivisible.com/event/rally-indivisible-bremerton-2/
END:VEVENT
BEGIN:VEVENT
DTSTART;TZID=America/Los_Angeles:20250910T140000
DTEND;TZID=America/Los_Angeles:20250910T153000
DTSTAMP:20260423T163802
CREATED:20250902T063722Z
LAST-MODIFIED:20250902T063722Z
UID:10000118-1757512800-1757518200@nkindivisible.com
SUMMARY:Postcards on Wednesday-Indivisible Bainbridge Island
DESCRIPTION:Postcards on Wednesday \nEvery Wednesday  from 2 pm to 3:30 pm.\nHosted by Indivisible Bainbridge Island\nWhere: Upstairs at the T&C. [Town & Country Market]\nEmail postcards@indivisiblebainbridgeisland.org to get on the reminder list. We’re writing to Virginia and Arizona voters.
URL:https://nkindivisible.com/event/postcards-on-wednesday-indivisible-bainbridge-island-2/
END:VEVENT
BEGIN:VEVENT
DTSTART;TZID=America/Los_Angeles:20250910T120000
DTEND;TZID=America/Los_Angeles:20250910T133000
DTSTAMP:20260423T163802
CREATED:20250820T034939Z
LAST-MODIFIED:20250820T034939Z
UID:10000096-1757505600-1757511000@nkindivisible.com
SUMMARY:Bainbridge Island Rally for America
DESCRIPTION:Bainbridge Island Rally for America\n\n\nBainbridge Island Rally for America\nWednesdays\, noon to 1:30 pm\nWhere: the intersection of 305 and Winslow Way.\nWhat: Signs in support of Ukraine\, Medicaid\, Social Security\, Medicare\, Education\, you name it.
URL:https://nkindivisible.com/event/bainbridge-island-rally-for-america-4/
END:VEVENT
BEGIN:VEVENT
DTSTART;TZID=America/Los_Angeles:20250909T170000
DTEND;TZID=America/Los_Angeles:20250909T180000
DTSTAMP:20260423T163802
CREATED:20250820T034214Z
LAST-MODIFIED:20250820T034214Z
UID:10000094-1757437200-1757440800@nkindivisible.com
SUMMARY:North Kitsap Indivisible – Sign Waving
DESCRIPTION:North Kitsap Indivisible – Sign Waving\n\nSeptember 9 @ 5:00 pm – 6:00 pm\n\n\n\nWeekly Action with North Kitsap Indivisible – Sign Waving\nEvery Tuesday from 5pm to 6pm.\nWhere: George’s Corner\, also known as Kountry Korners\, the intersection of Bond Rd (Hwy 104) and Miller Bay/Hansville Rd (27000 Miller Bay Rd NE Kingston) \nBring your signs\, your determination to sink the tRump ship and your friends!
URL:https://nkindivisible.com/event/north-kitsap-indivisible-sign-waving-6/
END:VEVENT
BEGIN:VEVENT
DTSTART;TZID=America/Los_Angeles:20250909T160000
DTEND;TZID=America/Los_Angeles:20250909T173000
DTSTAMP:20260423T163802
CREATED:20250815T072750Z
LAST-MODIFIED:20250815T072750Z
UID:10000088-1757433600-1757439000@nkindivisible.com
SUMMARY:Public School Strong (Virtual)
DESCRIPTION:Public School Strong Orientation\nRegister here\nSecond Tuesday of every month  4:00-5:30 PM\nThis is a virtual event \nJoin public school parents\, family members and supporters from across the country to learn:\n-How to show your support for well-resourced and inclusive public schools\n-What to look for when you observe your school district’s school board meeting\n-How to form a Public School Strong team in your school district\n-Ways to join a national movement to protect and transform public schools that serve all children
URL:https://nkindivisible.com/event/public-school-strong-virtual/
END:VEVENT
BEGIN:VEVENT
DTSTART;TZID=America/Los_Angeles:20250909T150000
DTEND;TZID=America/Los_Angeles:20250909T180000
DTSTAMP:20260423T163802
CREATED:20250815T074505Z
LAST-MODIFIED:20250815T074505Z
UID:10000093-1757430000-1757440800@nkindivisible.com
SUMMARY:Tuesdays at the VA Hospital\, Seattle
DESCRIPTION:Tuesdays at the VA Hospital\, Seattle\n\n\nEvery 2nd and 4th Tuesday\, 3:00 to 6:00 PM;      in Sept  the 9th and the 23rd\nTuesdays at the VA Hospital\nHosted by Veterans For Peace DanielEllsberg Chapter 92\, Seattle\nWhere: Location: 1660 S Columbian Way\, Seattle.\n\nJoin Veterans\, healthcare workers\, union members & supporters. No cuts to VA services\, no mass firings\, stop the Trump coup!
URL:https://nkindivisible.com/event/tuesdays-at-the-va-hospital-seattle-2/
END:VEVENT
BEGIN:VEVENT
DTSTART;TZID=America/Los_Angeles:20250907T124500
DTEND;TZID=America/Los_Angeles:20250907T141500
DTSTAMP:20260423T163802
CREATED:20250902T064553Z
LAST-MODIFIED:20250902T064553Z
UID:10000121-1757249100-1757254500@nkindivisible.com
SUMMARY:Free Palestine-Kingston
DESCRIPTION:Alternate Sundays 12:45-2:15PM. Next gathering on September 7th\nEND THE OCCUPATION -FREE PALESTINE\nWhere: Near Kingston Ferry Terminal: Kola Kole Park Sidewalk across from Coffee Oasis
URL:https://nkindivisible.com/event/free-palestine-kingston/
END:VEVENT
BEGIN:VEVENT
DTSTART;TZID=America/Los_Angeles:20250907T110000
DTEND;TZID=America/Los_Angeles:20250907T133000
DTSTAMP:20260423T163802
CREATED:20250724T003232Z
LAST-MODIFIED:20250902T064345Z
UID:10000062-1757242800-1757251800@nkindivisible.com
SUMMARY:Poulsbo Weekly Democracy Rally
DESCRIPTION:Poulsbo Weekly Democracy Rally\nSundays from 11am to 1:30pm. Next gathering on September 7th.\nDemocracy Rally in Poulsbo \nHosted by Poulsbo For All.\nNo gathering on Sunday\, September 14th because we will be co-hosting the Walk Against ICE on September 13th in Silverdale (see below)\nWhere: Meet at the gazebo\, waterfront park.\nBring your signs\, your friends\, and your determination to sink the tRump. This is a peaceful event\, and it starts with an inspiring talk by Dr. Claudia Gorbman. Then attendees march with chants and signs\, and ending with open mike and inspirational comments from attendees at the gazebo. \n 
URL:https://nkindivisible.com/event/poulsbo-weekly-democracy-rally-7/
END:VEVENT
BEGIN:VEVENT
DTSTART;TZID=America/Los_Angeles:20250907T110000
DTEND;TZID=America/Los_Angeles:20250907T130000
DTSTAMP:20260423T163802
CREATED:20250824T085414Z
LAST-MODIFIED:20250824T085414Z
UID:10000113-1757242800-1757250000@nkindivisible.com
SUMMARY:Pramila Jayapal: The Resistance Lab
DESCRIPTION:Sunday\, September 7 – 11am to 1pm PDT\nA virtual event – Join from anywhere \n \nWe’ve put together a comprehensive toolkit for partners\, with everything you’ll need to run a successful training session on the best date that works with you and your network.\nRSVP here. To stay in the loop with all things Resistance Lab\, sign up for updates here
URL:https://nkindivisible.com/event/pramila-jayapal-the-resistance-lab/
END:VEVENT
BEGIN:VEVENT
DTSTART;TZID=America/Los_Angeles:20250906T110000
DTEND;TZID=America/Los_Angeles:20250906T180000
DTSTAMP:20260423T163802
CREATED:20250824T084557Z
LAST-MODIFIED:20250824T084557Z
UID:10000112-1757156400-1757181600@nkindivisible.com
SUMMARY:Pride in the Park: Poulsbo
DESCRIPTION:Poulsbo Pride in the Park 2025\n\n\nSaturday\, September 6th\, 2025\n18809 Anderson Pkwy\, Poulsbo\, Washington 98370\, United States \n\n\n\n\nAbout the event\n\nPoulsbo Pride in the Park is an inclusive family friendly community event including vendors\, information booths\, kids’ area\, activities\, entertainment and food vendors!\n\n\n\n\n\nParking instructions\n\n\nParking is available throughout the downtown area. ADA parking available on site\, please contact event organizers for more information.\n\n\n\n\n\nHosted by Poulsbo Pride\nJoined Eventeny in June 2023
URL:https://nkindivisible.com/event/pride-in-the-park-poulsbo/
END:VEVENT
BEGIN:VEVENT
DTSTART;TZID=America/Los_Angeles:20250905T160000
DTEND;TZID=America/Los_Angeles:20250905T173000
DTSTAMP:20260423T163802
CREATED:20250724T002821Z
LAST-MODIFIED:20250820T035044Z
UID:10000057-1757088000-1757093400@nkindivisible.com
SUMMARY:Swing Left– Fridays @4 Letter Writing and More
DESCRIPTION:Swing Left– Fridays @4 Letter Writing and More\n\nSept 5  @ 4:00 pm – 5:30 pm\n\n\n\n\n\nThis is a weekly meeting via Zoom. Learn about the next letter writing campaign with Vote Forward.   And more: making phone calls to our elected officials\, sending postcards to voters\, using Bluesky…. \nSign up at https://swingleft.org/event/register/mobilize:274619?source=%2Fgroup%2Fswing-left-fridays-at-4-letter-writing-team&s=u
URL:https://nkindivisible.com/event/swing-left-fridays-4-letter-writing-and-more-8/
END:VEVENT
BEGIN:VEVENT
DTSTART;TZID=America/Los_Angeles:20250905T160000
DTEND;TZID=America/Los_Angeles:20250905T170000
DTSTAMP:20260423T163802
CREATED:20250902T064001Z
LAST-MODIFIED:20260315T055059Z
UID:10000119-1757088000-1757091600@nkindivisible.com
SUMMARY:End the Occupation of Palestine
DESCRIPTION:Every Friday from 4 to 5pm.\nWhere: Corner of Viking Way and Finn Hill Rd in Poulsbo\, In front of the Viking Statue\nBring signs.
URL:https://nkindivisible.com/event/end-the-occupation-of-palestine/
END:VEVENT
BEGIN:VEVENT
DTSTART;TZID=America/Los_Angeles:20250905T113000
DTEND;TZID=America/Los_Angeles:20250905T133000
DTSTAMP:20260423T163802
CREATED:20250815T073521Z
LAST-MODIFIED:20250815T073521Z
UID:10000090-1757071800-1757079000@nkindivisible.com
SUMMARY:Seattle Federal Bldg – Every Fri
DESCRIPTION:Seattle Federal Bldg – Every Fri\n\nSept 5 @ 11:30 am – 1:30 pm\n\n\n\n\n\n\n\n\n\n\n\n\nSeattle Federal Building Fridays\n\n\n\n\nHenry M. Jackson Federal Building\n915 2nd Ave\nSeattle\, WA 98174 US\nhttps://actionnetwork.org/events/seattle-federal-building-fridays\nWhen: Fridays 11:30 – 1:30 PM;\nCome for 5 minutes or 2 hours – we’ll be there every week\nWhere: Henry M. Jackson Federal Building\, 915 2nd Ave\, Seattle\n\nBring your banners! Bring your chants and songs\, your pots and pans! \nSupport federal workers and fight for the democratic future we believe in. \n\nIf the Trump / Musk agenda were happening in any other country no one would hesitate to call it a coup in progress. Naomi Klein has called it a “counter revolution”\, though she points out that we never completed the revolution\, so we find ourselves defending a future which hasn’t yet manifested itself.
URL:https://nkindivisible.com/event/seattle-federal-bldg-every-fri-4/
END:VEVENT
BEGIN:VEVENT
DTSTART;TZID=America/Los_Angeles:20250904T120000
DTEND;TZID=America/Los_Angeles:20250904T130000
DTSTAMP:20260423T163802
CREATED:20250723T235539Z
LAST-MODIFIED:20250723T235605Z
UID:10000052-1756987200-1756990800@nkindivisible.com
SUMMARY:What’s the Plan? With Indivisible Co-Founders
DESCRIPTION:What’s the Plan? With Indivisible Co-Founders\n\n\n\n\n\nThursday\,  September 4\, 2025  @ 12:00 pm – 1:00 pm  Pacific Time\n\n\n\n\n\n\nVirtual event \nJoin from anywhere\n\n\nJoin Indivisible co-founders Leah Greenberg and Ezra Levin each week\, as we carve out an hour to discuss what’s happening and – more importantly – what’s the plan?\n\nRSVP: https://www.mobilize.us/indivisible/event/773746/
URL:https://nkindivisible.com/event/937/
END:VEVENT
BEGIN:VEVENT
DTSTART;TZID=America/Los_Angeles:20250903T160000
DTEND;TZID=America/Los_Angeles:20250903T173000
DTSTAMP:20260423T163802
CREATED:20250902T063253Z
LAST-MODIFIED:20250902T063253Z
UID:10000116-1756915200-1756920600@nkindivisible.com
SUMMARY:Rally - Indivisible Bremerton
DESCRIPTION:Every Wednesday from 4 to 5:30 pm. Next gathering September 3rd\nHosted by Indivisible Bremerton\nWhere:  Warren @ 15th\, Bremerton.\nJoin us for a peaceful low-key WEEKLY gathering. Bring your signs\, flags\,voices\, and friends. Whether you are a new or seasoned resister – you are welcometo join us.\nContact us at indivisiblebremerton@gmail.com
URL:https://nkindivisible.com/event/rally-indivisible-bremerton/
END:VEVENT
BEGIN:VEVENT
DTSTART;TZID=America/Los_Angeles:20250903T140000
DTEND;TZID=America/Los_Angeles:20250903T153000
DTSTAMP:20260423T163802
CREATED:20250902T063040Z
LAST-MODIFIED:20250902T063040Z
UID:10000115-1756908000-1756913400@nkindivisible.com
SUMMARY:Postcards on Wednesday-Indivisible Bainbridge Island
DESCRIPTION:Every Wednesday  from 2 pm to 3:30 pm. Next gathering on September 3rd.\nPostcards on Wednesday\nHosted by Indivisible Bainbridge Island\nWhere: Upstairs at the T&C. [Town & Country Market]\nEmail postcards@indivisiblebainbridgeisland.org to get on the reminder list. We’re writing to Virginia and Arizona voters.
URL:https://nkindivisible.com/event/postcards-on-wednesday-indivisible-bainbridge-island/
END:VEVENT
BEGIN:VEVENT
DTSTART;TZID=America/Los_Angeles:20250903T120000
DTEND;TZID=America/Los_Angeles:20250903T133000
DTSTAMP:20260423T163802
CREATED:20250815T074033Z
LAST-MODIFIED:20250815T074033Z
UID:10000092-1756900800-1756906200@nkindivisible.com
SUMMARY:Bainbridge Island Rally for America
DESCRIPTION:Bainbridge Island Rally for America\n\n\nBainbridge Island Rally for America\nWednesdays\, noon to 1:30 pm\nWhere: the intersection of 305 and Winslow Way.\nWhat: Signs in support of Ukraine\, Medicaid\, Social Security\, Medicare\, Education\, you name it.
URL:https://nkindivisible.com/event/bainbridge-island-rally-for-america-3/
END:VEVENT
BEGIN:VEVENT
DTSTART;TZID=America/Los_Angeles:20250902T170000
DTEND;TZID=America/Los_Angeles:20250902T180000
DTSTAMP:20260423T163802
CREATED:20250724T005330Z
LAST-MODIFIED:20250724T005330Z
UID:10000068-1756832400-1756836000@nkindivisible.com
SUMMARY:North Kitsap Indivisible - Sign Waving
DESCRIPTION:Weekly Action with North Kitsap Indivisible – Sign Waving\nEvery Tuesday from 5pm to 6pm.\nWhere: George’s Corner\, also known as Kountry Korners\, the intersection of Bond Rd (Hwy 104) and Miller Bay/Hansville Rd (27000 Miller Bay Rd NE Kingston) \nBring your signs\, your determination to sink the tRump ship and your friends!
URL:https://nkindivisible.com/event/north-kitsap-indivisible-sign-waving-5/
END:VEVENT
BEGIN:VEVENT
DTSTART;TZID=America/Los_Angeles:20250901T100000
DTEND;TZID=America/Los_Angeles:20250901T173000
DTSTAMP:20260423T163802
CREATED:20250820T190422Z
LAST-MODIFIED:20250824T083426Z
UID:10000106-1756720800-1756747800@nkindivisible.com
SUMMARY:FIFTYFIFTY.ONE  Nationwide Protest: Bremerton\, Kingston\, Port Orchard\, Poulsbo
DESCRIPTION:Monday\, September 1st – multiple events in multiple county locations\nSee individual events below for time and location: \n  \n***Monday September 1    10am to 11:30am:  Bremerton\nHosted by Indivisible Bremerton\, More information to follow \nFight the Trump Takeover/Workers Over Billionaires:  \nWe’re organizing a National Day of Action\nWhere: Manette Bridge\, Bremerton \n  \n***Monday September 1    10:30am to noon: Kingston \nWORKERS OVER BILLIONAIRES!! \n\n\n\n\nHosted by Kingston Alliance for Democracy and North Kitsap Indivisible\n\n\nMonday\, September 1st\, 202510:30AM-12:00PM Kola Kole Park – Kingston WA11128 NE Maine Street\, Kingston WA\n\n\nPlease join us for a peaceful protest and sign waving along Highway 104. Bring your sign and a friend as we continue to make our voices heard against the corrupt administration and the billionaires that support it!\n\n\n\n\n  \n***Monday\, September 1    12 to 2pm PDT:  Port Orchard\nHosted by Port Orchard Southworth Indivisible \nMay Day Strong – Workers over Billionaires\nLocation: Bay Street & Orchard Avenue Port Orchard\, WA 98366\nRSVP and more information here \nhttps://www.mobilize.us/portorchardswindivisible/event/825443/ \n  \n***Monday\, September 1    1 pm PDT:  Poulsbo \nHosted by Poulsbo for All\nLabor Day Rally\nLocation: Poulsbo Waterfront Park \n  \n***Monday\, September 1st – from 4:00 to 5:30 p.m.:  Bremerton\nOverpass Bannering\, Hwy. 3 near 4900 Auto Center Way\nHosted by Indivisible Bremerton\nBanners provided. Questions?  Email us at indivisiblebremerton@gmail.com
URL:https://nkindivisible.com/event/fiftyfifty-one-nationwide-protest-bremerton-kingston-port-orchard/
END:VEVENT
BEGIN:VEVENT
DTSTART;TZID=America/Los_Angeles:20250831T124500
DTEND;TZID=America/Los_Angeles:20250831T141500
DTSTAMP:20260423T163802
CREATED:20250820T041320Z
LAST-MODIFIED:20250820T041320Z
UID:10000104-1756644300-1756649700@nkindivisible.com
SUMMARY:Palestine Solidarity Actions: Bainbridge Island
DESCRIPTION:Kitsap Palestine Solidarity Actions: Bainbridge Island\n\nAugust 31 @ 12:45 pm – 2:15 pm\n\n\n\nAugust 31 12:45-2:15 PM \nBainbridge Island: Hwy 305 and Winslow Way \nDemonstrations alternate between Bainbridge Island and Kingston on Sundays at 12:45-2:15 \n 
URL:https://nkindivisible.com/event/palestine-solidarity-actions-bainbridge-island/
END:VEVENT
BEGIN:VEVENT
DTSTART;TZID=America/Los_Angeles:20250829T180000
DTEND;TZID=America/Los_Angeles:20250829T200000
DTSTAMP:20260423T163802
CREATED:20250824T082208Z
LAST-MODIFIED:20250824T082208Z
UID:10000111-1756490400-1756497600@nkindivisible.com
SUMMARY:Representative Emily Randall In-person Town Hall: Kingston
DESCRIPTION:Friday August 29 – 6pm\, doors open at 5:15pm\nRepresentative Emily Randall In-person Town Hall \nLocation: Kingston\, no details yet \nlocation will be sent to you by email two days before the event if you RSVP \nPlease click here to RSVP
URL:https://nkindivisible.com/event/representative-emily-randall-in-person-town-hall-kingston/
END:VEVENT
BEGIN:VEVENT
DTSTART;TZID=America/Los_Angeles:20250829T160000
DTEND;TZID=America/Los_Angeles:20250829T170000
DTSTAMP:20260423T163802
CREATED:20250824T080801Z
LAST-MODIFIED:20250824T080801Z
UID:10000110-1756483200-1756486800@nkindivisible.com
SUMMARY:Call for Peace in Palestine: Poulsbo
DESCRIPTION:Friday\, August 29th – 4 to 5pm\nCALL FOR PEACE IN PALESTINE\nCorner of Viking Way and Finn Hill Rd in Poulsbo. In front of the Viking Statue
URL:https://nkindivisible.com/event/call-for-peace-in-palestine-poulsbo/
END:VEVENT
BEGIN:VEVENT
DTSTART;TZID=America/Los_Angeles:20250829T113000
DTEND;TZID=America/Los_Angeles:20250829T133000
DTSTAMP:20260423T163802
CREATED:20250815T071926Z
LAST-MODIFIED:20250815T071926Z
UID:10000086-1756467000-1756474200@nkindivisible.com
SUMMARY:Seattle Federal Bldg – Every Fri
DESCRIPTION:Seattle Federal Bldg – Every Fri\n\nAugust 29 @ 11:30 am – 1:30 pm\n\n\n\n\n\n\nSeattle Federal Building Fridays\n\n\n\n\nHenry M. Jackson Federal Building\n915 2nd Ave\nSeattle\, WA 98174 US\nhttps://actionnetwork.org/events/seattle-federal-building-fridays\nWhen: Fridays 11:30 – 1:30 PM;\nCome for 5 minutes or 2 hours – we’ll be there every week\nWhere: Henry M. Jackson Federal Building\, 915 2nd Ave\, Seattle\n\nBring your banners! Bring your chants and songs\, your pots and pans! \nSupport federal workers and fight for the democratic future we believe in. \n\nIf the Trump / Musk agenda were happening in any other country no one would hesitate to call it a coup in progress. Naomi Klein has called it a “counter revolution”\, though she points out that we never completed the revolution\, so we find ourselves defending a future which hasn’t yet manifested itself.
URL:https://nkindivisible.com/event/seattle-federal-bldg-every-fri-3/
END:VEVENT
BEGIN:VEVENT
DTSTART;TZID=America/Los_Angeles:20250828T190000
DTEND;TZID=America/Los_Angeles:20250828T210000
DTSTAMP:20260423T163802
CREATED:20250812T025701Z
LAST-MODIFIED:20250812T025701Z
UID:10000077-1756407600-1756414800@nkindivisible.com
SUMMARY:23rd LD Dems monthly general membership meeting
DESCRIPTION:23rd LD Dems monthly general membership meeting\n4th Thursday of every month at 7pm to 9pm\nWhere: Poulsbo Library\, downstairs\, 700 NE Lincoln Road\, Poulsbo
URL:https://nkindivisible.com/event/23rd-ld-dems-monthly-general-membership-meeting/
END:VEVENT
END:VCALENDAR