BEGIN:VCALENDAR
VERSION:2.0
PRODID:-//North Kitsap Indivisible - ECPv6.15.20//NONSGML v1.0//EN
CALSCALE:GREGORIAN
METHOD:PUBLISH
X-WR-CALNAME:North Kitsap Indivisible
X-ORIGINAL-URL:https://nkindivisible.com
X-WR-CALDESC:Events for North Kitsap Indivisible
REFRESH-INTERVAL;VALUE=DURATION:PT1H
X-Robots-Tag:noindex
X-PUBLISHED-TTL:PT1H
BEGIN:VTIMEZONE
TZID:America/Los_Angeles
BEGIN:DAYLIGHT
TZOFFSETFROM:-0800
TZOFFSETTO:-0700
TZNAME:PDT
DTSTART:20240310T100000
END:DAYLIGHT
BEGIN:STANDARD
TZOFFSETFROM:-0700
TZOFFSETTO:-0800
TZNAME:PST
DTSTART:20241103T090000
END:STANDARD
BEGIN:DAYLIGHT
TZOFFSETFROM:-0800
TZOFFSETTO:-0700
TZNAME:PDT
DTSTART:20250309T100000
END:DAYLIGHT
BEGIN:STANDARD
TZOFFSETFROM:-0700
TZOFFSETTO:-0800
TZNAME:PST
DTSTART:20251102T090000
END:STANDARD
BEGIN:DAYLIGHT
TZOFFSETFROM:-0800
TZOFFSETTO:-0700
TZNAME:PDT
DTSTART:20260308T100000
END:DAYLIGHT
BEGIN:STANDARD
TZOFFSETFROM:-0700
TZOFFSETTO:-0800
TZNAME:PST
DTSTART:20261101T090000
END:STANDARD
END:VTIMEZONE
BEGIN:VEVENT
DTSTART;TZID=America/Los_Angeles:20250725T160000
DTEND;TZID=America/Los_Angeles:20250725T173000
DTSTAMP:20260424T005257
CREATED:20250701T065045Z
LAST-MODIFIED:20250701T065045Z
UID:10000040-1753459200-1753464600@nkindivisible.com
SUMMARY:Swing Left-Fridays@4 Letter Writing and More
DESCRIPTION:Swing Left– Fridays @4 Letter Writing and More\n\nJuly 25  @ 4:00 pm – 5:30 pm\n\n\n\n\n\nThis is a weekly meeting via Zoom. Learn about the next letter writing campaign with Vote Forward.   And more: making phone calls to our elected officials\, sending postcards to voters\, using Bluesky…. \nSign up at https://swingleft.org/event/register/mobilize:274619?source=%2Fgroup%2Fswing-left-fridays-at-4-letter-writing-team&s=u
URL:https://nkindivisible.com/event/swing-left-fridays4-letter-writing-and-more/
END:VEVENT
BEGIN:VEVENT
DTSTART;TZID=America/Los_Angeles:20250724T163000
DTEND;TZID=America/Los_Angeles:20250724T173000
DTSTAMP:20260424T005257
CREATED:20250724T010410Z
LAST-MODIFIED:20250724T010410Z
UID:10000069-1753374600-1753378200@nkindivisible.com
SUMMARY:Powers Of The Judicial Branch - Red Wine and Blue
DESCRIPTION:Thursday\, July 24th –  4:30pm – 5:30PM  PDT\nThe Powers Of The Judicial Branch\nHosted by Red Wine And Blue\nWith norms crumbling and the other branches of government failing to uphold their duties\, the courts are increasingly the last line of defense for our Democracy. But what gives them that power and who keeps them in check? Join us for the next RWB Civics Salon as we dive into the judicial branch. We will learn how it’s set up\, what powers it holds\, and how it fits into our system of checks and balances. We’ll get to the heart of what the courts are actually supposed to do and why it matters now more than ever. \nRegister here:  https://secure.everyaction.com/FuUjJhJ2KUOyYqdv3ed96A2
URL:https://nkindivisible.com/event/powers-of-the-judicial-branch-red-wine-and-blue/
END:VEVENT
BEGIN:VEVENT
DTSTART;TZID=America/Los_Angeles:20250724T120000
DTEND;TZID=America/Los_Angeles:20250724T130000
DTSTAMP:20260424T005257
CREATED:20250620T080922Z
LAST-MODIFIED:20250620T080922Z
UID:10000025-1753358400-1753362000@nkindivisible.com
SUMMARY:What’s the Plan? With Indivisible Co-Founders
DESCRIPTION:Thursday\,  July 24 @ 12:00 pm – 1:00 pm  Pacific Time\n\n\n\n\n\n\nVirtual event \nJoin from anywhere\n\n\nJoin Indivisible co-founders Leah Greenberg and Ezra Levin each week\, as we carve out an hour to discuss what’s happening and – more importantly – what’s the plan?\n\nRSVP: https://www.mobilize.us/indivisible/event/773746/
URL:https://nkindivisible.com/event/whats-the-plan-with-indivisible-co-founders-5/
END:VEVENT
BEGIN:VEVENT
DTSTART;TZID=America/Los_Angeles:20250720T110000
DTEND;TZID=America/Los_Angeles:20250720T133000
DTSTAMP:20260424T005257
CREATED:20250701T062448Z
LAST-MODIFIED:20250719T055337Z
UID:10000036-1753009200-1753018200@nkindivisible.com
SUMMARY:CANCELLED  Poulsbo  Weekly Democracy Rally/March
DESCRIPTION:CANCELLED for July 20.  Next rally July 27 \nHosted by Poulsbo for All and North Kitsap Indivisible. \n 
URL:https://nkindivisible.com/event/poulsbo-weekly-democracy-rally-march/
END:VEVENT
BEGIN:VEVENT
DTSTART;TZID=America/Los_Angeles:20250718T160000
DTEND;TZID=America/Los_Angeles:20250718T173000
DTSTAMP:20260424T005257
CREATED:20250624T064521Z
LAST-MODIFIED:20250624T064521Z
UID:10000031-1752854400-1752859800@nkindivisible.com
SUMMARY:Swing Left– Fridays @4 Letter Writing and More
DESCRIPTION:Swing Left– Fridays @4 Letter Writing and More\n\nJuly 18 @ 4:00 pm – 5:30 pm\n\n\n\n\n\nThis is a weekly meeting via Zoom. Learn about the next letter writing campaign with Vote Forward.   And more: making phone calls\, using Bluesky…. \nSign up at https://swingleft.org/event/register/mobilize:274619?source=%2Fgroup%2Fswing-left-fridays-at-4-letter-writing-team&s=u
URL:https://nkindivisible.com/event/swing-left-fridays-4-letter-writing-and-more-2/
END:VEVENT
BEGIN:VEVENT
DTSTART;TZID=America/Los_Angeles:20250717T120000
DTEND;TZID=America/Los_Angeles:20250717T130000
DTSTAMP:20260424T005257
CREATED:20250620T080621Z
LAST-MODIFIED:20250620T080621Z
UID:10000024-1752753600-1752757200@nkindivisible.com
SUMMARY:What’s the Plan? With Indivisible Co-Founders
DESCRIPTION:Thursday\,  July 17 @ 12:00 pm – 1:00 pm  Pacific Time\n\n\n\n\n\n\nVirtual event \nJoin from anywhere\n\n\nJoin Indivisible co-founders Leah Greenberg and Ezra Levin each week\, as we carve out an hour to discuss what’s happening and – more importantly – what’s the plan?\n\nRSVP: https://www.mobilize.us/indivisible/event/773746/
URL:https://nkindivisible.com/event/whats-the-plan-with-indivisible-co-founders-4/
END:VEVENT
BEGIN:VEVENT
DTSTART;TZID=America/Los_Angeles:20250717T000000
DTEND;TZID=America/Los_Angeles:20250717T235959
DTSTAMP:20260424T005257
CREATED:20250701T064143Z
LAST-MODIFIED:20250701T064143Z
UID:10000038-1752710400-1752796799@nkindivisible.com
SUMMARY:Good Trouble Lives On - National Day of Action
DESCRIPTION:Thursday July 17th – Time/Locations TBD \nGood Trouble Lives On mobilization – National Day of Action\, (details to be determined) \nGood Trouble Lives On refers to a term popularized by the late Rep. John Lewis\, who has described his significant involvement and leadership in the 1960s civil rights movement — he was an original Freedom Rider and an organizer of the March on Washington in 1963 — as “good trouble” and “necessary trouble.” Over the years\, the Georgia lawmaker’s use of the phrase good trouble has served as a reminder of the importance of activism.
URL:https://nkindivisible.com/event/good-trouble-lives-on-national-day-of-action/
END:VEVENT
BEGIN:VEVENT
DTSTART;TZID=America/Los_Angeles:20250716T170000
DTEND;TZID=America/Los_Angeles:20250716T183000
DTSTAMP:20260424T005257
CREATED:20250711T060835Z
LAST-MODIFIED:20250711T061622Z
UID:10000043-1752685200-1752690600@nkindivisible.com
SUMMARY:One Million Rising: Strategic Non-Cooperation to Fight Authoritarianism #1
DESCRIPTION:One Million Rising: Strategic Non-Cooperation to Fight Authoritarianism\n\n\n\nTime  Wednesdays  5 – 6:30pm PDT\n         July 16       July 30      August 13\n\n\n\n\n\n\nLocation  Virtual event    Join from anywhere\nTo register: One Million Rising: Strategic Non-Cooperation to Fight Authoritarianism › \n  \n\nAbout this event\n\n\n\n\n\n\nAcross the country\, authoritarian forces are getting bolder and more dangerous. Trump and his allies are not hiding their agenda: mass deportations\, rollbacks of civil rights\, weaponized courts\, and full-scale attacks on our democracy. We don’t have to wait until it’s too late. We can stop this. But it’ll take all of us—not just on single days of mass action\, but through sustained organizing in our communities. \nThat’s why this summer\, we’re launching One Million Rising—a national effort to train one million people in the strategic logic and practice of non-cooperation\, as well as the basics of community organizing and campaign design. This is how we build people power that can’t be ignored. You’re invited to join us—and lead. \nLet’s build a force bigger than fear and louder than hate. Let’s get ready. Let’s get organized. Let’s stop Trump. \nSession 1: The Moment & Your Mission – July 16 Get oriented to making meaning of this moment and the role you can play in coordinated strategic action. \nSession 2: How to Make it Happen – July 30 This train-the-trainer session is how we get to one million. Learn not just our strategy\, but how you can train others and get them on board. You’ll host your first community resistance gathering after this session. \nSession 3: What Now? – August 13 You’ll be onboarded to basic campaign design and learn how to implement it locally as well as get plugged into our next national campaign work. Your second community resistance gathering will move this action forward. \nSign up for all 3 sessions to get the most out of this experience. Watch it live with a friend in person\, and get ready now to host your own community resistance gatherings after the second and third sessions. This is how we get to 1 million!
URL:https://nkindivisible.com/event/one-million-rising-strategic-non-cooperation-to-fight-authoritarianism-1/
END:VEVENT
BEGIN:VEVENT
DTSTART;TZID=America/Los_Angeles:20250713T110000
DTEND;TZID=America/Los_Angeles:20250713T130000
DTSTAMP:20260424T005257
CREATED:20250624T064724Z
LAST-MODIFIED:20250701T061414Z
UID:10000032-1752404400-1752411600@nkindivisible.com
SUMMARY:Poulsbo Weekly Democracy March/Rally
DESCRIPTION:Poulsbo Weekly Democracy March/Rally\n\n\nSunday\, 13 July \n\n\n11:00 am – 1:00 pm \n\n\n\n18809 Anderson Pkwy\, Poulsbo\, WA 98370\, USA\n\n\n\nMeet at Poulsbo’s Waterfront Park Gazebo at 11AM to march and rally for democracy.
URL:https://nkindivisible.com/event/poulsbo-weekly-march-rally-3/
END:VEVENT
BEGIN:VEVENT
DTSTART;TZID=America/Los_Angeles:20250713T110000
DTEND;TZID=America/Los_Angeles:20250713T130000
DTSTAMP:20260424T005257
CREATED:20250620T075045Z
LAST-MODIFIED:20250620T075045Z
UID:10000022-1752404400-1752411600@nkindivisible.com
SUMMARY:Pramila's Resistance Lab
DESCRIPTION:Pramila Jayapal knew we need a way to turn our anger\, fear\, and frustration into action and progress. That’s exactly why she launched The Resistance Lab\, an in-depth organizing training to build our movement and give you the tools you need in this moment. \nThe scary truth is that democracies fall in a matter of months. So this is an immediate\, urgent matter – and we need to quickly build our capacity to resist.  \nThe Resistance Lab is a series of trainings that are developed specifically for this moment. In this first lab\, we look at how non-violent movements around the world have responded to leaders who seize power in authoritarian ways and the most effective tools and tactics to utilize in these moments. We offer frameworks to understand this moment at home\, and incorporate interactive conversation with others to help create community and build our resistance movement.  \nUse the link below for more information and to sign up for training on July 13  11 AM -1 PM Pacific Time \nhttps://www.mobilize.us/pramilaforcongress/event/805374/ \n  \n 
URL:https://nkindivisible.com/event/pramilas-resistance-lab/
END:VEVENT
BEGIN:VEVENT
DTSTART;TZID=America/Los_Angeles:20250712T100000
DTEND;TZID=America/Los_Angeles:20250712T130000
DTSTAMP:20260424T005257
CREATED:20250701T062047Z
LAST-MODIFIED:20250701T062047Z
UID:10000035-1752314400-1752325200@nkindivisible.com
SUMMARY:Intro to Unarmed Civilian Protection
DESCRIPTION:Saturday July 12th 1-4:00pm ET     (or 10AM-1PM Pacific Time)\nLocation: ONLINE; Zoom link provided in the confirmation window that will pop up after you complete registration. It will also be sent via email about 24 hrs. before the session \nContact: Sal Corbin at sal.corbin@yahoo.com\n\nUnarmed Civilian Protection and Accompaniment is a methodology for teams that offer direct protection of civilians and others\, reduction of hostility\, re-humanization of parties\, as well as increasing local peace infrastructures. This workshop will be largely experiential and learning-by-doing. The skills learned can be modified and applied in many facets of life\, including political demonstrations\, local events\, accompaniment of those in danger\, neighborhood conflicts\, and international conflicts. \nObjectives:\n1) Sharing experiences of unarmed protection and accompaniment\n2) An increased awareness of the orientation\, strategies\, methods\, and impact of unarmed civilian protection\n3) Acquiring skills by role-playing how peace teams use these strategies and tactics in local community conflicts \n\nPayment is requested on a sliding scale. Please consider $50-$100 to support our work and help us better serve the community. No one will be turned away for lack of payment and we welcome you either way. \nAfter completing registration below\, please submit payment today–https://ssl.charityweb.net/dcpeaceteam/training.htm; or checks can be written out to DC Peace Team and mailed to Eli McCarthy\, 7305 Baylor Ave. College Park\, MD 20740.\n\nFacilitator:\nSal Corbin worked for 15 years in academia as a Psychology Professor before transitioning to nonprofit work with reentry\, homelessness\, and substance use recovery. He has done workforce development training and program management and built the Restorative Justice program with the DC Peace Team and is the Training Coordinator for the Behavioral Health System of Baltimore. His vision is to build and maintain healthy relationships with conflict transformation as the primary focus. His extensive background in leadership facilitation supports his efforts to keep showing up and sharing. He holds degrees in Clinical (M.S.) and Educational (PhD) Psychology.\n  \nRSVP: \nhttps://docs.google.com/forms/d/e/1FAIpQLScaj76V81Iv6XyidwkZd15wVh3rYHTbrcZRDb5kcYxCae9xVg/viewform
URL:https://nkindivisible.com/event/intro-to-unarmed-civilian-protection/
END:VEVENT
BEGIN:VEVENT
DTSTART;TZID=America/Los_Angeles:20250711T160000
DTEND;TZID=America/Los_Angeles:20250711T173000
DTSTAMP:20260424T005257
CREATED:20250620T224133Z
LAST-MODIFIED:20250620T224133Z
UID:10000027-1752249600-1752255000@nkindivisible.com
SUMMARY:Swing Left– Fridays @4 Letter Writing and More
DESCRIPTION:Swing Left– Fridays @4 Letter Writing and More\n\nJuly 11 @ 4:00 pm – 5:30 pm\n\n\n\n\n\nThis is a weekly meeting via Zoom. Learn about the next letter writing campaign with Vote Forward.   And more: making phone calls\, using Bluesky…. \nSign up at https://swingleft.org/event/register/mobilize:274619?source=%2Fgroup%2Fswing-left-fridays-at-4-letter-writing-team&s=u
URL:https://nkindivisible.com/event/swing-left-fridays-4-letter-writing-and-more/
END:VEVENT
BEGIN:VEVENT
DTSTART;TZID=America/Los_Angeles:20250710T190000
DTEND;TZID=America/Los_Angeles:20250710T210000
DTSTAMP:20260424T005257
CREATED:20250701T061008Z
LAST-MODIFIED:20250701T061008Z
UID:10000034-1752174000-1752181200@nkindivisible.com
SUMMARY:Online candidate debate for North Kitsap School District Position 1
DESCRIPTION:Online candidate debate for North Kitsap School District Position 1 \nHosted by North Kitsap Indivisible. Details to follow. \nThis is a virtual event.  Attend via Zoom. \nPosition 3 will not be on the August Primary so we will not have a debate for those 2 candidates until after the primary. \nRegister here: \n https://us02web.zoom.us/meeting/register/hrb_PyP9TCO0b0Mh_5HDyg#/registration
URL:https://nkindivisible.com/event/online-candidate-debate-for-north-kitsap-school-district-position-1/
END:VEVENT
BEGIN:VEVENT
DTSTART;TZID=America/Los_Angeles:20250710T120000
DTEND;TZID=America/Los_Angeles:20250710T130000
DTSTAMP:20260424T005257
CREATED:20250620T080405Z
LAST-MODIFIED:20250620T080712Z
UID:10000023-1752148800-1752152400@nkindivisible.com
SUMMARY:What's the Plan?  With Indivisible Co-Founders
DESCRIPTION:Thursday July 10\, 2025 \n12-1 pm  Pacific Time\n\n\n\nVirtual event \nJoin from anywhere\n\n\nJoin Indivisible co-founders Leah Greenberg and Ezra Levin each week\, as we carve out an hour to discuss what’s happening and – more importantly – what’s the plan?\nRSVP: https://www.mobilize.us/indivisible/event/773746/
URL:https://nkindivisible.com/event/whats-the-plan-with-indivisible-co-founders-3/
END:VEVENT
BEGIN:VEVENT
DTSTART;TZID=America/Los_Angeles:20250706T110000
DTEND;TZID=America/Los_Angeles:20250706T130000
DTSTAMP:20260424T005257
CREATED:20250624T064251Z
LAST-MODIFIED:20250701T061309Z
UID:10000030-1751799600-1751806800@nkindivisible.com
SUMMARY:Poulsbo Weekly Democracy March/Rally
DESCRIPTION:Weekly March/Rally\n\n\nSunday\, 06 July \n\n\n11:00 am – 1:00 pm \n\n\n\n18809 Anderson Pkwy\, Poulsbo\, WA 98370\, USA\n\n\n\nMeet at Poulsbo’s Waterfront Park Gazebo at 11AM to march and rally for democracy.
URL:https://nkindivisible.com/event/poulsbo-weekly-march-rally-2/
END:VEVENT
BEGIN:VEVENT
DTSTART;TZID=America/Los_Angeles:20250704T100000
DTEND;TZID=America/Los_Angeles:20250704T170000
DTSTAMP:20260424T005257
CREATED:20250609T234955Z
LAST-MODIFIED:20250620T075542Z
UID:10000011-1751623200-1751648400@nkindivisible.com
SUMMARY:Kingston 4th Parade
DESCRIPTION:This event has changed.  NKI will not be marching in the parade and will not have a table. \nPrevious plan:      NKI is scheduled to march in the parade and to have a table at the Village Green before and after the parade.  Volunteers are needed.  Please contact Diana Allen for information about participating.
URL:https://nkindivisible.com/event/kingston-4th-parade-and-table/
END:VEVENT
BEGIN:VEVENT
DTSTART;TZID=America/Los_Angeles:20250703T120000
DTEND;TZID=America/Los_Angeles:20250703T130000
DTSTAMP:20260424T005257
CREATED:20250610T021313Z
LAST-MODIFIED:20250620T080058Z
UID:10000016-1751544000-1751547600@nkindivisible.com
SUMMARY:What's the Plan? with Indivisible co-founders
DESCRIPTION:Wednesday July 3\, 2025 \n12-1 pm  Pacific Time\n\n\n\nVirtual event \nJoin from anywhere\n\n\nJoin Indivisible co-founders Leah Greenberg and Ezra Levin each week\, as we carve out an hour to discuss what’s happening and – more importantly – what’s the plan?\nRSVP: https://www.mobilize.us/indivisible/event/773746/
URL:https://nkindivisible.com/event/whats-the-plan-with-indivisible-co-founders-2/
END:VEVENT
BEGIN:VEVENT
DTSTART;TZID=America/Los_Angeles:20250629T110000
DTEND;TZID=America/Los_Angeles:20250629T130000
DTSTAMP:20260424T005257
CREATED:20250624T064103Z
LAST-MODIFIED:20250624T064103Z
UID:10000029-1751194800-1751202000@nkindivisible.com
SUMMARY:Poulsbo Weekly March/Rally
DESCRIPTION:Poulsbo Weekly March/Rally\n\n\nSunday\, 29 June \n\n\n11:00 am – 1:00 pm \n\n\n\n18809 Anderson Pkwy\, Poulsbo\, WA 98370\, USA\n\n\n\nMeet at Poulsbo’s Waterfront Park Gazebo at 11AM to march and rally for democracy.
URL:https://nkindivisible.com/event/poulsbo-weekly-march-rally/
END:VEVENT
BEGIN:VEVENT
DTSTART;TZID=America/Los_Angeles:20250628T163000
DTEND;TZID=America/Los_Angeles:20250628T173000
DTSTAMP:20260424T005257
CREATED:20250620T081905Z
LAST-MODIFIED:20250620T081905Z
UID:10000026-1751128200-1751131800@nkindivisible.com
SUMMARY:Kingston rally and march for Democracy
DESCRIPTION:Saturday\, June 28\, 4:30pm at Kola Kole Park. \n  \n 
URL:https://nkindivisible.com/event/kingston-rally-and-march-for-democracy/
END:VEVENT
BEGIN:VEVENT
DTSTART;TZID=America/Los_Angeles:20250627T160000
DTEND;TZID=America/Los_Angeles:20250627T173000
DTSTAMP:20260424T005257
CREATED:20250612T055053Z
LAST-MODIFIED:20250620T223829Z
UID:10000019-1751040000-1751045400@nkindivisible.com
SUMMARY:Swing Left  Fridays @ 4  Letter Writing and More
DESCRIPTION:Swing Left– Fridays @4 Letter Writing and More\n\nJune 27 @ 4:00 pm – 5:30 pm\n\n\n\n\n\nThis is a weekly meeting via Zoom. Learn about the next letter writing campaign with Vote Forward. \nSign up at https://swingleft.org/event/register/mobilize:274619?source=%2Fgroup%2Fswing-left-fridays-at-4-letter-writing-team&s=u
URL:https://nkindivisible.com/event/fridays-4-2/
END:VEVENT
BEGIN:VEVENT
DTSTART;TZID=America/Los_Angeles:20250626T180000
DTEND;TZID=America/Los_Angeles:20250626T190000
DTSTAMP:20260424T005257
CREATED:20250624T063637Z
LAST-MODIFIED:20250624T063731Z
UID:10000028-1750960800-1750964400@nkindivisible.com
SUMMARY:WAISN Training: Rapid Response / Respuesta Rapida
DESCRIPTION:Jun 26\, 2025 06:00 PM  Pacific Time\nRegister: \nhttps://us02web.zoom.us/meeting/register/vhymrFaBQESewBRUEUcoqQ#/registration?blm_aid=198089729 \nDescription\nBilingual training in English and Spanish\nOur community must urgently begin to prepare\, inform and organize in the face of this situation and know that in their area there are groups that can document any immigration enforcement activity in the community.\nJoin this workshop to learn more about existing rapid response networks that support communities.
URL:https://nkindivisible.com/event/waisn-training-rapid-response-respuesta-rapida/
END:VEVENT
BEGIN:VEVENT
DTSTART;TZID=America/Los_Angeles:20250626T120000
DTEND;TZID=America/Los_Angeles:20250626T130000
DTSTAMP:20260424T005257
CREATED:20250610T020703Z
LAST-MODIFIED:20250620T075918Z
UID:10000015-1750939200-1750942800@nkindivisible.com
SUMMARY:What's the Plan? with Indivisible co-founders
DESCRIPTION:Wednesday June 26\, 2025 \n12-1 PM Pacific Time\n\n\n\nVirtual event \nJoin from anywhere\n\n\nJoin Indivisible co-founders Leah Greenberg and Ezra Levin each week\, as we carve out an hour to discuss what’s happening and – more importantly – what’s the plan?\nRSVP: https://www.mobilize.us/indivisible/event/773746/
URL:https://nkindivisible.com/event/whats-the-plan-with-indivisible-co-founders/
END:VEVENT
BEGIN:VEVENT
DTSTART;TZID=America/Los_Angeles:20250624T170000
DTEND;TZID=America/Los_Angeles:20250624T180000
DTSTAMP:20260424T005257
CREATED:20250624T065752Z
LAST-MODIFIED:20250624T065752Z
UID:10000033-1750784400-1750788000@nkindivisible.com
SUMMARY:Healthcare Not Warfare
DESCRIPTION:Healthcare Not Warfare\nVirtual Community Event\n\n\n\n\n\n\n\n\n\n\n\n\n\n\n\n \n\n\nTime\n\n\nTuesday\, June 24\n5 – 6pm  Pacific Time\n\n\n\n\n \n\n\nLocation\n\nVirtual event \nJoin from anywhere\nsign up:\nhttps://www.mobilize.us/moveon/event/806674/?utm_source=indivisible
URL:https://nkindivisible.com/event/healthcare-not-warfare/
END:VEVENT
BEGIN:VEVENT
DTSTART;TZID=America/Los_Angeles:20250620T160000
DTEND;TZID=America/Los_Angeles:20250620T173000
DTSTAMP:20260424T005257
CREATED:20250610T023837Z
LAST-MODIFIED:20250610T023837Z
UID:10000018-1750435200-1750440600@nkindivisible.com
SUMMARY:Swing Left-- Fridays @4   Letter Writing
DESCRIPTION:June 20 @ 4:00 pm – 5:30 pm\n\n\n\nThis is a weekly meeting via Zoom. Learn about the next letter writing campaign with Vote Forward. \nSign up at https://swingleft.org/event/register/mobilize:274619?source=%2Fgroup%2Fswing-left-fridays-at-4-letter-writing-team&s=u
URL:https://nkindivisible.com/event/swing-left-fridays-4-letter-writing/
END:VEVENT
BEGIN:VEVENT
DTSTART;TZID=America/Los_Angeles:20250618T150000
DTEND;TZID=America/Los_Angeles:20250618T160000
DTSTAMP:20260424T005257
CREATED:20250610T020246Z
LAST-MODIFIED:20250610T020330Z
UID:10000014-1750258800-1750262400@nkindivisible.com
SUMMARY:What's the Plan? with Indivisible's co-founders
DESCRIPTION:Wednesday June 18\, 2025 \n3 – 4pm EDT\n\n\n\nVirtual event \nJoin from anywhere\n\n\nJoin Indivisible co-founders Leah Greenberg and Ezra Levin each week\, as we carve out an hour to discuss what’s happening and – more importantly – what’s the plan?\nRSVP: https://www.mobilize.us/indivisible/event/773746/
URL:https://nkindivisible.com/event/whats-the-plan-with-indivisibles-co-founders-2/
END:VEVENT
BEGIN:VEVENT
DTSTART;TZID=America/Los_Angeles:20250616T170000
DTEND;TZID=America/Los_Angeles:20250616T180000
DTSTAMP:20260424T005257
CREATED:20250615T081031Z
LAST-MODIFIED:20250615T081031Z
UID:10000020-1750093200-1750096800@nkindivisible.com
SUMMARY:No Kings: What's Next in the Fight? Debrief Call
DESCRIPTION:No Kings: What’s Next in the Fight?\nDate & Time    Monday Jun 16\, 2025    5:00 -6:00 PM (PDT)\n\n\nDescription\nOn June 14\, we told our governments and communities: No Kings!\nJoin us on Monday night after the big day for a debrief call for everyone across the movement who attended a No Kings event.\nWe’ll talk about what we accomplished and what’s next in the fight.
URL:https://nkindivisible.com/event/no-kings-whats-next-in-the-fight-debrief-call/
END:VEVENT
BEGIN:VEVENT
DTSTART;TZID=America/Los_Angeles:20250614T163000
DTEND;TZID=America/Los_Angeles:20250614T180000
DTSTAMP:20260424T005257
CREATED:20250609T214755Z
LAST-MODIFIED:20250609T214930Z
UID:10000007-1749918600-1749924000@nkindivisible.com
SUMMARY:No Kings - Kingston
DESCRIPTION:Kola Kole Park    Kingston\, WA 98346\n4:30-6:00 PM \nRSVP (and link to map): https://www.mobilize.us/nokings/event/797230/?utm_source=thirdact
URL:https://nkindivisible.com/event/no-kings-kingston/
END:VEVENT
BEGIN:VEVENT
DTSTART;TZID=America/Los_Angeles:20250614T101500
DTEND;TZID=America/Los_Angeles:20250614T150000
DTSTAMP:20260424T005257
CREATED:20250521T234507Z
LAST-MODIFIED:20250611T193735Z
UID:10000005-1749896100-1749913200@nkindivisible.com
SUMMARY:Bremerton Juneteenth Freedom March
DESCRIPTION:The march will start at Norm Dicks Government Center and proceed to Rotary Park. \nMore info here
URL:https://nkindivisible.com/event/bremerton-juneteenth-freedom-march/
END:VEVENT
BEGIN:VEVENT
DTSTART;TZID=America/Los_Angeles:20250614T081500
DTEND;TZID=America/Los_Angeles:20250614T091500
DTSTAMP:20260424T005257
CREATED:20250521T233845Z
LAST-MODIFIED:20250521T233931Z
UID:10000004-1749888900-1749892500@nkindivisible.com
SUMMARY:NO KINGS Silent Peace March in Poulsbo
DESCRIPTION:Note: we’ve moved the time of this event to accomodate Bremerton’s Juneteenth celebration. \nWhile Trump revels in his megalomaniacal show of military force birthday party in the nation’s capital on June 14\, we will join nationwide demonstrations with a NO KINGS march! \nWe will have a Silent Peace March\, 8:30-9:15am (coinciding in real-time with the extravaganza in D.C.) We will gather at Poulsbo City Hall with signs and march promptly to Front Street for the loop and back IN SILENCE. No speakers\, no chants\, no music – a truly silent and focused demonstration. We encourage people to bring signs that say either NO KINGS! or PEACE. This gives us time to make our point and move on to continue the day. \nBremerton’s Juneteenth organizers are inviting democracy groups throughout Kitsap to rally with them at the Norm Dicks Building in Bremerton at 10:15 and join the Freedom March to Evergreen Rotary Park for the festival
URL:https://nkindivisible.com/event/no-kings-silent-peace-march-in-poulsbo/
LOCATION:Poulsbo City Hall
END:VEVENT
BEGIN:VEVENT
DTSTART;TZID=America/Los_Angeles:20250613T160000
DTEND;TZID=America/Los_Angeles:20250613T170000
DTSTAMP:20260424T005257
CREATED:20250609T212459Z
LAST-MODIFIED:20250609T231206Z
UID:10000006-1749830400-1749834000@nkindivisible.com
SUMMARY:Fridays @ 4
DESCRIPTION:This is a weekly meeting via Zoom.  Training for letter writing and and other actions.  Sign up at https://swingleft.org/event/register/mobilize:274619?source=%2Fgroup%2Fswing-left-fridays-at-4-letter-writing-team&s=u \n 
URL:https://nkindivisible.com/event/fridays-4/
END:VEVENT
END:VCALENDAR