BEGIN:VCALENDAR
VERSION:2.0
PRODID:-//North Kitsap Indivisible - ECPv6.15.20//NONSGML v1.0//EN
CALSCALE:GREGORIAN
METHOD:PUBLISH
X-ORIGINAL-URL:https://nkindivisible.com
X-WR-CALDESC:Events for North Kitsap Indivisible
REFRESH-INTERVAL;VALUE=DURATION:PT1H
X-Robots-Tag:noindex
X-PUBLISHED-TTL:PT1H
BEGIN:VTIMEZONE
TZID:America/Los_Angeles
BEGIN:DAYLIGHT
TZOFFSETFROM:-0800
TZOFFSETTO:-0700
TZNAME:PDT
DTSTART:20260308T100000
END:DAYLIGHT
BEGIN:STANDARD
TZOFFSETFROM:-0700
TZOFFSETTO:-0800
TZNAME:PST
DTSTART:20261101T090000
END:STANDARD
BEGIN:DAYLIGHT
TZOFFSETFROM:-0800
TZOFFSETTO:-0700
TZNAME:PDT
DTSTART:20270314T100000
END:DAYLIGHT
BEGIN:STANDARD
TZOFFSETFROM:-0700
TZOFFSETTO:-0800
TZNAME:PST
DTSTART:20271107T090000
END:STANDARD
BEGIN:DAYLIGHT
TZOFFSETFROM:-0800
TZOFFSETTO:-0700
TZNAME:PDT
DTSTART:20280312T100000
END:DAYLIGHT
BEGIN:STANDARD
TZOFFSETFROM:-0700
TZOFFSETTO:-0800
TZNAME:PST
DTSTART:20281105T090000
END:STANDARD
END:VTIMEZONE
BEGIN:VEVENT
DTSTART;TZID=America/Los_Angeles:20270922T120000
DTEND;TZID=America/Los_Angeles:20270922T133000
DTSTAMP:20260423T163617
CREATED:20250913T052204Z
LAST-MODIFIED:20250914T195502Z
UID:10000515-1821614400-1821619800@nkindivisible.com
SUMMARY:Bainbridge Island Rally for America
DESCRIPTION:Wednesdays\, noon to 1:30 pm\nWhere: the intersection of 305 and Winslow Way.\nWhat: Signs in support of Ukraine\, Medicaid\, Social Security\, Medicare\, Education\, you name it.
URL:https://nkindivisible.com/event/bainbridge-island-rally-for-america-5/2027-09-22/
END:VEVENT
BEGIN:VEVENT
DTSTART;TZID=America/Los_Angeles:20270922T140000
DTEND;TZID=America/Los_Angeles:20270922T153000
DTSTAMP:20260423T163617
CREATED:20250913T052524Z
LAST-MODIFIED:20250914T202009Z
UID:10001155-1821621600-1821627000@nkindivisible.com
SUMMARY:Postcards on Wednesday-Indivisible Bainbridge Island
DESCRIPTION:Every Wednesday  from 2 pm to 3:30 pm.\nHosted by Indivisible Bainbridge Island\nWhere: Upstairs at the Town & Country Market \n\n\nEmail postcards@indivisiblebainbridgeisland.org to get on the reminder list.
URL:https://nkindivisible.com/event/postcards-on-wednesday-indivisible-bainbridge-island-3/2027-09-22/
END:VEVENT
BEGIN:VEVENT
DTSTART;TZID=America/Los_Angeles:20270922T160000
DTEND;TZID=America/Los_Angeles:20270922T173000
DTSTAMP:20260423T163617
CREATED:20250913T052647Z
LAST-MODIFIED:20250914T202223Z
UID:10001415-1821628800-1821634200@nkindivisible.com
SUMMARY:Rally-Indivisible Bremerton
DESCRIPTION:Every Wednesday from 4 to 5:30 pm.\nHosted by Indivisible Bremerton\nWhere:  Warren @ 15th\, Bremerton.\nJoin us for a peaceful low-key WEEKLY gathering. Bring your signs\, flags\,voices\, and friends. Whether you are a new or seasoned resister – you are welcome to join us.\nContact us at indivisiblebremerton@gmail.com
URL:https://nkindivisible.com/event/rally-indivisible-bremerton-3/2027-09-22/
END:VEVENT
BEGIN:VEVENT
DTSTART;TZID=America/Los_Angeles:20270924T160000
DTEND;TZID=America/Los_Angeles:20270924T170000
DTSTAMP:20260423T163617
CREATED:20250913T053001Z
LAST-MODIFIED:20250914T204719Z
UID:10002194-1821801600-1821805200@nkindivisible.com
SUMMARY:End Occupation of Palestine
DESCRIPTION:Every Friday from 4 to 5pm. Next Gathering pm September 5th\nWhere: Corner of Viking Way and Finn Hill Rd in Poulsbo\, In front of the Viking Statue\nBring signs
URL:https://nkindivisible.com/event/end-occupation-of-palestine-2/2027-09-24/
END:VEVENT
BEGIN:VEVENT
DTSTART;TZID=America/Los_Angeles:20270924T160000
DTEND;TZID=America/Los_Angeles:20270924T173000
DTSTAMP:20260423T163617
CREATED:20250914T061829Z
LAST-MODIFIED:20250914T201149Z
UID:10000255-1821801600-1821807000@nkindivisible.com
SUMMARY:Fridays @4 Letter Writing and More
DESCRIPTION:Swing Left– Fridays @4 Letter Writing and More\n\n\n\n\nThis is a weekly meeting via Zoom. Learn about the next letter writing campaign with Vote Forward.   And more: making phone calls to our elected officials\, sending postcards to voters\, using Bluesky…. \nSign up at https://swingleft.org/event/register/mobilize:274619?source=%2Fgroup%2Fswing-left-fridays-at-4-letter-writing-team&s=u
URL:https://nkindivisible.com/event/fridays-4-letter-writing-and-more-3/2027-09-24/
END:VEVENT
BEGIN:VEVENT
DTSTART;TZID=America/Los_Angeles:20270925T094500
DTEND;TZID=America/Los_Angeles:20270925T111500
DTSTAMP:20260423T163617
CREATED:20251129T010238Z
LAST-MODIFIED:20251129T010238Z
UID:10003520-1821865500-1821870900@nkindivisible.com
SUMMARY:Signs of Fascism\, Kingston
DESCRIPTION:Hosted by Kingston Alliance for Democracy\nWhere: Kola Kole Park near the ferry dock\, 26100 Bannister St NE\, Kingston\nThe Kingston Alliance for Democracy will be holding the “Signs of Fascism” as the ferry traffic goes by. It is very powerful. We furnish the signs. Wear all black\, dress warm\, and plan for rain. We have a few black umbrellas! Watch the video and you can see what it looks like here.
URL:https://nkindivisible.com/event/signs-of-fascism-kingston/2027-09-25/
END:VEVENT
BEGIN:VEVENT
DTSTART;TZID=America/Los_Angeles:20270925T123000
DTEND;TZID=America/Los_Angeles:20270925T140000
DTSTAMP:20260423T163617
CREATED:20260401T195608Z
LAST-MODIFIED:20260401T195610Z
UID:10004097-1821875400-1821880800@nkindivisible.com
SUMMARY:NKI Sign-Waving
DESCRIPTION:Hosted by North Kitsap Indivisible.\nWhere: George’s Corner\, the intersection of Bond Rd and Hansville Hwy (27000 Miller Bay Rd NE Kingston)\nBring your signs\, your determination to sink the tRump ship and your friends! We have extra signs so don’t let that be a barrier.
URL:https://nkindivisible.com/event/nki-sign-waving-2-3-2-3/2027-09-25/
END:VEVENT
BEGIN:VEVENT
DTSTART;TZID=America/Los_Angeles:20270926T110000
DTEND;TZID=America/Los_Angeles:20270926T133000
DTSTAMP:20260423T163617
CREATED:20251129T005609Z
LAST-MODIFIED:20260412T203903Z
UID:10001675-1821956400-1821965400@nkindivisible.com
SUMMARY:Poulsbo Weekly Democracy Rally
DESCRIPTION:Hosted by Poulsbo For All. \nWhere: Meet at the gazebo\, waterfront park.\nBring your signs\, your friends\, and your determination stand up for democracy. This is a peaceful event\, and it starts with an inspiring talk by Dr. Claudia Gorbman. Then attendees march with chants and signs\, and ending with open mike and inspirational comments from attendees at the gazebo. \nDuring winter months\, event may be called off due to weather.
URL:https://nkindivisible.com/event/poulsbo-weekly-democracy-rally-2-2/2027-09-26/
END:VEVENT
BEGIN:VEVENT
DTSTART;TZID=America/Los_Angeles:20270926T124500
DTEND;TZID=America/Los_Angeles:20270926T141500
DTSTAMP:20260423T163617
CREATED:20250902T064758Z
LAST-MODIFIED:20250914T204902Z
UID:10002402-1821962700-1821968100@nkindivisible.com
SUMMARY:Free Palestine-Bainbridge Island
DESCRIPTION:Alternate Sundays between Bainbridge Island and Kingston.\nWhere: Stop light near Ferry Terminal
URL:https://nkindivisible.com/event/free-palestine-bainbridge-island/2027-09-26/
END:VEVENT
BEGIN:VEVENT
DTSTART;TZID=America/Los_Angeles:20270926T160000
DTEND;TZID=America/Los_Angeles:20270926T170000
DTSTAMP:20260423T163617
CREATED:20260119T084057Z
LAST-MODIFIED:20260119T084057Z
UID:10003706-1821974400-1821978000@nkindivisible.com
SUMMARY:End the Occupation - Free Palestine Rally - Bremerton
DESCRIPTION:Hosted by Kitsap Palestine Solidarity Coalition Where: Manette Circle (East end of Manette bridge)
URL:https://nkindivisible.com/event/end-the-occupation-free-palestine-rally-bremerton/2027-09-26/
END:VEVENT
BEGIN:VEVENT
DTSTART;TZID=America/Los_Angeles:20270928T150000
DTEND;TZID=America/Los_Angeles:20270928T180000
DTSTAMP:20260423T163617
CREATED:20250913T052056Z
LAST-MODIFIED:20250914T211648Z
UID:10000955-1822143600-1822154400@nkindivisible.com
SUMMARY:Tuesdays at the VA Hospital\, Seattle
DESCRIPTION:Every 2nd and 4th Tuesday\, 3:00 to 6:00 PM\nTuesdays at the VA Hospital\nHosted by Veterans For Peace Daniel Ellsberg Chapter 92\, Seattle\nWhere: Location: 1660 S Columbian Way\, Seattle.\n\nJoin Veterans\, healthcare workers\, union members & supporters. No cuts to VA services\, no mass firings\, stop the Trump coup!
URL:https://nkindivisible.com/event/tuesdays-at-the-va-hospital-seattle-3/2027-09-28/
END:VEVENT
BEGIN:VEVENT
DTSTART;TZID=America/Los_Angeles:20270929T120000
DTEND;TZID=America/Los_Angeles:20270929T133000
DTSTAMP:20260423T163617
CREATED:20250913T052204Z
LAST-MODIFIED:20250914T195502Z
UID:10000516-1822219200-1822224600@nkindivisible.com
SUMMARY:Bainbridge Island Rally for America
DESCRIPTION:Wednesdays\, noon to 1:30 pm\nWhere: the intersection of 305 and Winslow Way.\nWhat: Signs in support of Ukraine\, Medicaid\, Social Security\, Medicare\, Education\, you name it.
URL:https://nkindivisible.com/event/bainbridge-island-rally-for-america-5/2027-09-29/
END:VEVENT
BEGIN:VEVENT
DTSTART;TZID=America/Los_Angeles:20270929T140000
DTEND;TZID=America/Los_Angeles:20270929T153000
DTSTAMP:20260423T163617
CREATED:20250913T052524Z
LAST-MODIFIED:20250914T202009Z
UID:10001156-1822226400-1822231800@nkindivisible.com
SUMMARY:Postcards on Wednesday-Indivisible Bainbridge Island
DESCRIPTION:Every Wednesday  from 2 pm to 3:30 pm.\nHosted by Indivisible Bainbridge Island\nWhere: Upstairs at the Town & Country Market \n\n\nEmail postcards@indivisiblebainbridgeisland.org to get on the reminder list.
URL:https://nkindivisible.com/event/postcards-on-wednesday-indivisible-bainbridge-island-3/2027-09-29/
END:VEVENT
BEGIN:VEVENT
DTSTART;TZID=America/Los_Angeles:20270929T160000
DTEND;TZID=America/Los_Angeles:20270929T173000
DTSTAMP:20260423T163617
CREATED:20250913T052647Z
LAST-MODIFIED:20250914T202223Z
UID:10001416-1822233600-1822239000@nkindivisible.com
SUMMARY:Rally-Indivisible Bremerton
DESCRIPTION:Every Wednesday from 4 to 5:30 pm.\nHosted by Indivisible Bremerton\nWhere:  Warren @ 15th\, Bremerton.\nJoin us for a peaceful low-key WEEKLY gathering. Bring your signs\, flags\,voices\, and friends. Whether you are a new or seasoned resister – you are welcome to join us.\nContact us at indivisiblebremerton@gmail.com
URL:https://nkindivisible.com/event/rally-indivisible-bremerton-3/2027-09-29/
END:VEVENT
BEGIN:VEVENT
DTSTART;TZID=America/Los_Angeles:20271001T160000
DTEND;TZID=America/Los_Angeles:20271001T170000
DTSTAMP:20260423T163617
CREATED:20250913T053001Z
LAST-MODIFIED:20250914T204719Z
UID:10002195-1822406400-1822410000@nkindivisible.com
SUMMARY:End Occupation of Palestine
DESCRIPTION:Every Friday from 4 to 5pm. Next Gathering pm September 5th\nWhere: Corner of Viking Way and Finn Hill Rd in Poulsbo\, In front of the Viking Statue\nBring signs
URL:https://nkindivisible.com/event/end-occupation-of-palestine-2/2027-10-01/
END:VEVENT
BEGIN:VEVENT
DTSTART;TZID=America/Los_Angeles:20271001T160000
DTEND;TZID=America/Los_Angeles:20271001T173000
DTSTAMP:20260423T163617
CREATED:20250914T061829Z
LAST-MODIFIED:20250914T201149Z
UID:10000256-1822406400-1822411800@nkindivisible.com
SUMMARY:Fridays @4 Letter Writing and More
DESCRIPTION:Swing Left– Fridays @4 Letter Writing and More\n\n\n\n\nThis is a weekly meeting via Zoom. Learn about the next letter writing campaign with Vote Forward.   And more: making phone calls to our elected officials\, sending postcards to voters\, using Bluesky…. \nSign up at https://swingleft.org/event/register/mobilize:274619?source=%2Fgroup%2Fswing-left-fridays-at-4-letter-writing-team&s=u
URL:https://nkindivisible.com/event/fridays-4-letter-writing-and-more-3/2027-10-01/
END:VEVENT
BEGIN:VEVENT
DTSTART;TZID=America/Los_Angeles:20271002T123000
DTEND;TZID=America/Los_Angeles:20271002T140000
DTSTAMP:20260423T163617
CREATED:20260401T195608Z
LAST-MODIFIED:20260401T195610Z
UID:10004098-1822480200-1822485600@nkindivisible.com
SUMMARY:NKI Sign-Waving
DESCRIPTION:Hosted by North Kitsap Indivisible.\nWhere: George’s Corner\, the intersection of Bond Rd and Hansville Hwy (27000 Miller Bay Rd NE Kingston)\nBring your signs\, your determination to sink the tRump ship and your friends! We have extra signs so don’t let that be a barrier.
URL:https://nkindivisible.com/event/nki-sign-waving-2-3-2-3/2027-10-02/
END:VEVENT
BEGIN:VEVENT
DTSTART;TZID=America/Los_Angeles:20271003T110000
DTEND;TZID=America/Los_Angeles:20271003T133000
DTSTAMP:20260423T163617
CREATED:20251129T005609Z
LAST-MODIFIED:20260412T203903Z
UID:10001676-1822561200-1822570200@nkindivisible.com
SUMMARY:Poulsbo Weekly Democracy Rally
DESCRIPTION:Hosted by Poulsbo For All. \nWhere: Meet at the gazebo\, waterfront park.\nBring your signs\, your friends\, and your determination stand up for democracy. This is a peaceful event\, and it starts with an inspiring talk by Dr. Claudia Gorbman. Then attendees march with chants and signs\, and ending with open mike and inspirational comments from attendees at the gazebo. \nDuring winter months\, event may be called off due to weather.
URL:https://nkindivisible.com/event/poulsbo-weekly-democracy-rally-2-2/2027-10-03/
END:VEVENT
BEGIN:VEVENT
DTSTART;TZID=America/Los_Angeles:20271003T124500
DTEND;TZID=America/Los_Angeles:20271003T141500
DTSTAMP:20260423T163617
CREATED:20250913T053215Z
LAST-MODIFIED:20250914T205035Z
UID:10002532-1822567500-1822572900@nkindivisible.com
SUMMARY:Free Palestine-Kingston
DESCRIPTION:Alternate Sundays between Bainbridge and Kingston.\nWhere: Kola Kole Park Sidewalk across from Coffee Oasis
URL:https://nkindivisible.com/event/free-palestine-kingston-2/2027-10-03/
END:VEVENT
BEGIN:VEVENT
DTSTART;TZID=America/Los_Angeles:20271003T160000
DTEND;TZID=America/Los_Angeles:20271003T170000
DTSTAMP:20260423T163617
CREATED:20260119T084057Z
LAST-MODIFIED:20260119T084057Z
UID:10003707-1822579200-1822582800@nkindivisible.com
SUMMARY:End the Occupation - Free Palestine Rally - Bremerton
DESCRIPTION:Hosted by Kitsap Palestine Solidarity Coalition Where: Manette Circle (East end of Manette bridge)
URL:https://nkindivisible.com/event/end-the-occupation-free-palestine-rally-bremerton/2027-10-03/
END:VEVENT
BEGIN:VEVENT
DTSTART;TZID=America/Los_Angeles:20271006T120000
DTEND;TZID=America/Los_Angeles:20271006T133000
DTSTAMP:20260423T163617
CREATED:20250913T052204Z
LAST-MODIFIED:20250914T195502Z
UID:10000517-1822824000-1822829400@nkindivisible.com
SUMMARY:Bainbridge Island Rally for America
DESCRIPTION:Wednesdays\, noon to 1:30 pm\nWhere: the intersection of 305 and Winslow Way.\nWhat: Signs in support of Ukraine\, Medicaid\, Social Security\, Medicare\, Education\, you name it.
URL:https://nkindivisible.com/event/bainbridge-island-rally-for-america-5/2027-10-06/
END:VEVENT
BEGIN:VEVENT
DTSTART;TZID=America/Los_Angeles:20271006T140000
DTEND;TZID=America/Los_Angeles:20271006T153000
DTSTAMP:20260423T163617
CREATED:20250913T052524Z
LAST-MODIFIED:20250914T202009Z
UID:10001157-1822831200-1822836600@nkindivisible.com
SUMMARY:Postcards on Wednesday-Indivisible Bainbridge Island
DESCRIPTION:Every Wednesday  from 2 pm to 3:30 pm.\nHosted by Indivisible Bainbridge Island\nWhere: Upstairs at the Town & Country Market \n\n\nEmail postcards@indivisiblebainbridgeisland.org to get on the reminder list.
URL:https://nkindivisible.com/event/postcards-on-wednesday-indivisible-bainbridge-island-3/2027-10-06/
END:VEVENT
BEGIN:VEVENT
DTSTART;TZID=America/Los_Angeles:20271006T160000
DTEND;TZID=America/Los_Angeles:20271006T173000
DTSTAMP:20260423T163617
CREATED:20250913T052647Z
LAST-MODIFIED:20250914T202223Z
UID:10001417-1822838400-1822843800@nkindivisible.com
SUMMARY:Rally-Indivisible Bremerton
DESCRIPTION:Every Wednesday from 4 to 5:30 pm.\nHosted by Indivisible Bremerton\nWhere:  Warren @ 15th\, Bremerton.\nJoin us for a peaceful low-key WEEKLY gathering. Bring your signs\, flags\,voices\, and friends. Whether you are a new or seasoned resister – you are welcome to join us.\nContact us at indivisiblebremerton@gmail.com
URL:https://nkindivisible.com/event/rally-indivisible-bremerton-3/2027-10-06/
END:VEVENT
BEGIN:VEVENT
DTSTART;TZID=America/Los_Angeles:20271008T160000
DTEND;TZID=America/Los_Angeles:20271008T170000
DTSTAMP:20260423T163617
CREATED:20250913T053001Z
LAST-MODIFIED:20250914T204719Z
UID:10002196-1823011200-1823014800@nkindivisible.com
SUMMARY:End Occupation of Palestine
DESCRIPTION:Every Friday from 4 to 5pm. Next Gathering pm September 5th\nWhere: Corner of Viking Way and Finn Hill Rd in Poulsbo\, In front of the Viking Statue\nBring signs
URL:https://nkindivisible.com/event/end-occupation-of-palestine-2/2027-10-08/
END:VEVENT
BEGIN:VEVENT
DTSTART;TZID=America/Los_Angeles:20271008T160000
DTEND;TZID=America/Los_Angeles:20271008T173000
DTSTAMP:20260423T163617
CREATED:20250914T061829Z
LAST-MODIFIED:20250914T201149Z
UID:10000257-1823011200-1823016600@nkindivisible.com
SUMMARY:Fridays @4 Letter Writing and More
DESCRIPTION:Swing Left– Fridays @4 Letter Writing and More\n\n\n\n\nThis is a weekly meeting via Zoom. Learn about the next letter writing campaign with Vote Forward.   And more: making phone calls to our elected officials\, sending postcards to voters\, using Bluesky…. \nSign up at https://swingleft.org/event/register/mobilize:274619?source=%2Fgroup%2Fswing-left-fridays-at-4-letter-writing-team&s=u
URL:https://nkindivisible.com/event/fridays-4-letter-writing-and-more-3/2027-10-08/
END:VEVENT
BEGIN:VEVENT
DTSTART;TZID=America/Los_Angeles:20271009T094500
DTEND;TZID=America/Los_Angeles:20271009T111500
DTSTAMP:20260423T163617
CREATED:20251129T010238Z
LAST-MODIFIED:20251129T010238Z
UID:10003521-1823075100-1823080500@nkindivisible.com
SUMMARY:Signs of Fascism\, Kingston
DESCRIPTION:Hosted by Kingston Alliance for Democracy\nWhere: Kola Kole Park near the ferry dock\, 26100 Bannister St NE\, Kingston\nThe Kingston Alliance for Democracy will be holding the “Signs of Fascism” as the ferry traffic goes by. It is very powerful. We furnish the signs. Wear all black\, dress warm\, and plan for rain. We have a few black umbrellas! Watch the video and you can see what it looks like here.
URL:https://nkindivisible.com/event/signs-of-fascism-kingston/2027-10-09/
END:VEVENT
BEGIN:VEVENT
DTSTART;TZID=America/Los_Angeles:20271009T123000
DTEND;TZID=America/Los_Angeles:20271009T140000
DTSTAMP:20260423T163617
CREATED:20260401T195608Z
LAST-MODIFIED:20260401T195610Z
UID:10004099-1823085000-1823090400@nkindivisible.com
SUMMARY:NKI Sign-Waving
DESCRIPTION:Hosted by North Kitsap Indivisible.\nWhere: George’s Corner\, the intersection of Bond Rd and Hansville Hwy (27000 Miller Bay Rd NE Kingston)\nBring your signs\, your determination to sink the tRump ship and your friends! We have extra signs so don’t let that be a barrier.
URL:https://nkindivisible.com/event/nki-sign-waving-2-3-2-3/2027-10-09/
END:VEVENT
BEGIN:VEVENT
DTSTART;TZID=America/Los_Angeles:20271010T110000
DTEND;TZID=America/Los_Angeles:20271010T133000
DTSTAMP:20260423T163617
CREATED:20251129T005609Z
LAST-MODIFIED:20260412T203903Z
UID:10001677-1823166000-1823175000@nkindivisible.com
SUMMARY:Poulsbo Weekly Democracy Rally
DESCRIPTION:Hosted by Poulsbo For All. \nWhere: Meet at the gazebo\, waterfront park.\nBring your signs\, your friends\, and your determination stand up for democracy. This is a peaceful event\, and it starts with an inspiring talk by Dr. Claudia Gorbman. Then attendees march with chants and signs\, and ending with open mike and inspirational comments from attendees at the gazebo. \nDuring winter months\, event may be called off due to weather.
URL:https://nkindivisible.com/event/poulsbo-weekly-democracy-rally-2-2/2027-10-10/
END:VEVENT
BEGIN:VEVENT
DTSTART;TZID=America/Los_Angeles:20271010T124500
DTEND;TZID=America/Los_Angeles:20271010T141500
DTSTAMP:20260423T163617
CREATED:20250902T064758Z
LAST-MODIFIED:20250914T204902Z
UID:10002403-1823172300-1823177700@nkindivisible.com
SUMMARY:Free Palestine-Bainbridge Island
DESCRIPTION:Alternate Sundays between Bainbridge Island and Kingston.\nWhere: Stop light near Ferry Terminal
URL:https://nkindivisible.com/event/free-palestine-bainbridge-island/2027-10-10/
END:VEVENT
BEGIN:VEVENT
DTSTART;TZID=America/Los_Angeles:20271010T160000
DTEND;TZID=America/Los_Angeles:20271010T170000
DTSTAMP:20260423T163617
CREATED:20260119T084057Z
LAST-MODIFIED:20260119T084057Z
UID:10003708-1823184000-1823187600@nkindivisible.com
SUMMARY:End the Occupation - Free Palestine Rally - Bremerton
DESCRIPTION:Hosted by Kitsap Palestine Solidarity Coalition Where: Manette Circle (East end of Manette bridge)
URL:https://nkindivisible.com/event/end-the-occupation-free-palestine-rally-bremerton/2027-10-10/
END:VEVENT
END:VCALENDAR