BEGIN:VCALENDAR
VERSION:2.0
PRODID:-//North Kitsap Indivisible - ECPv6.15.20//NONSGML v1.0//EN
CALSCALE:GREGORIAN
METHOD:PUBLISH
X-ORIGINAL-URL:https://nkindivisible.com
X-WR-CALDESC:Events for North Kitsap Indivisible
REFRESH-INTERVAL;VALUE=DURATION:PT1H
X-Robots-Tag:noindex
X-PUBLISHED-TTL:PT1H
BEGIN:VTIMEZONE
TZID:America/Los_Angeles
BEGIN:DAYLIGHT
TZOFFSETFROM:-0800
TZOFFSETTO:-0700
TZNAME:PDT
DTSTART:20250309T100000
END:DAYLIGHT
BEGIN:STANDARD
TZOFFSETFROM:-0700
TZOFFSETTO:-0800
TZNAME:PST
DTSTART:20251102T090000
END:STANDARD
BEGIN:DAYLIGHT
TZOFFSETFROM:-0800
TZOFFSETTO:-0700
TZNAME:PDT
DTSTART:20260308T100000
END:DAYLIGHT
BEGIN:STANDARD
TZOFFSETFROM:-0700
TZOFFSETTO:-0800
TZNAME:PST
DTSTART:20261101T090000
END:STANDARD
BEGIN:DAYLIGHT
TZOFFSETFROM:-0800
TZOFFSETTO:-0700
TZNAME:PDT
DTSTART:20270314T100000
END:DAYLIGHT
BEGIN:STANDARD
TZOFFSETFROM:-0700
TZOFFSETTO:-0800
TZNAME:PST
DTSTART:20271107T090000
END:STANDARD
END:VTIMEZONE
BEGIN:VEVENT
DTSTART;TZID=America/Los_Angeles:20260120T000000
DTEND;TZID=America/Los_Angeles:20260120T143000
DTSTAMP:20260422T164028
CREATED:20260110T082108Z
LAST-MODIFIED:20260110T082108Z
UID:10003609-1768867200-1768919400@nkindivisible.com
SUMMARY:Free America Walkout
DESCRIPTION:STAND UP TO FASCISM !! FREE AMERICA WALKOUT \nA multi-city protest across the Sound \nJanuary 20th 12:00-2:30PM \nKingston – Mike Wallace Park – Kingston Marina \nEdmonds – Sunset and Main Street – next to Edmonds Ferry \nJanuary 20th is the one-year anniversary of the inauguration of the tRump regime\, which started off pardoning all the insurrectionists from Jan. 6\, then terrorizing our communities with his private army of ICE goons. In the last 12-months\, the damage to our democracy and his self-enrichment are too much to list here. \nIn Kingston we start at Mike Wallace Park\, next to the Kingston Marina for opening remarks\, then walk up the hill to downtown Kingston and Highway 104. We will be led by a team dressed in black holding “Signs of Fascism” followed by all the sign wavers!   \nEdmonds will be doing something similar at the same time!!  \nWe Need YOU! Bring your signs\, your noise makers\, your enthusiasm and your friends.  \nSign up for Kingston: https://action.womensmarch.com/events/kingston-wa-free-america-walkout-signs-of-fascism \nSign up for Edmonds: https://mobilize.us/s/n4gmok \nSponsored by South Snohomish County Indivisible\, Kingston Alliance for Democracy and North Kitsap Indivisible
URL:https://nkindivisible.com/event/free-america-walkout/
END:VEVENT
BEGIN:VEVENT
DTSTART;TZID=America/Los_Angeles:20260121T120000
DTEND;TZID=America/Los_Angeles:20260121T133000
DTSTAMP:20260422T164028
CREATED:20250913T052204Z
LAST-MODIFIED:20250914T195502Z
UID:10000428-1768996800-1769002200@nkindivisible.com
SUMMARY:Bainbridge Island Rally for America
DESCRIPTION:Wednesdays\, noon to 1:30 pm\nWhere: the intersection of 305 and Winslow Way.\nWhat: Signs in support of Ukraine\, Medicaid\, Social Security\, Medicare\, Education\, you name it.
URL:https://nkindivisible.com/event/bainbridge-island-rally-for-america-5/2026-01-21/
END:VEVENT
BEGIN:VEVENT
DTSTART;TZID=America/Los_Angeles:20260121T140000
DTEND;TZID=America/Los_Angeles:20260121T153000
DTSTAMP:20260422T164028
CREATED:20250913T052524Z
LAST-MODIFIED:20250914T202009Z
UID:10001068-1769004000-1769009400@nkindivisible.com
SUMMARY:Postcards on Wednesday-Indivisible Bainbridge Island
DESCRIPTION:Every Wednesday  from 2 pm to 3:30 pm.\nHosted by Indivisible Bainbridge Island\nWhere: Upstairs at the Town & Country Market \n\n\nEmail postcards@indivisiblebainbridgeisland.org to get on the reminder list.
URL:https://nkindivisible.com/event/postcards-on-wednesday-indivisible-bainbridge-island-3/2026-01-21/
END:VEVENT
BEGIN:VEVENT
DTSTART;TZID=America/Los_Angeles:20260121T160000
DTEND;TZID=America/Los_Angeles:20260121T173000
DTSTAMP:20260422T164028
CREATED:20250913T052647Z
LAST-MODIFIED:20250914T202223Z
UID:10001328-1769011200-1769016600@nkindivisible.com
SUMMARY:Rally-Indivisible Bremerton
DESCRIPTION:Every Wednesday from 4 to 5:30 pm.\nHosted by Indivisible Bremerton\nWhere:  Warren @ 15th\, Bremerton.\nJoin us for a peaceful low-key WEEKLY gathering. Bring your signs\, flags\,voices\, and friends. Whether you are a new or seasoned resister – you are welcome to join us.\nContact us at indivisiblebremerton@gmail.com
URL:https://nkindivisible.com/event/rally-indivisible-bremerton-3/2026-01-21/
END:VEVENT
BEGIN:VEVENT
DTSTART;TZID=America/Los_Angeles:20260122T120000
DTEND;TZID=America/Los_Angeles:20260122T130000
DTSTAMP:20260422T164028
CREATED:20260208T235115Z
LAST-MODIFIED:20260409T201120Z
UID:10003957-1769083200-1769086800@nkindivisible.com
SUMMARY:What's The Plan with Indivisible Co-founders
DESCRIPTION:Join Indivisible co-founders Leah Greenberg and Ezra Levin each week\, as we carve out an hour to discuss what’s happening and – more importantly – what’s the plan?\n\nVirtual event. Sign up here.
URL:https://nkindivisible.com/event/whats-the-plan-with-indivisible-co-founders-15/2026-01-22/
LOCATION:
END:VEVENT
BEGIN:VEVENT
DTSTART;TZID=America/Los_Angeles:20260123T140000
DTEND;TZID=America/Los_Angeles:20260123T170000
DTSTAMP:20260422T164028
CREATED:20260122T202411Z
LAST-MODIFIED:20260122T202411Z
UID:10003880-1769176800-1769187600@nkindivisible.com
SUMMARY:ICE Out for Good - Bainbridge Island
DESCRIPTION:Location: Street Corners by Ferry\nWinslow Way East & Olympic Drive Southeast \nhttps://www.mobilize.us/indivisible/event/890293/ \nWednesday\, January 7th\, an American citizen was killed by Immigration and Customs Enforcement (ICE) in Minneapolis\, Minnesota. This killing is part of a broader pattern of unchecked violence\, impunity\, and abuse carried out by federal immigration enforcement agencies against members of our communities. \nA broad coalition of groups across the country is calling for a coordinated Ice Out For Good actions on Friday\, January 23rd in solidarity for Minnesota\, and to demand accountability\, honor the life lost\, and make visible the human cost of ICE’s actions. \nA core principle behind all ICE Out For Good events is a commitment to nonviolent action and no civil disobedience. We expect all participants to seek to de-escalate any potential confrontation with those who disagree with our values\, and to act lawfully at these events. Weapons of any kind\, including those legally permitted\, should not be brought to events. All events should be held in public spaces or on public property. Indivisible is managing data and communications with participants. By registering\, you agree to receive info from Indivisible about the event\, receive communications via e-mail or SMS message from Indivisible\, and receive any other updates and opportunities to take action or support ICE OUT FOR GOOD partner organizations. You also agree to have any data entered in this registration collected by Indivisible. Indivisible will treat your data according to our organization’s applicable privacy policy: https://indivisible.org/privacy-policy
URL:https://nkindivisible.com/event/ice-out-for-good-bainbridge-island/
END:VEVENT
BEGIN:VEVENT
DTSTART;TZID=America/Los_Angeles:20260123T160000
DTEND;TZID=America/Los_Angeles:20260123T170000
DTSTAMP:20260422T164028
CREATED:20250913T053001Z
LAST-MODIFIED:20250914T204719Z
UID:10002107-1769184000-1769187600@nkindivisible.com
SUMMARY:End Occupation of Palestine
DESCRIPTION:Every Friday from 4 to 5pm. Next Gathering pm September 5th\nWhere: Corner of Viking Way and Finn Hill Rd in Poulsbo\, In front of the Viking Statue\nBring signs
URL:https://nkindivisible.com/event/end-occupation-of-palestine-2/2026-01-23/
END:VEVENT
BEGIN:VEVENT
DTSTART;TZID=America/Los_Angeles:20260123T160000
DTEND;TZID=America/Los_Angeles:20260123T173000
DTSTAMP:20260422T164028
CREATED:20250914T061829Z
LAST-MODIFIED:20250914T201149Z
UID:10000168-1769184000-1769189400@nkindivisible.com
SUMMARY:Fridays @4 Letter Writing and More
DESCRIPTION:Swing Left– Fridays @4 Letter Writing and More\n\n\n\n\nThis is a weekly meeting via Zoom. Learn about the next letter writing campaign with Vote Forward.   And more: making phone calls to our elected officials\, sending postcards to voters\, using Bluesky…. \nSign up at https://swingleft.org/event/register/mobilize:274619?source=%2Fgroup%2Fswing-left-fridays-at-4-letter-writing-team&s=u
URL:https://nkindivisible.com/event/fridays-4-letter-writing-and-more-3/2026-01-23/
END:VEVENT
BEGIN:VEVENT
DTSTART;TZID=America/Los_Angeles:20260124T100000
DTEND;TZID=America/Los_Angeles:20260124T113000
DTSTAMP:20260422T164028
CREATED:20260117T190341Z
LAST-MODIFIED:20260117T190910Z
UID:10003612-1769248800-1769254200@nkindivisible.com
SUMMARY:Rep Nance Town Hall - Kingston
DESCRIPTION:Join WA Rep Greg Nance and Kitsap Commissioner Christine Rolfes for a town hall meeting. \nLocation: Kingston Village Green\, 26159 Dulay Rd.\, Kingston \nNance is holding other town halls as well: \nPoulsbo\, 1/19\, 2-3:30\, 200 Moe St. Poulsbo\nBainbridge\, 1/24\, 2-3:30\, Bainbridge City Hall\nBremerton\, 1/31\, 2-3:30\, Norm Dicks
URL:https://nkindivisible.com/event/rep-nance-town-hall-poulsbo-2/
END:VEVENT
BEGIN:VEVENT
DTSTART;TZID=America/Los_Angeles:20260124T121500
DTEND;TZID=America/Los_Angeles:20260124T133000
DTSTAMP:20260422T164028
CREATED:20260112T184816Z
LAST-MODIFIED:20260112T184817Z
UID:10003220-1769256900-1769261400@nkindivisible.com
SUMMARY:NKI Sign-Waving
DESCRIPTION:Where: George’s Corner at the intersection of Bond Rd (Hwy 104) and Miller Bay/Hansville Rd.  Parking at the Rite Aid lot. \nBring your own signs or we have extras. \nAfterwards we will head over to the Puerto Vallarta across the street for a friendly get-together!
URL:https://nkindivisible.com/event/nki-sign-waving-2-3/2026-01-24/
END:VEVENT
BEGIN:VEVENT
DTSTART;TZID=America/Los_Angeles:20260124T140000
DTEND;TZID=America/Los_Angeles:20260124T153000
DTSTAMP:20260422T164028
CREATED:20260117T190556Z
LAST-MODIFIED:20260117T191204Z
UID:10003613-1769263200-1769268600@nkindivisible.com
SUMMARY:Rep Nance Town Hall - Bainbridge
DESCRIPTION:Join WA Rep Greg Nance and Bainbridge Mayor Ashley Matthews for a town hall meeting. \nLocation: Bainbridge City Hall\, 280 Madison Ave N.\, Bainbridge \nNance is holding other town halls as well: \nPoulsbo\, 1/19\, 2-3:30\, Poulsbo City Hall\nKingston\, 1/24\, 10-11:30\, Kingston Village Green\nBremerton\, 1/31\, 2-3:30\, Norm Dicks
URL:https://nkindivisible.com/event/rep-nance-town-hall-bainbridge/
END:VEVENT
BEGIN:VEVENT
DTSTART;TZID=America/Los_Angeles:20260125T110000
DTEND;TZID=America/Los_Angeles:20260125T133000
DTSTAMP:20260422T164028
CREATED:20251129T005609Z
LAST-MODIFIED:20260412T203903Z
UID:10001588-1769338800-1769347800@nkindivisible.com
SUMMARY:Poulsbo Weekly Democracy Rally
DESCRIPTION:Hosted by Poulsbo For All. \nWhere: Meet at the gazebo\, waterfront park.\nBring your signs\, your friends\, and your determination stand up for democracy. This is a peaceful event\, and it starts with an inspiring talk by Dr. Claudia Gorbman. Then attendees march with chants and signs\, and ending with open mike and inspirational comments from attendees at the gazebo. \nDuring winter months\, event may be called off due to weather.
URL:https://nkindivisible.com/event/poulsbo-weekly-democracy-rally-2-2/2026-01-25/
END:VEVENT
BEGIN:VEVENT
DTSTART;TZID=America/Los_Angeles:20260125T124500
DTEND;TZID=America/Los_Angeles:20260125T141500
DTSTAMP:20260422T164028
CREATED:20250913T053215Z
LAST-MODIFIED:20250914T205035Z
UID:10002488-1769345100-1769350500@nkindivisible.com
SUMMARY:Free Palestine-Kingston
DESCRIPTION:Alternate Sundays between Bainbridge and Kingston.\nWhere: Kola Kole Park Sidewalk across from Coffee Oasis
URL:https://nkindivisible.com/event/free-palestine-kingston-2/2026-01-25/
END:VEVENT
BEGIN:VEVENT
DTSTART;TZID=America/Los_Angeles:20260125T160000
DTEND;TZID=America/Los_Angeles:20260125T170000
DTSTAMP:20260422T164028
CREATED:20260119T084057Z
LAST-MODIFIED:20260119T084057Z
UID:10003619-1769356800-1769360400@nkindivisible.com
SUMMARY:End the Occupation - Free Palestine Rally - Bremerton
DESCRIPTION:Hosted by Kitsap Palestine Solidarity Coalition Where: Manette Circle (East end of Manette bridge)
URL:https://nkindivisible.com/event/end-the-occupation-free-palestine-rally-bremerton/2026-01-25/
END:VEVENT
BEGIN:VEVENT
DTSTART;TZID=America/Los_Angeles:20260127T150000
DTEND;TZID=America/Los_Angeles:20260127T180000
DTSTAMP:20260422T164028
CREATED:20250913T052056Z
LAST-MODIFIED:20250914T211648Z
UID:10000935-1769526000-1769536800@nkindivisible.com
SUMMARY:Tuesdays at the VA Hospital\, Seattle
DESCRIPTION:Every 2nd and 4th Tuesday\, 3:00 to 6:00 PM\nTuesdays at the VA Hospital\nHosted by Veterans For Peace Daniel Ellsberg Chapter 92\, Seattle\nWhere: Location: 1660 S Columbian Way\, Seattle.\n\nJoin Veterans\, healthcare workers\, union members & supporters. No cuts to VA services\, no mass firings\, stop the Trump coup!
URL:https://nkindivisible.com/event/tuesdays-at-the-va-hospital-seattle-3/2026-01-27/
END:VEVENT
BEGIN:VEVENT
DTSTART;TZID=America/Los_Angeles:20260128T120000
DTEND;TZID=America/Los_Angeles:20260128T133000
DTSTAMP:20260422T164028
CREATED:20250913T052204Z
LAST-MODIFIED:20250914T195502Z
UID:10000429-1769601600-1769607000@nkindivisible.com
SUMMARY:Bainbridge Island Rally for America
DESCRIPTION:Wednesdays\, noon to 1:30 pm\nWhere: the intersection of 305 and Winslow Way.\nWhat: Signs in support of Ukraine\, Medicaid\, Social Security\, Medicare\, Education\, you name it.
URL:https://nkindivisible.com/event/bainbridge-island-rally-for-america-5/2026-01-28/
END:VEVENT
BEGIN:VEVENT
DTSTART;TZID=America/Los_Angeles:20260128T140000
DTEND;TZID=America/Los_Angeles:20260128T153000
DTSTAMP:20260422T164028
CREATED:20250913T052524Z
LAST-MODIFIED:20250914T202009Z
UID:10001069-1769608800-1769614200@nkindivisible.com
SUMMARY:Postcards on Wednesday-Indivisible Bainbridge Island
DESCRIPTION:Every Wednesday  from 2 pm to 3:30 pm.\nHosted by Indivisible Bainbridge Island\nWhere: Upstairs at the Town & Country Market \n\n\nEmail postcards@indivisiblebainbridgeisland.org to get on the reminder list.
URL:https://nkindivisible.com/event/postcards-on-wednesday-indivisible-bainbridge-island-3/2026-01-28/
END:VEVENT
BEGIN:VEVENT
DTSTART;TZID=America/Los_Angeles:20260128T160000
DTEND;TZID=America/Los_Angeles:20260128T173000
DTSTAMP:20260422T164028
CREATED:20250913T052647Z
LAST-MODIFIED:20250914T202223Z
UID:10001329-1769616000-1769621400@nkindivisible.com
SUMMARY:Rally-Indivisible Bremerton
DESCRIPTION:Every Wednesday from 4 to 5:30 pm.\nHosted by Indivisible Bremerton\nWhere:  Warren @ 15th\, Bremerton.\nJoin us for a peaceful low-key WEEKLY gathering. Bring your signs\, flags\,voices\, and friends. Whether you are a new or seasoned resister – you are welcome to join us.\nContact us at indivisiblebremerton@gmail.com
URL:https://nkindivisible.com/event/rally-indivisible-bremerton-3/2026-01-28/
END:VEVENT
BEGIN:VEVENT
DTSTART;TZID=America/Los_Angeles:20260129T120000
DTEND;TZID=America/Los_Angeles:20260129T130000
DTSTAMP:20260422T164028
CREATED:20260208T235115Z
LAST-MODIFIED:20260409T201120Z
UID:10003958-1769688000-1769691600@nkindivisible.com
SUMMARY:What's The Plan with Indivisible Co-founders
DESCRIPTION:Join Indivisible co-founders Leah Greenberg and Ezra Levin each week\, as we carve out an hour to discuss what’s happening and – more importantly – what’s the plan?\n\nVirtual event. Sign up here.
URL:https://nkindivisible.com/event/whats-the-plan-with-indivisible-co-founders-15/2026-01-29/
LOCATION:
END:VEVENT
BEGIN:VEVENT
DTSTART;TZID=America/Los_Angeles:20260130T160000
DTEND;TZID=America/Los_Angeles:20260130T170000
DTSTAMP:20260422T164028
CREATED:20250913T053001Z
LAST-MODIFIED:20250914T204719Z
UID:10002108-1769788800-1769792400@nkindivisible.com
SUMMARY:End Occupation of Palestine
DESCRIPTION:Every Friday from 4 to 5pm. Next Gathering pm September 5th\nWhere: Corner of Viking Way and Finn Hill Rd in Poulsbo\, In front of the Viking Statue\nBring signs
URL:https://nkindivisible.com/event/end-occupation-of-palestine-2/2026-01-30/
END:VEVENT
BEGIN:VEVENT
DTSTART;TZID=America/Los_Angeles:20260130T160000
DTEND;TZID=America/Los_Angeles:20260130T173000
DTSTAMP:20260422T164028
CREATED:20250914T061829Z
LAST-MODIFIED:20250914T201149Z
UID:10000169-1769788800-1769794200@nkindivisible.com
SUMMARY:Fridays @4 Letter Writing and More
DESCRIPTION:Swing Left– Fridays @4 Letter Writing and More\n\n\n\n\nThis is a weekly meeting via Zoom. Learn about the next letter writing campaign with Vote Forward.   And more: making phone calls to our elected officials\, sending postcards to voters\, using Bluesky…. \nSign up at https://swingleft.org/event/register/mobilize:274619?source=%2Fgroup%2Fswing-left-fridays-at-4-letter-writing-team&s=u
URL:https://nkindivisible.com/event/fridays-4-letter-writing-and-more-3/2026-01-30/
END:VEVENT
BEGIN:VEVENT
DTSTART;TZID=America/Los_Angeles:20260131T094500
DTEND;TZID=America/Los_Angeles:20260131T111500
DTSTAMP:20260422T164028
CREATED:20251129T010238Z
LAST-MODIFIED:20251129T010238Z
UID:10003477-1769852700-1769858100@nkindivisible.com
SUMMARY:Signs of Fascism\, Kingston
DESCRIPTION:Hosted by Kingston Alliance for Democracy\nWhere: Kola Kole Park near the ferry dock\, 26100 Bannister St NE\, Kingston\nThe Kingston Alliance for Democracy will be holding the “Signs of Fascism” as the ferry traffic goes by. It is very powerful. We furnish the signs. Wear all black\, dress warm\, and plan for rain. We have a few black umbrellas! Watch the video and you can see what it looks like here.
URL:https://nkindivisible.com/event/signs-of-fascism-kingston/2026-01-31/
END:VEVENT
BEGIN:VEVENT
DTSTART;TZID=America/Los_Angeles:20260131T121500
DTEND;TZID=America/Los_Angeles:20260131T133000
DTSTAMP:20260422T164028
CREATED:20260130T195332Z
LAST-MODIFIED:20260130T195333Z
UID:10003221-1769861700-1769866200@nkindivisible.com
SUMMARY:NKI Sign-Waving-ICE OUT
DESCRIPTION:Hosted by North Kitsap Indivisible. More information and RSVP here\nWhere: George’s Corner\, also known as Kountry Korners\, the intersection of Bond Rd and Hansville Hwy (27000 Miller Bay Rd NE Kingston)\nBring your signs\, your determination to sink the tRump ship and your friends! We have extra signs so don’t let that be a barrier.
URL:https://nkindivisible.com/event/nki-sign-waving-2-3-2/2026-01-31/
END:VEVENT
BEGIN:VEVENT
DTSTART;TZID=America/Los_Angeles:20260131T140000
DTEND;TZID=America/Los_Angeles:20260131T153000
DTSTAMP:20260422T164028
CREATED:20260117T191414Z
LAST-MODIFIED:20260117T191613Z
UID:10003614-1769868000-1769873400@nkindivisible.com
SUMMARY:Rep Greg Nance Town Hall - Bremerton
DESCRIPTION:Join WA Rep Greg Nance and Bremerton Mayor Greg Wheeler for a town hall meeting. \nLocation: Bremerton Norm Dicks\, 345 6th St.\, Bremerton \nNance is holding other town halls as well: \nPoulsbo\, 1/19\, 2-3:30\, Poulsbo City Hall\nKingston\, 1/24\, 10-11:30\, Kingston Village Green\nBainbridge\, 1/24 2-3:30\, Bainbridge City Hall
URL:https://nkindivisible.com/event/rep-greg-nance-town-hall-bremerton/
END:VEVENT
BEGIN:VEVENT
DTSTART;TZID=America/Los_Angeles:20260201T110000
DTEND;TZID=America/Los_Angeles:20260201T133000
DTSTAMP:20260422T164028
CREATED:20251129T005609Z
LAST-MODIFIED:20260412T203903Z
UID:10001589-1769943600-1769952600@nkindivisible.com
SUMMARY:Poulsbo Weekly Democracy Rally
DESCRIPTION:Hosted by Poulsbo For All. \nWhere: Meet at the gazebo\, waterfront park.\nBring your signs\, your friends\, and your determination stand up for democracy. This is a peaceful event\, and it starts with an inspiring talk by Dr. Claudia Gorbman. Then attendees march with chants and signs\, and ending with open mike and inspirational comments from attendees at the gazebo. \nDuring winter months\, event may be called off due to weather.
URL:https://nkindivisible.com/event/poulsbo-weekly-democracy-rally-2-2/2026-02-01/
END:VEVENT
BEGIN:VEVENT
DTSTART;TZID=America/Los_Angeles:20260201T124500
DTEND;TZID=America/Los_Angeles:20260201T141500
DTSTAMP:20260422T164028
CREATED:20250902T064758Z
LAST-MODIFIED:20250914T204902Z
UID:10002359-1769949900-1769955300@nkindivisible.com
SUMMARY:Free Palestine-Bainbridge Island
DESCRIPTION:Alternate Sundays between Bainbridge Island and Kingston.\nWhere: Stop light near Ferry Terminal
URL:https://nkindivisible.com/event/free-palestine-bainbridge-island/2026-02-01/
END:VEVENT
BEGIN:VEVENT
DTSTART;TZID=America/Los_Angeles:20260201T160000
DTEND;TZID=America/Los_Angeles:20260201T170000
DTSTAMP:20260422T164028
CREATED:20260119T084057Z
LAST-MODIFIED:20260119T084057Z
UID:10003620-1769961600-1769965200@nkindivisible.com
SUMMARY:End the Occupation - Free Palestine Rally - Bremerton
DESCRIPTION:Hosted by Kitsap Palestine Solidarity Coalition Where: Manette Circle (East end of Manette bridge)
URL:https://nkindivisible.com/event/end-the-occupation-free-palestine-rally-bremerton/2026-02-01/
END:VEVENT
BEGIN:VEVENT
DTSTART;TZID=America/Los_Angeles:20260204T120000
DTEND;TZID=America/Los_Angeles:20260204T133000
DTSTAMP:20260422T164028
CREATED:20250913T052204Z
LAST-MODIFIED:20250914T195502Z
UID:10000430-1770206400-1770211800@nkindivisible.com
SUMMARY:Bainbridge Island Rally for America
DESCRIPTION:Wednesdays\, noon to 1:30 pm\nWhere: the intersection of 305 and Winslow Way.\nWhat: Signs in support of Ukraine\, Medicaid\, Social Security\, Medicare\, Education\, you name it.
URL:https://nkindivisible.com/event/bainbridge-island-rally-for-america-5/2026-02-04/
END:VEVENT
BEGIN:VEVENT
DTSTART;TZID=America/Los_Angeles:20260204T140000
DTEND;TZID=America/Los_Angeles:20260204T153000
DTSTAMP:20260422T164028
CREATED:20250913T052524Z
LAST-MODIFIED:20250914T202009Z
UID:10001070-1770213600-1770219000@nkindivisible.com
SUMMARY:Postcards on Wednesday-Indivisible Bainbridge Island
DESCRIPTION:Every Wednesday  from 2 pm to 3:30 pm.\nHosted by Indivisible Bainbridge Island\nWhere: Upstairs at the Town & Country Market \n\n\nEmail postcards@indivisiblebainbridgeisland.org to get on the reminder list.
URL:https://nkindivisible.com/event/postcards-on-wednesday-indivisible-bainbridge-island-3/2026-02-04/
END:VEVENT
BEGIN:VEVENT
DTSTART;TZID=America/Los_Angeles:20260204T160000
DTEND;TZID=America/Los_Angeles:20260204T173000
DTSTAMP:20260422T164028
CREATED:20250913T052647Z
LAST-MODIFIED:20250914T202223Z
UID:10001330-1770220800-1770226200@nkindivisible.com
SUMMARY:Rally-Indivisible Bremerton
DESCRIPTION:Every Wednesday from 4 to 5:30 pm.\nHosted by Indivisible Bremerton\nWhere:  Warren @ 15th\, Bremerton.\nJoin us for a peaceful low-key WEEKLY gathering. Bring your signs\, flags\,voices\, and friends. Whether you are a new or seasoned resister – you are welcome to join us.\nContact us at indivisiblebremerton@gmail.com
URL:https://nkindivisible.com/event/rally-indivisible-bremerton-3/2026-02-04/
END:VEVENT
END:VCALENDAR