BEGIN:VCALENDAR
VERSION:2.0
PRODID:-//North Kitsap Indivisible - ECPv6.15.20//NONSGML v1.0//EN
CALSCALE:GREGORIAN
METHOD:PUBLISH
X-ORIGINAL-URL:https://nkindivisible.com
X-WR-CALDESC:Events for North Kitsap Indivisible
REFRESH-INTERVAL;VALUE=DURATION:PT1H
X-Robots-Tag:noindex
X-PUBLISHED-TTL:PT1H
BEGIN:VTIMEZONE
TZID:America/Los_Angeles
BEGIN:DAYLIGHT
TZOFFSETFROM:-0800
TZOFFSETTO:-0700
TZNAME:PDT
DTSTART:20250309T100000
END:DAYLIGHT
BEGIN:STANDARD
TZOFFSETFROM:-0700
TZOFFSETTO:-0800
TZNAME:PST
DTSTART:20251102T090000
END:STANDARD
BEGIN:DAYLIGHT
TZOFFSETFROM:-0800
TZOFFSETTO:-0700
TZNAME:PDT
DTSTART:20260308T100000
END:DAYLIGHT
BEGIN:STANDARD
TZOFFSETFROM:-0700
TZOFFSETTO:-0800
TZNAME:PST
DTSTART:20261101T090000
END:STANDARD
BEGIN:DAYLIGHT
TZOFFSETFROM:-0800
TZOFFSETTO:-0700
TZNAME:PDT
DTSTART:20270314T100000
END:DAYLIGHT
BEGIN:STANDARD
TZOFFSETFROM:-0700
TZOFFSETTO:-0800
TZNAME:PST
DTSTART:20271107T090000
END:STANDARD
END:VTIMEZONE
BEGIN:VEVENT
DTSTART;TZID=America/Los_Angeles:20260101T120000
DTEND;TZID=America/Los_Angeles:20260101T130000
DTSTAMP:20260422T145550
CREATED:20250913T052800Z
LAST-MODIFIED:20251003T070858Z
UID:10001844-1767268800-1767272400@nkindivisible.com
SUMMARY:What’s the Plan? With Indivisible Co-Founders
DESCRIPTION:Join Indivisible co-founders Leah Greenberg and Ezra Levin each week\, as we carve out an hour to discuss what’s happening and – more importantly – what’s the plan?\n\nVirtual event.  Sign up here.
URL:https://nkindivisible.com/event/whats-the-plan-with-indivisible-co-founders-11/2026-01-01/
END:VEVENT
BEGIN:VEVENT
DTSTART;TZID=America/Los_Angeles:20260102T160000
DTEND;TZID=America/Los_Angeles:20260102T170000
DTSTAMP:20260422T145550
CREATED:20250913T053001Z
LAST-MODIFIED:20250914T204719Z
UID:10002104-1767369600-1767373200@nkindivisible.com
SUMMARY:End Occupation of Palestine
DESCRIPTION:Every Friday from 4 to 5pm. Next Gathering pm September 5th\nWhere: Corner of Viking Way and Finn Hill Rd in Poulsbo\, In front of the Viking Statue\nBring signs
URL:https://nkindivisible.com/event/end-occupation-of-palestine-2/2026-01-02/
END:VEVENT
BEGIN:VEVENT
DTSTART;TZID=America/Los_Angeles:20260102T160000
DTEND;TZID=America/Los_Angeles:20260102T173000
DTSTAMP:20260422T145550
CREATED:20250914T061829Z
LAST-MODIFIED:20250914T201149Z
UID:10000165-1767369600-1767375000@nkindivisible.com
SUMMARY:Fridays @4 Letter Writing and More
DESCRIPTION:Swing Left– Fridays @4 Letter Writing and More\n\n\n\n\nThis is a weekly meeting via Zoom. Learn about the next letter writing campaign with Vote Forward.   And more: making phone calls to our elected officials\, sending postcards to voters\, using Bluesky…. \nSign up at https://swingleft.org/event/register/mobilize:274619?source=%2Fgroup%2Fswing-left-fridays-at-4-letter-writing-team&s=u
URL:https://nkindivisible.com/event/fridays-4-letter-writing-and-more-3/2026-01-02/
END:VEVENT
BEGIN:VEVENT
DTSTART;TZID=America/Los_Angeles:20260103T094500
DTEND;TZID=America/Los_Angeles:20260103T111500
DTSTAMP:20260422T145550
CREATED:20251129T010238Z
LAST-MODIFIED:20251129T010238Z
UID:10003475-1767433500-1767438900@nkindivisible.com
SUMMARY:Signs of Fascism\, Kingston
DESCRIPTION:Hosted by Kingston Alliance for Democracy\nWhere: Kola Kole Park near the ferry dock\, 26100 Bannister St NE\, Kingston\nThe Kingston Alliance for Democracy will be holding the “Signs of Fascism” as the ferry traffic goes by. It is very powerful. We furnish the signs. Wear all black\, dress warm\, and plan for rain. We have a few black umbrellas! Watch the video and you can see what it looks like here.
URL:https://nkindivisible.com/event/signs-of-fascism-kingston/2026-01-03/
END:VEVENT
BEGIN:VEVENT
DTSTART;TZID=America/Los_Angeles:20260103T121500
DTEND;TZID=America/Los_Angeles:20260103T131500
DTSTAMP:20260422T145550
CREATED:20251129T005819Z
LAST-MODIFIED:20251129T005819Z
UID:10003217-1767442500-1767446100@nkindivisible.com
SUMMARY:NKI Sign-Waving
DESCRIPTION:Where: George’s Corner at the intersection of Bond Rd (Hwy 104) and Miller Bay/Hansville Rd.  Parking at the Rite Aid lot. \nBring your own signs or we have extras. \nAfterwards we will head over to the Puerto Vallarta across the street for a friendly get-together!
URL:https://nkindivisible.com/event/nki-sign-waving-2/2026-01-03/
END:VEVENT
BEGIN:VEVENT
DTSTART;TZID=America/Los_Angeles:20260104T110000
DTEND;TZID=America/Los_Angeles:20260104T133000
DTSTAMP:20260422T145550
CREATED:20251129T005609Z
LAST-MODIFIED:20260412T203903Z
UID:10001585-1767524400-1767533400@nkindivisible.com
SUMMARY:Poulsbo Weekly Democracy Rally
DESCRIPTION:Hosted by Poulsbo For All. \nWhere: Meet at the gazebo\, waterfront park.\nBring your signs\, your friends\, and your determination stand up for democracy. This is a peaceful event\, and it starts with an inspiring talk by Dr. Claudia Gorbman. Then attendees march with chants and signs\, and ending with open mike and inspirational comments from attendees at the gazebo. \nDuring winter months\, event may be called off due to weather.
URL:https://nkindivisible.com/event/poulsbo-weekly-democracy-rally-2-2/2026-01-04/
END:VEVENT
BEGIN:VEVENT
DTSTART;TZID=America/Los_Angeles:20260104T124500
DTEND;TZID=America/Los_Angeles:20260104T141500
DTSTAMP:20260422T145550
CREATED:20250902T064758Z
LAST-MODIFIED:20250914T204902Z
UID:10002357-1767530700-1767536100@nkindivisible.com
SUMMARY:Free Palestine-Bainbridge Island
DESCRIPTION:Alternate Sundays between Bainbridge Island and Kingston.\nWhere: Stop light near Ferry Terminal
URL:https://nkindivisible.com/event/free-palestine-bainbridge-island/2026-01-04/
END:VEVENT
BEGIN:VEVENT
DTSTART;TZID=America/Los_Angeles:20260104T160000
DTEND;TZID=America/Los_Angeles:20260104T170000
DTSTAMP:20260422T145550
CREATED:20260119T084057Z
LAST-MODIFIED:20260119T084057Z
UID:10003616-1767542400-1767546000@nkindivisible.com
SUMMARY:End the Occupation - Free Palestine Rally - Bremerton
DESCRIPTION:Hosted by Kitsap Palestine Solidarity Coalition Where: Manette Circle (East end of Manette bridge)
URL:https://nkindivisible.com/event/end-the-occupation-free-palestine-rally-bremerton/2026-01-04/
END:VEVENT
BEGIN:VEVENT
DTSTART;TZID=America/Los_Angeles:20260107T120000
DTEND;TZID=America/Los_Angeles:20260107T133000
DTSTAMP:20260422T145550
CREATED:20250913T052204Z
LAST-MODIFIED:20250914T195502Z
UID:10000426-1767787200-1767792600@nkindivisible.com
SUMMARY:Bainbridge Island Rally for America
DESCRIPTION:Wednesdays\, noon to 1:30 pm\nWhere: the intersection of 305 and Winslow Way.\nWhat: Signs in support of Ukraine\, Medicaid\, Social Security\, Medicare\, Education\, you name it.
URL:https://nkindivisible.com/event/bainbridge-island-rally-for-america-5/2026-01-07/
END:VEVENT
BEGIN:VEVENT
DTSTART;TZID=America/Los_Angeles:20260107T140000
DTEND;TZID=America/Los_Angeles:20260107T153000
DTSTAMP:20260422T145550
CREATED:20250913T052524Z
LAST-MODIFIED:20250914T202009Z
UID:10001066-1767794400-1767799800@nkindivisible.com
SUMMARY:Postcards on Wednesday-Indivisible Bainbridge Island
DESCRIPTION:Every Wednesday  from 2 pm to 3:30 pm.\nHosted by Indivisible Bainbridge Island\nWhere: Upstairs at the Town & Country Market \n\n\nEmail postcards@indivisiblebainbridgeisland.org to get on the reminder list.
URL:https://nkindivisible.com/event/postcards-on-wednesday-indivisible-bainbridge-island-3/2026-01-07/
END:VEVENT
BEGIN:VEVENT
DTSTART;TZID=America/Los_Angeles:20260107T160000
DTEND;TZID=America/Los_Angeles:20260107T173000
DTSTAMP:20260422T145550
CREATED:20250913T052647Z
LAST-MODIFIED:20250914T202223Z
UID:10001326-1767801600-1767807000@nkindivisible.com
SUMMARY:Rally-Indivisible Bremerton
DESCRIPTION:Every Wednesday from 4 to 5:30 pm.\nHosted by Indivisible Bremerton\nWhere:  Warren @ 15th\, Bremerton.\nJoin us for a peaceful low-key WEEKLY gathering. Bring your signs\, flags\,voices\, and friends. Whether you are a new or seasoned resister – you are welcome to join us.\nContact us at indivisiblebremerton@gmail.com
URL:https://nkindivisible.com/event/rally-indivisible-bremerton-3/2026-01-07/
END:VEVENT
BEGIN:VEVENT
DTSTART;TZID=America/Los_Angeles:20260108T120000
DTEND;TZID=America/Los_Angeles:20260108T130000
DTSTAMP:20260422T145550
CREATED:20260208T235115Z
LAST-MODIFIED:20260409T201120Z
UID:10003955-1767873600-1767877200@nkindivisible.com
SUMMARY:What's The Plan with Indivisible Co-founders
DESCRIPTION:Join Indivisible co-founders Leah Greenberg and Ezra Levin each week\, as we carve out an hour to discuss what’s happening and – more importantly – what’s the plan?\n\nVirtual event. Sign up here.
URL:https://nkindivisible.com/event/whats-the-plan-with-indivisible-co-founders-15/2026-01-08/
LOCATION:
END:VEVENT
BEGIN:VEVENT
DTSTART;TZID=America/Los_Angeles:20260109T160000
DTEND;TZID=America/Los_Angeles:20260109T170000
DTSTAMP:20260422T145550
CREATED:20250913T053001Z
LAST-MODIFIED:20250914T204719Z
UID:10002105-1767974400-1767978000@nkindivisible.com
SUMMARY:End Occupation of Palestine
DESCRIPTION:Every Friday from 4 to 5pm. Next Gathering pm September 5th\nWhere: Corner of Viking Way and Finn Hill Rd in Poulsbo\, In front of the Viking Statue\nBring signs
URL:https://nkindivisible.com/event/end-occupation-of-palestine-2/2026-01-09/
END:VEVENT
BEGIN:VEVENT
DTSTART;TZID=America/Los_Angeles:20260109T160000
DTEND;TZID=America/Los_Angeles:20260109T173000
DTSTAMP:20260422T145550
CREATED:20250914T061829Z
LAST-MODIFIED:20250914T201149Z
UID:10000166-1767974400-1767979800@nkindivisible.com
SUMMARY:Fridays @4 Letter Writing and More
DESCRIPTION:Swing Left– Fridays @4 Letter Writing and More\n\n\n\n\nThis is a weekly meeting via Zoom. Learn about the next letter writing campaign with Vote Forward.   And more: making phone calls to our elected officials\, sending postcards to voters\, using Bluesky…. \nSign up at https://swingleft.org/event/register/mobilize:274619?source=%2Fgroup%2Fswing-left-fridays-at-4-letter-writing-team&s=u
URL:https://nkindivisible.com/event/fridays-4-letter-writing-and-more-3/2026-01-09/
END:VEVENT
BEGIN:VEVENT
DTSTART;TZID=America/Los_Angeles:20260110T121500
DTEND;TZID=America/Los_Angeles:20260110T131500
DTSTAMP:20260422T145550
CREATED:20260110T072611Z
LAST-MODIFIED:20260110T072625Z
UID:10003218-1768047300-1768050900@nkindivisible.com
SUMMARY:NKI Sign-Waving Protest in Response to the ICE Murder in Minneapolis.
DESCRIPTION:Where: George’s Corner at the intersection of Bond Rd (Hwy 104) and Miller Bay/Hansville Rd.  Parking at the Rite Aid lot. \nBring your own signs or we have extras. \n 
URL:https://nkindivisible.com/event/nki-sign-waving-2-2/
END:VEVENT
BEGIN:VEVENT
DTSTART;TZID=America/Los_Angeles:20260111T110000
DTEND;TZID=America/Los_Angeles:20260111T133000
DTSTAMP:20260422T145550
CREATED:20251129T005609Z
LAST-MODIFIED:20260412T203903Z
UID:10001586-1768129200-1768138200@nkindivisible.com
SUMMARY:Poulsbo Weekly Democracy Rally
DESCRIPTION:Hosted by Poulsbo For All. \nWhere: Meet at the gazebo\, waterfront park.\nBring your signs\, your friends\, and your determination stand up for democracy. This is a peaceful event\, and it starts with an inspiring talk by Dr. Claudia Gorbman. Then attendees march with chants and signs\, and ending with open mike and inspirational comments from attendees at the gazebo. \nDuring winter months\, event may be called off due to weather.
URL:https://nkindivisible.com/event/poulsbo-weekly-democracy-rally-2-2/2026-01-11/
END:VEVENT
BEGIN:VEVENT
DTSTART;TZID=America/Los_Angeles:20260111T124500
DTEND;TZID=America/Los_Angeles:20260111T141500
DTSTAMP:20260422T145550
CREATED:20250913T053215Z
LAST-MODIFIED:20250914T205035Z
UID:10002487-1768135500-1768140900@nkindivisible.com
SUMMARY:Free Palestine-Kingston
DESCRIPTION:Alternate Sundays between Bainbridge and Kingston.\nWhere: Kola Kole Park Sidewalk across from Coffee Oasis
URL:https://nkindivisible.com/event/free-palestine-kingston-2/2026-01-11/
END:VEVENT
BEGIN:VEVENT
DTSTART;TZID=America/Los_Angeles:20260111T160000
DTEND;TZID=America/Los_Angeles:20260111T170000
DTSTAMP:20260422T145550
CREATED:20260119T084057Z
LAST-MODIFIED:20260119T084057Z
UID:10003617-1768147200-1768150800@nkindivisible.com
SUMMARY:End the Occupation - Free Palestine Rally - Bremerton
DESCRIPTION:Hosted by Kitsap Palestine Solidarity Coalition Where: Manette Circle (East end of Manette bridge)
URL:https://nkindivisible.com/event/end-the-occupation-free-palestine-rally-bremerton/2026-01-11/
END:VEVENT
BEGIN:VEVENT
DTSTART;TZID=America/Los_Angeles:20260113T000000
DTEND;TZID=America/Los_Angeles:20260113T000000
DTSTAMP:20260422T145550
CREATED:20250914T201740Z
LAST-MODIFIED:20250914T212106Z
UID:10000994-1768262400-1768262400@nkindivisible.com
SUMMARY:Tuesdays at the VA Hospital\, Seattle
DESCRIPTION:Every 2nd and 4th Tuesday\, 3:00 to 6:00 PM\nTuesdays at the VA Hospital\nHosted by Veterans For Peace Daniel Ellsberg Chapter 92\, Seattle\nWhere: Location: 1660 S Columbian Way\, Seattle.\n\nJoin Veterans\, healthcare workers\, union members & supporters. No cuts to VA services\, no mass firings\, stop the Trump coup!
URL:https://nkindivisible.com/event/tuesdays-at-the-va-hospital-seattle-3-2/2026-01-13/
END:VEVENT
BEGIN:VEVENT
DTSTART;TZID=America/Los_Angeles:20260114T120000
DTEND;TZID=America/Los_Angeles:20260114T133000
DTSTAMP:20260422T145550
CREATED:20250913T052204Z
LAST-MODIFIED:20250914T195502Z
UID:10000427-1768392000-1768397400@nkindivisible.com
SUMMARY:Bainbridge Island Rally for America
DESCRIPTION:Wednesdays\, noon to 1:30 pm\nWhere: the intersection of 305 and Winslow Way.\nWhat: Signs in support of Ukraine\, Medicaid\, Social Security\, Medicare\, Education\, you name it.
URL:https://nkindivisible.com/event/bainbridge-island-rally-for-america-5/2026-01-14/
END:VEVENT
BEGIN:VEVENT
DTSTART;TZID=America/Los_Angeles:20260114T140000
DTEND;TZID=America/Los_Angeles:20260114T153000
DTSTAMP:20260422T145550
CREATED:20250913T052524Z
LAST-MODIFIED:20250914T202009Z
UID:10001067-1768399200-1768404600@nkindivisible.com
SUMMARY:Postcards on Wednesday-Indivisible Bainbridge Island
DESCRIPTION:Every Wednesday  from 2 pm to 3:30 pm.\nHosted by Indivisible Bainbridge Island\nWhere: Upstairs at the Town & Country Market \n\n\nEmail postcards@indivisiblebainbridgeisland.org to get on the reminder list.
URL:https://nkindivisible.com/event/postcards-on-wednesday-indivisible-bainbridge-island-3/2026-01-14/
END:VEVENT
BEGIN:VEVENT
DTSTART;TZID=America/Los_Angeles:20260114T160000
DTEND;TZID=America/Los_Angeles:20260114T173000
DTSTAMP:20260422T145550
CREATED:20250913T052647Z
LAST-MODIFIED:20250914T202223Z
UID:10001327-1768406400-1768411800@nkindivisible.com
SUMMARY:Rally-Indivisible Bremerton
DESCRIPTION:Every Wednesday from 4 to 5:30 pm.\nHosted by Indivisible Bremerton\nWhere:  Warren @ 15th\, Bremerton.\nJoin us for a peaceful low-key WEEKLY gathering. Bring your signs\, flags\,voices\, and friends. Whether you are a new or seasoned resister – you are welcome to join us.\nContact us at indivisiblebremerton@gmail.com
URL:https://nkindivisible.com/event/rally-indivisible-bremerton-3/2026-01-14/
END:VEVENT
BEGIN:VEVENT
DTSTART;TZID=America/Los_Angeles:20260115T120000
DTEND;TZID=America/Los_Angeles:20260115T130000
DTSTAMP:20260422T145550
CREATED:20260208T235115Z
LAST-MODIFIED:20260409T201120Z
UID:10003956-1768478400-1768482000@nkindivisible.com
SUMMARY:What's The Plan with Indivisible Co-founders
DESCRIPTION:Join Indivisible co-founders Leah Greenberg and Ezra Levin each week\, as we carve out an hour to discuss what’s happening and – more importantly – what’s the plan?\n\nVirtual event. Sign up here.
URL:https://nkindivisible.com/event/whats-the-plan-with-indivisible-co-founders-15/2026-01-15/
LOCATION:
END:VEVENT
BEGIN:VEVENT
DTSTART;TZID=America/Los_Angeles:20260116T160000
DTEND;TZID=America/Los_Angeles:20260116T170000
DTSTAMP:20260422T145550
CREATED:20250913T053001Z
LAST-MODIFIED:20250914T204719Z
UID:10002106-1768579200-1768582800@nkindivisible.com
SUMMARY:End Occupation of Palestine
DESCRIPTION:Every Friday from 4 to 5pm. Next Gathering pm September 5th\nWhere: Corner of Viking Way and Finn Hill Rd in Poulsbo\, In front of the Viking Statue\nBring signs
URL:https://nkindivisible.com/event/end-occupation-of-palestine-2/2026-01-16/
END:VEVENT
BEGIN:VEVENT
DTSTART;TZID=America/Los_Angeles:20260116T160000
DTEND;TZID=America/Los_Angeles:20260116T173000
DTSTAMP:20260422T145550
CREATED:20250914T061829Z
LAST-MODIFIED:20250914T201149Z
UID:10000167-1768579200-1768584600@nkindivisible.com
SUMMARY:Fridays @4 Letter Writing and More
DESCRIPTION:Swing Left– Fridays @4 Letter Writing and More\n\n\n\n\nThis is a weekly meeting via Zoom. Learn about the next letter writing campaign with Vote Forward.   And more: making phone calls to our elected officials\, sending postcards to voters\, using Bluesky…. \nSign up at https://swingleft.org/event/register/mobilize:274619?source=%2Fgroup%2Fswing-left-fridays-at-4-letter-writing-team&s=u
URL:https://nkindivisible.com/event/fridays-4-letter-writing-and-more-3/2026-01-16/
END:VEVENT
BEGIN:VEVENT
DTSTART;TZID=America/Los_Angeles:20260117T094500
DTEND;TZID=America/Los_Angeles:20260117T111500
DTSTAMP:20260422T145550
CREATED:20251129T010238Z
LAST-MODIFIED:20251129T010238Z
UID:10003476-1768643100-1768648500@nkindivisible.com
SUMMARY:Signs of Fascism\, Kingston
DESCRIPTION:Hosted by Kingston Alliance for Democracy\nWhere: Kola Kole Park near the ferry dock\, 26100 Bannister St NE\, Kingston\nThe Kingston Alliance for Democracy will be holding the “Signs of Fascism” as the ferry traffic goes by. It is very powerful. We furnish the signs. Wear all black\, dress warm\, and plan for rain. We have a few black umbrellas! Watch the video and you can see what it looks like here.
URL:https://nkindivisible.com/event/signs-of-fascism-kingston/2026-01-17/
END:VEVENT
BEGIN:VEVENT
DTSTART;TZID=America/Los_Angeles:20260117T121500
DTEND;TZID=America/Los_Angeles:20260117T133000
DTSTAMP:20260422T145550
CREATED:20260112T184816Z
LAST-MODIFIED:20260112T184817Z
UID:10003219-1768652100-1768656600@nkindivisible.com
SUMMARY:NKI Sign-Waving
DESCRIPTION:Where: George’s Corner at the intersection of Bond Rd (Hwy 104) and Miller Bay/Hansville Rd.  Parking at the Rite Aid lot. \nBring your own signs or we have extras. \nAfterwards we will head over to the Puerto Vallarta across the street for a friendly get-together!
URL:https://nkindivisible.com/event/nki-sign-waving-2-3/2026-01-17/
END:VEVENT
BEGIN:VEVENT
DTSTART;TZID=America/Los_Angeles:20260118T110000
DTEND;TZID=America/Los_Angeles:20260118T133000
DTSTAMP:20260422T145550
CREATED:20251129T005609Z
LAST-MODIFIED:20260412T203903Z
UID:10001587-1768734000-1768743000@nkindivisible.com
SUMMARY:Poulsbo Weekly Democracy Rally
DESCRIPTION:Hosted by Poulsbo For All. \nWhere: Meet at the gazebo\, waterfront park.\nBring your signs\, your friends\, and your determination stand up for democracy. This is a peaceful event\, and it starts with an inspiring talk by Dr. Claudia Gorbman. Then attendees march with chants and signs\, and ending with open mike and inspirational comments from attendees at the gazebo. \nDuring winter months\, event may be called off due to weather.
URL:https://nkindivisible.com/event/poulsbo-weekly-democracy-rally-2-2/2026-01-18/
END:VEVENT
BEGIN:VEVENT
DTSTART;TZID=America/Los_Angeles:20260118T124500
DTEND;TZID=America/Los_Angeles:20260118T141500
DTSTAMP:20260422T145550
CREATED:20250902T064758Z
LAST-MODIFIED:20250914T204902Z
UID:10002358-1768740300-1768745700@nkindivisible.com
SUMMARY:Free Palestine-Bainbridge Island
DESCRIPTION:Alternate Sundays between Bainbridge Island and Kingston.\nWhere: Stop light near Ferry Terminal
URL:https://nkindivisible.com/event/free-palestine-bainbridge-island/2026-01-18/
END:VEVENT
BEGIN:VEVENT
DTSTART;TZID=America/Los_Angeles:20260118T140000
DTEND;TZID=America/Los_Angeles:20260118T153000
DTSTAMP:20260422T145550
CREATED:20260117T185952Z
LAST-MODIFIED:20260117T190957Z
UID:10003611-1768744800-1768750200@nkindivisible.com
SUMMARY:Rep Nance Town Hall - Poulsbo
DESCRIPTION:Join WA Rep Greg Nance and Poulsbo Mayor Ed Stern for a town hall meeting. \nLocation: Poulsbo Town Hall\, 200 Moe St NE\, Poulsbo \nNance is holding other town halls as well: \nKingston\, 1/24\, 10-11:30\, Kingston Village Green\nBainbridge\, 1/24\, 2-3:30\, Bainbridge City Hall\nBremerton\, 1/31\, 2-3:30\, Norm Dicks
URL:https://nkindivisible.com/event/rep-nance-town-hall-poulsbo/
END:VEVENT
END:VCALENDAR