BEGIN:VCALENDAR
VERSION:2.0
PRODID:-//North Kitsap Indivisible - ECPv6.15.20//NONSGML v1.0//EN
CALSCALE:GREGORIAN
METHOD:PUBLISH
X-WR-CALNAME:North Kitsap Indivisible
X-ORIGINAL-URL:https://nkindivisible.com
X-WR-CALDESC:Events for North Kitsap Indivisible
REFRESH-INTERVAL;VALUE=DURATION:PT1H
X-Robots-Tag:noindex
X-PUBLISHED-TTL:PT1H
BEGIN:VTIMEZONE
TZID:America/Los_Angeles
BEGIN:DAYLIGHT
TZOFFSETFROM:-0800
TZOFFSETTO:-0700
TZNAME:PDT
DTSTART:20270314T100000
END:DAYLIGHT
BEGIN:STANDARD
TZOFFSETFROM:-0700
TZOFFSETTO:-0800
TZNAME:PST
DTSTART:20271107T090000
END:STANDARD
BEGIN:DAYLIGHT
TZOFFSETFROM:-0800
TZOFFSETTO:-0700
TZNAME:PDT
DTSTART:20280312T100000
END:DAYLIGHT
BEGIN:STANDARD
TZOFFSETFROM:-0700
TZOFFSETTO:-0800
TZNAME:PST
DTSTART:20281105T090000
END:STANDARD
BEGIN:DAYLIGHT
TZOFFSETFROM:-0800
TZOFFSETTO:-0700
TZNAME:PDT
DTSTART:20290311T100000
END:DAYLIGHT
BEGIN:STANDARD
TZOFFSETFROM:-0700
TZOFFSETTO:-0800
TZNAME:PST
DTSTART:20291104T090000
END:STANDARD
END:VTIMEZONE
BEGIN:VEVENT
DTSTART;TZID=America/Los_Angeles:20280902T123000
DTEND;TZID=America/Los_Angeles:20280902T140000
DTSTAMP:20260424T085606
CREATED:20260401T195608Z
LAST-MODIFIED:20260401T195610Z
UID:10004146-1851510600-1851516000@nkindivisible.com
SUMMARY:NKI Sign-Waving
DESCRIPTION:Hosted by North Kitsap Indivisible.\nWhere: George’s Corner\, the intersection of Bond Rd and Hansville Hwy (27000 Miller Bay Rd NE Kingston)\nBring your signs\, your determination to sink the tRump ship and your friends! We have extra signs so don’t let that be a barrier.
URL:https://nkindivisible.com/event/nki-sign-waving-2-3-2-3/2028-09-02/
END:VEVENT
BEGIN:VEVENT
DTSTART;TZID=America/Los_Angeles:20280903T110000
DTEND;TZID=America/Los_Angeles:20280903T133000
DTSTAMP:20260424T085606
CREATED:20251129T005609Z
LAST-MODIFIED:20260412T203903Z
UID:10001724-1851591600-1851600600@nkindivisible.com
SUMMARY:Poulsbo Weekly Democracy Rally
DESCRIPTION:Hosted by Poulsbo For All. \nWhere: Meet at the gazebo\, waterfront park.\nBring your signs\, your friends\, and your determination stand up for democracy. This is a peaceful event\, and it starts with an inspiring talk by Dr. Claudia Gorbman. Then attendees march with chants and signs\, and ending with open mike and inspirational comments from attendees at the gazebo. \nDuring winter months\, event may be called off due to weather.
URL:https://nkindivisible.com/event/poulsbo-weekly-democracy-rally-2-2/2028-09-03/
END:VEVENT
BEGIN:VEVENT
DTSTART;TZID=America/Los_Angeles:20280903T124500
DTEND;TZID=America/Los_Angeles:20280903T141500
DTSTAMP:20260424T085606
CREATED:20250913T053215Z
LAST-MODIFIED:20250914T205035Z
UID:10002556-1851597900-1851603300@nkindivisible.com
SUMMARY:Free Palestine-Kingston
DESCRIPTION:Alternate Sundays between Bainbridge and Kingston.\nWhere: Kola Kole Park Sidewalk across from Coffee Oasis
URL:https://nkindivisible.com/event/free-palestine-kingston-2/2028-09-03/
END:VEVENT
BEGIN:VEVENT
DTSTART;TZID=America/Los_Angeles:20280903T160000
DTEND;TZID=America/Los_Angeles:20280903T170000
DTSTAMP:20260424T085606
CREATED:20260119T084057Z
LAST-MODIFIED:20260119T084057Z
UID:10003755-1851609600-1851613200@nkindivisible.com
SUMMARY:End the Occupation - Free Palestine Rally - Bremerton
DESCRIPTION:Hosted by Kitsap Palestine Solidarity Coalition Where: Manette Circle (East end of Manette bridge)
URL:https://nkindivisible.com/event/end-the-occupation-free-palestine-rally-bremerton/2028-09-03/
END:VEVENT
BEGIN:VEVENT
DTSTART;TZID=America/Los_Angeles:20280906T120000
DTEND;TZID=America/Los_Angeles:20280906T133000
DTSTAMP:20260424T085606
CREATED:20250913T052204Z
LAST-MODIFIED:20250914T195502Z
UID:10000565-1851854400-1851859800@nkindivisible.com
SUMMARY:Bainbridge Island Rally for America
DESCRIPTION:Wednesdays\, noon to 1:30 pm\nWhere: the intersection of 305 and Winslow Way.\nWhat: Signs in support of Ukraine\, Medicaid\, Social Security\, Medicare\, Education\, you name it.
URL:https://nkindivisible.com/event/bainbridge-island-rally-for-america-5/2028-09-06/
END:VEVENT
BEGIN:VEVENT
DTSTART;TZID=America/Los_Angeles:20280906T140000
DTEND;TZID=America/Los_Angeles:20280906T153000
DTSTAMP:20260424T085606
CREATED:20250913T052524Z
LAST-MODIFIED:20250914T202009Z
UID:10001205-1851861600-1851867000@nkindivisible.com
SUMMARY:Postcards on Wednesday-Indivisible Bainbridge Island
DESCRIPTION:Every Wednesday  from 2 pm to 3:30 pm.\nHosted by Indivisible Bainbridge Island\nWhere: Upstairs at the Town & Country Market \n\n\nEmail postcards@indivisiblebainbridgeisland.org to get on the reminder list.
URL:https://nkindivisible.com/event/postcards-on-wednesday-indivisible-bainbridge-island-3/2028-09-06/
END:VEVENT
BEGIN:VEVENT
DTSTART;TZID=America/Los_Angeles:20280906T160000
DTEND;TZID=America/Los_Angeles:20280906T173000
DTSTAMP:20260424T085606
CREATED:20250913T052647Z
LAST-MODIFIED:20250914T202223Z
UID:10001465-1851868800-1851874200@nkindivisible.com
SUMMARY:Rally-Indivisible Bremerton
DESCRIPTION:Every Wednesday from 4 to 5:30 pm.\nHosted by Indivisible Bremerton\nWhere:  Warren @ 15th\, Bremerton.\nJoin us for a peaceful low-key WEEKLY gathering. Bring your signs\, flags\,voices\, and friends. Whether you are a new or seasoned resister – you are welcome to join us.\nContact us at indivisiblebremerton@gmail.com
URL:https://nkindivisible.com/event/rally-indivisible-bremerton-3/2028-09-06/
END:VEVENT
BEGIN:VEVENT
DTSTART;TZID=America/Los_Angeles:20280908T160000
DTEND;TZID=America/Los_Angeles:20280908T170000
DTSTAMP:20260424T085606
CREATED:20250913T053001Z
LAST-MODIFIED:20250914T204719Z
UID:10002244-1852041600-1852045200@nkindivisible.com
SUMMARY:End Occupation of Palestine
DESCRIPTION:Every Friday from 4 to 5pm. Next Gathering pm September 5th\nWhere: Corner of Viking Way and Finn Hill Rd in Poulsbo\, In front of the Viking Statue\nBring signs
URL:https://nkindivisible.com/event/end-occupation-of-palestine-2/2028-09-08/
END:VEVENT
BEGIN:VEVENT
DTSTART;TZID=America/Los_Angeles:20280908T160000
DTEND;TZID=America/Los_Angeles:20280908T173000
DTSTAMP:20260424T085606
CREATED:20250914T061829Z
LAST-MODIFIED:20250914T201149Z
UID:10000305-1852041600-1852047000@nkindivisible.com
SUMMARY:Fridays @4 Letter Writing and More
DESCRIPTION:Swing Left– Fridays @4 Letter Writing and More\n\n\n\n\nThis is a weekly meeting via Zoom. Learn about the next letter writing campaign with Vote Forward.   And more: making phone calls to our elected officials\, sending postcards to voters\, using Bluesky…. \nSign up at https://swingleft.org/event/register/mobilize:274619?source=%2Fgroup%2Fswing-left-fridays-at-4-letter-writing-team&s=u
URL:https://nkindivisible.com/event/fridays-4-letter-writing-and-more-3/2028-09-08/
END:VEVENT
BEGIN:VEVENT
DTSTART;TZID=America/Los_Angeles:20280909T094500
DTEND;TZID=America/Los_Angeles:20280909T111500
DTSTAMP:20260424T085606
CREATED:20251129T010238Z
LAST-MODIFIED:20251129T010238Z
UID:10003545-1852105500-1852110900@nkindivisible.com
SUMMARY:Signs of Fascism\, Kingston
DESCRIPTION:Hosted by Kingston Alliance for Democracy\nWhere: Kola Kole Park near the ferry dock\, 26100 Bannister St NE\, Kingston\nThe Kingston Alliance for Democracy will be holding the “Signs of Fascism” as the ferry traffic goes by. It is very powerful. We furnish the signs. Wear all black\, dress warm\, and plan for rain. We have a few black umbrellas! Watch the video and you can see what it looks like here.
URL:https://nkindivisible.com/event/signs-of-fascism-kingston/2028-09-09/
END:VEVENT
BEGIN:VEVENT
DTSTART;TZID=America/Los_Angeles:20280909T123000
DTEND;TZID=America/Los_Angeles:20280909T140000
DTSTAMP:20260424T085606
CREATED:20260401T195608Z
LAST-MODIFIED:20260401T195610Z
UID:10004147-1852115400-1852120800@nkindivisible.com
SUMMARY:NKI Sign-Waving
DESCRIPTION:Hosted by North Kitsap Indivisible.\nWhere: George’s Corner\, the intersection of Bond Rd and Hansville Hwy (27000 Miller Bay Rd NE Kingston)\nBring your signs\, your determination to sink the tRump ship and your friends! We have extra signs so don’t let that be a barrier.
URL:https://nkindivisible.com/event/nki-sign-waving-2-3-2-3/2028-09-09/
END:VEVENT
BEGIN:VEVENT
DTSTART;TZID=America/Los_Angeles:20280910T110000
DTEND;TZID=America/Los_Angeles:20280910T133000
DTSTAMP:20260424T085606
CREATED:20251129T005609Z
LAST-MODIFIED:20260412T203903Z
UID:10001725-1852196400-1852205400@nkindivisible.com
SUMMARY:Poulsbo Weekly Democracy Rally
DESCRIPTION:Hosted by Poulsbo For All. \nWhere: Meet at the gazebo\, waterfront park.\nBring your signs\, your friends\, and your determination stand up for democracy. This is a peaceful event\, and it starts with an inspiring talk by Dr. Claudia Gorbman. Then attendees march with chants and signs\, and ending with open mike and inspirational comments from attendees at the gazebo. \nDuring winter months\, event may be called off due to weather.
URL:https://nkindivisible.com/event/poulsbo-weekly-democracy-rally-2-2/2028-09-10/
END:VEVENT
BEGIN:VEVENT
DTSTART;TZID=America/Los_Angeles:20280910T124500
DTEND;TZID=America/Los_Angeles:20280910T141500
DTSTAMP:20260424T085606
CREATED:20250902T064758Z
LAST-MODIFIED:20250914T204902Z
UID:10002427-1852202700-1852208100@nkindivisible.com
SUMMARY:Free Palestine-Bainbridge Island
DESCRIPTION:Alternate Sundays between Bainbridge Island and Kingston.\nWhere: Stop light near Ferry Terminal
URL:https://nkindivisible.com/event/free-palestine-bainbridge-island/2028-09-10/
END:VEVENT
BEGIN:VEVENT
DTSTART;TZID=America/Los_Angeles:20280910T160000
DTEND;TZID=America/Los_Angeles:20280910T170000
DTSTAMP:20260424T085606
CREATED:20260119T084057Z
LAST-MODIFIED:20260119T084057Z
UID:10003756-1852214400-1852218000@nkindivisible.com
SUMMARY:End the Occupation - Free Palestine Rally - Bremerton
DESCRIPTION:Hosted by Kitsap Palestine Solidarity Coalition Where: Manette Circle (East end of Manette bridge)
URL:https://nkindivisible.com/event/end-the-occupation-free-palestine-rally-bremerton/2028-09-10/
END:VEVENT
BEGIN:VEVENT
DTSTART;TZID=America/Los_Angeles:20280912T000000
DTEND;TZID=America/Los_Angeles:20280912T000000
DTSTAMP:20260424T085606
CREATED:20250914T201740Z
LAST-MODIFIED:20250914T212106Z
UID:10001026-1852329600-1852329600@nkindivisible.com
SUMMARY:Tuesdays at the VA Hospital\, Seattle
DESCRIPTION:Every 2nd and 4th Tuesday\, 3:00 to 6:00 PM\nTuesdays at the VA Hospital\nHosted by Veterans For Peace Daniel Ellsberg Chapter 92\, Seattle\nWhere: Location: 1660 S Columbian Way\, Seattle.\n\nJoin Veterans\, healthcare workers\, union members & supporters. No cuts to VA services\, no mass firings\, stop the Trump coup!
URL:https://nkindivisible.com/event/tuesdays-at-the-va-hospital-seattle-3-2/2028-09-12/
END:VEVENT
BEGIN:VEVENT
DTSTART;TZID=America/Los_Angeles:20280913T120000
DTEND;TZID=America/Los_Angeles:20280913T133000
DTSTAMP:20260424T085606
CREATED:20250913T052204Z
LAST-MODIFIED:20250914T195502Z
UID:10000566-1852459200-1852464600@nkindivisible.com
SUMMARY:Bainbridge Island Rally for America
DESCRIPTION:Wednesdays\, noon to 1:30 pm\nWhere: the intersection of 305 and Winslow Way.\nWhat: Signs in support of Ukraine\, Medicaid\, Social Security\, Medicare\, Education\, you name it.
URL:https://nkindivisible.com/event/bainbridge-island-rally-for-america-5/2028-09-13/
END:VEVENT
BEGIN:VEVENT
DTSTART;TZID=America/Los_Angeles:20280913T140000
DTEND;TZID=America/Los_Angeles:20280913T153000
DTSTAMP:20260424T085606
CREATED:20250913T052524Z
LAST-MODIFIED:20250914T202009Z
UID:10001206-1852466400-1852471800@nkindivisible.com
SUMMARY:Postcards on Wednesday-Indivisible Bainbridge Island
DESCRIPTION:Every Wednesday  from 2 pm to 3:30 pm.\nHosted by Indivisible Bainbridge Island\nWhere: Upstairs at the Town & Country Market \n\n\nEmail postcards@indivisiblebainbridgeisland.org to get on the reminder list.
URL:https://nkindivisible.com/event/postcards-on-wednesday-indivisible-bainbridge-island-3/2028-09-13/
END:VEVENT
BEGIN:VEVENT
DTSTART;TZID=America/Los_Angeles:20280913T160000
DTEND;TZID=America/Los_Angeles:20280913T173000
DTSTAMP:20260424T085606
CREATED:20250913T052647Z
LAST-MODIFIED:20250914T202223Z
UID:10001466-1852473600-1852479000@nkindivisible.com
SUMMARY:Rally-Indivisible Bremerton
DESCRIPTION:Every Wednesday from 4 to 5:30 pm.\nHosted by Indivisible Bremerton\nWhere:  Warren @ 15th\, Bremerton.\nJoin us for a peaceful low-key WEEKLY gathering. Bring your signs\, flags\,voices\, and friends. Whether you are a new or seasoned resister – you are welcome to join us.\nContact us at indivisiblebremerton@gmail.com
URL:https://nkindivisible.com/event/rally-indivisible-bremerton-3/2028-09-13/
END:VEVENT
BEGIN:VEVENT
DTSTART;TZID=America/Los_Angeles:20280915T160000
DTEND;TZID=America/Los_Angeles:20280915T170000
DTSTAMP:20260424T085606
CREATED:20250913T053001Z
LAST-MODIFIED:20250914T204719Z
UID:10002245-1852646400-1852650000@nkindivisible.com
SUMMARY:End Occupation of Palestine
DESCRIPTION:Every Friday from 4 to 5pm. Next Gathering pm September 5th\nWhere: Corner of Viking Way and Finn Hill Rd in Poulsbo\, In front of the Viking Statue\nBring signs
URL:https://nkindivisible.com/event/end-occupation-of-palestine-2/2028-09-15/
END:VEVENT
BEGIN:VEVENT
DTSTART;TZID=America/Los_Angeles:20280915T160000
DTEND;TZID=America/Los_Angeles:20280915T173000
DTSTAMP:20260424T085606
CREATED:20250914T061829Z
LAST-MODIFIED:20250914T201149Z
UID:10000306-1852646400-1852651800@nkindivisible.com
SUMMARY:Fridays @4 Letter Writing and More
DESCRIPTION:Swing Left– Fridays @4 Letter Writing and More\n\n\n\n\nThis is a weekly meeting via Zoom. Learn about the next letter writing campaign with Vote Forward.   And more: making phone calls to our elected officials\, sending postcards to voters\, using Bluesky…. \nSign up at https://swingleft.org/event/register/mobilize:274619?source=%2Fgroup%2Fswing-left-fridays-at-4-letter-writing-team&s=u
URL:https://nkindivisible.com/event/fridays-4-letter-writing-and-more-3/2028-09-15/
END:VEVENT
BEGIN:VEVENT
DTSTART;TZID=America/Los_Angeles:20280916T123000
DTEND;TZID=America/Los_Angeles:20280916T140000
DTSTAMP:20260424T085606
CREATED:20260401T195608Z
LAST-MODIFIED:20260401T195610Z
UID:10004148-1852720200-1852725600@nkindivisible.com
SUMMARY:NKI Sign-Waving
DESCRIPTION:Hosted by North Kitsap Indivisible.\nWhere: George’s Corner\, the intersection of Bond Rd and Hansville Hwy (27000 Miller Bay Rd NE Kingston)\nBring your signs\, your determination to sink the tRump ship and your friends! We have extra signs so don’t let that be a barrier.
URL:https://nkindivisible.com/event/nki-sign-waving-2-3-2-3/2028-09-16/
END:VEVENT
BEGIN:VEVENT
DTSTART;TZID=America/Los_Angeles:20280917T110000
DTEND;TZID=America/Los_Angeles:20280917T133000
DTSTAMP:20260424T085606
CREATED:20251129T005609Z
LAST-MODIFIED:20260412T203903Z
UID:10001726-1852801200-1852810200@nkindivisible.com
SUMMARY:Poulsbo Weekly Democracy Rally
DESCRIPTION:Hosted by Poulsbo For All. \nWhere: Meet at the gazebo\, waterfront park.\nBring your signs\, your friends\, and your determination stand up for democracy. This is a peaceful event\, and it starts with an inspiring talk by Dr. Claudia Gorbman. Then attendees march with chants and signs\, and ending with open mike and inspirational comments from attendees at the gazebo. \nDuring winter months\, event may be called off due to weather.
URL:https://nkindivisible.com/event/poulsbo-weekly-democracy-rally-2-2/2028-09-17/
END:VEVENT
BEGIN:VEVENT
DTSTART;TZID=America/Los_Angeles:20280917T124500
DTEND;TZID=America/Los_Angeles:20280917T141500
DTSTAMP:20260424T085606
CREATED:20250913T053215Z
LAST-MODIFIED:20250914T205035Z
UID:10002557-1852807500-1852812900@nkindivisible.com
SUMMARY:Free Palestine-Kingston
DESCRIPTION:Alternate Sundays between Bainbridge and Kingston.\nWhere: Kola Kole Park Sidewalk across from Coffee Oasis
URL:https://nkindivisible.com/event/free-palestine-kingston-2/2028-09-17/
END:VEVENT
BEGIN:VEVENT
DTSTART;TZID=America/Los_Angeles:20280917T160000
DTEND;TZID=America/Los_Angeles:20280917T170000
DTSTAMP:20260424T085606
CREATED:20260119T084057Z
LAST-MODIFIED:20260119T084057Z
UID:10003757-1852819200-1852822800@nkindivisible.com
SUMMARY:End the Occupation - Free Palestine Rally - Bremerton
DESCRIPTION:Hosted by Kitsap Palestine Solidarity Coalition Where: Manette Circle (East end of Manette bridge)
URL:https://nkindivisible.com/event/end-the-occupation-free-palestine-rally-bremerton/2028-09-17/
END:VEVENT
BEGIN:VEVENT
DTSTART;TZID=America/Los_Angeles:20280918T180000
DTEND;TZID=America/Los_Angeles:20280918T203000
DTSTAMP:20260424T085606
CREATED:20250815T071525Z
LAST-MODIFIED:20250914T205216Z
UID:10002644-1852912800-1852921800@nkindivisible.com
SUMMARY:Kitsap County Democrats Gen Membership Mtg
DESCRIPTION:Every Third Monday. \nWhere: 1240 Hollis St\, Bremerton [Cloverleaf Sports Bar & Grill]\nEveryone welcome. You don’t need to be a member. See what the Kitsap Dems are doing \n6:00 PM Dinner/Social \n7:00 PM  Meeting
URL:https://nkindivisible.com/event/kitsap-county-democrats-gen-membership-mtg-2/2028-09-18/
END:VEVENT
BEGIN:VEVENT
DTSTART;TZID=America/Los_Angeles:20280920T120000
DTEND;TZID=America/Los_Angeles:20280920T133000
DTSTAMP:20260424T085606
CREATED:20250913T052204Z
LAST-MODIFIED:20250914T195502Z
UID:10000567-1853064000-1853069400@nkindivisible.com
SUMMARY:Bainbridge Island Rally for America
DESCRIPTION:Wednesdays\, noon to 1:30 pm\nWhere: the intersection of 305 and Winslow Way.\nWhat: Signs in support of Ukraine\, Medicaid\, Social Security\, Medicare\, Education\, you name it.
URL:https://nkindivisible.com/event/bainbridge-island-rally-for-america-5/2028-09-20/
END:VEVENT
BEGIN:VEVENT
DTSTART;TZID=America/Los_Angeles:20280920T140000
DTEND;TZID=America/Los_Angeles:20280920T153000
DTSTAMP:20260424T085606
CREATED:20250913T052524Z
LAST-MODIFIED:20250914T202009Z
UID:10001207-1853071200-1853076600@nkindivisible.com
SUMMARY:Postcards on Wednesday-Indivisible Bainbridge Island
DESCRIPTION:Every Wednesday  from 2 pm to 3:30 pm.\nHosted by Indivisible Bainbridge Island\nWhere: Upstairs at the Town & Country Market \n\n\nEmail postcards@indivisiblebainbridgeisland.org to get on the reminder list.
URL:https://nkindivisible.com/event/postcards-on-wednesday-indivisible-bainbridge-island-3/2028-09-20/
END:VEVENT
BEGIN:VEVENT
DTSTART;TZID=America/Los_Angeles:20280920T160000
DTEND;TZID=America/Los_Angeles:20280920T173000
DTSTAMP:20260424T085606
CREATED:20250913T052647Z
LAST-MODIFIED:20250914T202223Z
UID:10001467-1853078400-1853083800@nkindivisible.com
SUMMARY:Rally-Indivisible Bremerton
DESCRIPTION:Every Wednesday from 4 to 5:30 pm.\nHosted by Indivisible Bremerton\nWhere:  Warren @ 15th\, Bremerton.\nJoin us for a peaceful low-key WEEKLY gathering. Bring your signs\, flags\,voices\, and friends. Whether you are a new or seasoned resister – you are welcome to join us.\nContact us at indivisiblebremerton@gmail.com
URL:https://nkindivisible.com/event/rally-indivisible-bremerton-3/2028-09-20/
END:VEVENT
BEGIN:VEVENT
DTSTART;TZID=America/Los_Angeles:20280922T160000
DTEND;TZID=America/Los_Angeles:20280922T170000
DTSTAMP:20260424T085607
CREATED:20250913T053001Z
LAST-MODIFIED:20250914T204719Z
UID:10002246-1853251200-1853254800@nkindivisible.com
SUMMARY:End Occupation of Palestine
DESCRIPTION:Every Friday from 4 to 5pm. Next Gathering pm September 5th\nWhere: Corner of Viking Way and Finn Hill Rd in Poulsbo\, In front of the Viking Statue\nBring signs
URL:https://nkindivisible.com/event/end-occupation-of-palestine-2/2028-09-22/
END:VEVENT
BEGIN:VEVENT
DTSTART;TZID=America/Los_Angeles:20280922T160000
DTEND;TZID=America/Los_Angeles:20280922T173000
DTSTAMP:20260424T085607
CREATED:20250914T061829Z
LAST-MODIFIED:20250914T201149Z
UID:10000307-1853251200-1853256600@nkindivisible.com
SUMMARY:Fridays @4 Letter Writing and More
DESCRIPTION:Swing Left– Fridays @4 Letter Writing and More\n\n\n\n\nThis is a weekly meeting via Zoom. Learn about the next letter writing campaign with Vote Forward.   And more: making phone calls to our elected officials\, sending postcards to voters\, using Bluesky…. \nSign up at https://swingleft.org/event/register/mobilize:274619?source=%2Fgroup%2Fswing-left-fridays-at-4-letter-writing-team&s=u
URL:https://nkindivisible.com/event/fridays-4-letter-writing-and-more-3/2028-09-22/
END:VEVENT
END:VCALENDAR