BEGIN:VCALENDAR
VERSION:2.0
PRODID:-//North Kitsap Indivisible - ECPv6.15.20//NONSGML v1.0//EN
CALSCALE:GREGORIAN
METHOD:PUBLISH
X-WR-CALNAME:North Kitsap Indivisible
X-ORIGINAL-URL:https://nkindivisible.com
X-WR-CALDESC:Events for North Kitsap Indivisible
REFRESH-INTERVAL;VALUE=DURATION:PT1H
X-Robots-Tag:noindex
X-PUBLISHED-TTL:PT1H
BEGIN:VTIMEZONE
TZID:America/Los_Angeles
BEGIN:DAYLIGHT
TZOFFSETFROM:-0800
TZOFFSETTO:-0700
TZNAME:PDT
DTSTART:20250309T100000
END:DAYLIGHT
BEGIN:STANDARD
TZOFFSETFROM:-0700
TZOFFSETTO:-0800
TZNAME:PST
DTSTART:20251102T090000
END:STANDARD
BEGIN:DAYLIGHT
TZOFFSETFROM:-0800
TZOFFSETTO:-0700
TZNAME:PDT
DTSTART:20260308T100000
END:DAYLIGHT
BEGIN:STANDARD
TZOFFSETFROM:-0700
TZOFFSETTO:-0800
TZNAME:PST
DTSTART:20261101T090000
END:STANDARD
BEGIN:DAYLIGHT
TZOFFSETFROM:-0800
TZOFFSETTO:-0700
TZNAME:PDT
DTSTART:20270314T100000
END:DAYLIGHT
BEGIN:STANDARD
TZOFFSETFROM:-0700
TZOFFSETTO:-0800
TZNAME:PST
DTSTART:20271107T090000
END:STANDARD
END:VTIMEZONE
BEGIN:VEVENT
DTSTART;TZID=America/Los_Angeles:20260517T160000
DTEND;TZID=America/Los_Angeles:20260517T170000
DTSTAMP:20260422T160859
CREATED:20260119T084057Z
LAST-MODIFIED:20260119T084057Z
UID:10003635-1779033600-1779037200@nkindivisible.com
SUMMARY:End the Occupation - Free Palestine Rally - Bremerton
DESCRIPTION:Hosted by Kitsap Palestine Solidarity Coalition Where: Manette Circle (East end of Manette bridge)
URL:https://nkindivisible.com/event/end-the-occupation-free-palestine-rally-bremerton/2026-05-17/
END:VEVENT
BEGIN:VEVENT
DTSTART;TZID=America/Los_Angeles:20260517T124500
DTEND;TZID=America/Los_Angeles:20260517T141500
DTSTAMP:20260422T160859
CREATED:20250913T053215Z
LAST-MODIFIED:20250914T205035Z
UID:10002496-1779021900-1779027300@nkindivisible.com
SUMMARY:Free Palestine-Kingston
DESCRIPTION:Alternate Sundays between Bainbridge and Kingston.\nWhere: Kola Kole Park Sidewalk across from Coffee Oasis
URL:https://nkindivisible.com/event/free-palestine-kingston-2/2026-05-17/
END:VEVENT
BEGIN:VEVENT
DTSTART;TZID=America/Los_Angeles:20260516T123000
DTEND;TZID=America/Los_Angeles:20260516T140000
DTSTAMP:20260422T160859
CREATED:20260401T195608Z
LAST-MODIFIED:20260401T195610Z
UID:10004026-1778934600-1778940000@nkindivisible.com
SUMMARY:NKI Sign-Waving
DESCRIPTION:Hosted by North Kitsap Indivisible.\nWhere: George’s Corner\, the intersection of Bond Rd and Hansville Hwy (27000 Miller Bay Rd NE Kingston)\nBring your signs\, your determination to sink the tRump ship and your friends! We have extra signs so don’t let that be a barrier.
URL:https://nkindivisible.com/event/nki-sign-waving-2-3-2-3/2026-05-16/
END:VEVENT
BEGIN:VEVENT
DTSTART;TZID=America/Los_Angeles:20260515T160000
DTEND;TZID=America/Los_Angeles:20260515T173000
DTSTAMP:20260422T160859
CREATED:20250914T061829Z
LAST-MODIFIED:20250914T201149Z
UID:10000184-1778860800-1778866200@nkindivisible.com
SUMMARY:Fridays @4 Letter Writing and More
DESCRIPTION:Swing Left– Fridays @4 Letter Writing and More\n\n\n\n\nThis is a weekly meeting via Zoom. Learn about the next letter writing campaign with Vote Forward.   And more: making phone calls to our elected officials\, sending postcards to voters\, using Bluesky…. \nSign up at https://swingleft.org/event/register/mobilize:274619?source=%2Fgroup%2Fswing-left-fridays-at-4-letter-writing-team&s=u
URL:https://nkindivisible.com/event/fridays-4-letter-writing-and-more-3/2026-05-15/
END:VEVENT
BEGIN:VEVENT
DTSTART;TZID=America/Los_Angeles:20260515T160000
DTEND;TZID=America/Los_Angeles:20260515T170000
DTSTAMP:20260422T160859
CREATED:20250913T053001Z
LAST-MODIFIED:20250914T204719Z
UID:10002123-1778860800-1778864400@nkindivisible.com
SUMMARY:End Occupation of Palestine
DESCRIPTION:Every Friday from 4 to 5pm. Next Gathering pm September 5th\nWhere: Corner of Viking Way and Finn Hill Rd in Poulsbo\, In front of the Viking Statue\nBring signs
URL:https://nkindivisible.com/event/end-occupation-of-palestine-2/2026-05-15/
END:VEVENT
BEGIN:VEVENT
DTSTART;TZID=America/Los_Angeles:20260514T120000
DTEND;TZID=America/Los_Angeles:20260514T130000
DTSTAMP:20260422T160859
CREATED:20260208T235115Z
LAST-MODIFIED:20260409T201120Z
UID:10003973-1778760000-1778763600@nkindivisible.com
SUMMARY:What's The Plan with Indivisible Co-founders
DESCRIPTION:Join Indivisible co-founders Leah Greenberg and Ezra Levin each week\, as we carve out an hour to discuss what’s happening and – more importantly – what’s the plan?\n\nVirtual event. Sign up here.
URL:https://nkindivisible.com/event/whats-the-plan-with-indivisible-co-founders-15/2026-05-14/
LOCATION:
END:VEVENT
BEGIN:VEVENT
DTSTART;TZID=America/Los_Angeles:20260513T160000
DTEND;TZID=America/Los_Angeles:20260513T173000
DTSTAMP:20260422T160859
CREATED:20250913T052647Z
LAST-MODIFIED:20250914T202223Z
UID:10001344-1778688000-1778693400@nkindivisible.com
SUMMARY:Rally-Indivisible Bremerton
DESCRIPTION:Every Wednesday from 4 to 5:30 pm.\nHosted by Indivisible Bremerton\nWhere:  Warren @ 15th\, Bremerton.\nJoin us for a peaceful low-key WEEKLY gathering. Bring your signs\, flags\,voices\, and friends. Whether you are a new or seasoned resister – you are welcome to join us.\nContact us at indivisiblebremerton@gmail.com
URL:https://nkindivisible.com/event/rally-indivisible-bremerton-3/2026-05-13/
END:VEVENT
BEGIN:VEVENT
DTSTART;TZID=America/Los_Angeles:20260513T140000
DTEND;TZID=America/Los_Angeles:20260513T153000
DTSTAMP:20260422T160859
CREATED:20250913T052524Z
LAST-MODIFIED:20250914T202009Z
UID:10001084-1778680800-1778686200@nkindivisible.com
SUMMARY:Postcards on Wednesday-Indivisible Bainbridge Island
DESCRIPTION:Every Wednesday  from 2 pm to 3:30 pm.\nHosted by Indivisible Bainbridge Island\nWhere: Upstairs at the Town & Country Market \n\n\nEmail postcards@indivisiblebainbridgeisland.org to get on the reminder list.
URL:https://nkindivisible.com/event/postcards-on-wednesday-indivisible-bainbridge-island-3/2026-05-13/
END:VEVENT
BEGIN:VEVENT
DTSTART;TZID=America/Los_Angeles:20260513T120000
DTEND;TZID=America/Los_Angeles:20260513T133000
DTSTAMP:20260422T160859
CREATED:20250913T052204Z
LAST-MODIFIED:20250914T195502Z
UID:10000444-1778673600-1778679000@nkindivisible.com
SUMMARY:Bainbridge Island Rally for America
DESCRIPTION:Wednesdays\, noon to 1:30 pm\nWhere: the intersection of 305 and Winslow Way.\nWhat: Signs in support of Ukraine\, Medicaid\, Social Security\, Medicare\, Education\, you name it.
URL:https://nkindivisible.com/event/bainbridge-island-rally-for-america-5/2026-05-13/
END:VEVENT
BEGIN:VEVENT
DTSTART;TZID=America/Los_Angeles:20260512T000000
DTEND;TZID=America/Los_Angeles:20260512T000000
DTSTAMP:20260422T160859
CREATED:20250914T201740Z
LAST-MODIFIED:20250914T212106Z
UID:10000998-1778544000-1778544000@nkindivisible.com
SUMMARY:Tuesdays at the VA Hospital\, Seattle
DESCRIPTION:Every 2nd and 4th Tuesday\, 3:00 to 6:00 PM\nTuesdays at the VA Hospital\nHosted by Veterans For Peace Daniel Ellsberg Chapter 92\, Seattle\nWhere: Location: 1660 S Columbian Way\, Seattle.\n\nJoin Veterans\, healthcare workers\, union members & supporters. No cuts to VA services\, no mass firings\, stop the Trump coup!
URL:https://nkindivisible.com/event/tuesdays-at-the-va-hospital-seattle-3-2/2026-05-12/
END:VEVENT
BEGIN:VEVENT
DTSTART;TZID=America/Los_Angeles:20260510T160000
DTEND;TZID=America/Los_Angeles:20260510T170000
DTSTAMP:20260422T160859
CREATED:20260119T084057Z
LAST-MODIFIED:20260119T084057Z
UID:10003634-1778428800-1778432400@nkindivisible.com
SUMMARY:End the Occupation - Free Palestine Rally - Bremerton
DESCRIPTION:Hosted by Kitsap Palestine Solidarity Coalition Where: Manette Circle (East end of Manette bridge)
URL:https://nkindivisible.com/event/end-the-occupation-free-palestine-rally-bremerton/2026-05-10/
END:VEVENT
BEGIN:VEVENT
DTSTART;TZID=America/Los_Angeles:20260510T124500
DTEND;TZID=America/Los_Angeles:20260510T141500
DTSTAMP:20260422T160859
CREATED:20250902T064758Z
LAST-MODIFIED:20250914T204902Z
UID:10002366-1778417100-1778422500@nkindivisible.com
SUMMARY:Free Palestine-Bainbridge Island
DESCRIPTION:Alternate Sundays between Bainbridge Island and Kingston.\nWhere: Stop light near Ferry Terminal
URL:https://nkindivisible.com/event/free-palestine-bainbridge-island/2026-05-10/
END:VEVENT
BEGIN:VEVENT
DTSTART;TZID=America/Los_Angeles:20260510T110000
DTEND;TZID=America/Los_Angeles:20260510T133000
DTSTAMP:20260422T160859
CREATED:20251129T005609Z
LAST-MODIFIED:20260412T203903Z
UID:10001603-1778410800-1778419800@nkindivisible.com
SUMMARY:Poulsbo Weekly Democracy Rally
DESCRIPTION:Hosted by Poulsbo For All. \nWhere: Meet at the gazebo\, waterfront park.\nBring your signs\, your friends\, and your determination stand up for democracy. This is a peaceful event\, and it starts with an inspiring talk by Dr. Claudia Gorbman. Then attendees march with chants and signs\, and ending with open mike and inspirational comments from attendees at the gazebo. \nDuring winter months\, event may be called off due to weather.
URL:https://nkindivisible.com/event/poulsbo-weekly-democracy-rally-2-2/2026-05-10/
END:VEVENT
BEGIN:VEVENT
DTSTART;TZID=America/Los_Angeles:20260509T123000
DTEND;TZID=America/Los_Angeles:20260509T140000
DTSTAMP:20260422T160859
CREATED:20260401T195608Z
LAST-MODIFIED:20260401T195610Z
UID:10004025-1778329800-1778335200@nkindivisible.com
SUMMARY:NKI Sign-Waving
DESCRIPTION:Hosted by North Kitsap Indivisible.\nWhere: George’s Corner\, the intersection of Bond Rd and Hansville Hwy (27000 Miller Bay Rd NE Kingston)\nBring your signs\, your determination to sink the tRump ship and your friends! We have extra signs so don’t let that be a barrier.
URL:https://nkindivisible.com/event/nki-sign-waving-2-3-2-3/2026-05-09/
END:VEVENT
BEGIN:VEVENT
DTSTART;TZID=America/Los_Angeles:20260509T094500
DTEND;TZID=America/Los_Angeles:20260509T111500
DTSTAMP:20260422T160859
CREATED:20251129T010238Z
LAST-MODIFIED:20251129T010238Z
UID:10003484-1778319900-1778325300@nkindivisible.com
SUMMARY:Signs of Fascism\, Kingston
DESCRIPTION:Hosted by Kingston Alliance for Democracy\nWhere: Kola Kole Park near the ferry dock\, 26100 Bannister St NE\, Kingston\nThe Kingston Alliance for Democracy will be holding the “Signs of Fascism” as the ferry traffic goes by. It is very powerful. We furnish the signs. Wear all black\, dress warm\, and plan for rain. We have a few black umbrellas! Watch the video and you can see what it looks like here.
URL:https://nkindivisible.com/event/signs-of-fascism-kingston/2026-05-09/
END:VEVENT
BEGIN:VEVENT
DTSTART;TZID=America/Los_Angeles:20260508T160000
DTEND;TZID=America/Los_Angeles:20260508T173000
DTSTAMP:20260422T160859
CREATED:20250914T061829Z
LAST-MODIFIED:20250914T201149Z
UID:10000183-1778256000-1778261400@nkindivisible.com
SUMMARY:Fridays @4 Letter Writing and More
DESCRIPTION:Swing Left– Fridays @4 Letter Writing and More\n\n\n\n\nThis is a weekly meeting via Zoom. Learn about the next letter writing campaign with Vote Forward.   And more: making phone calls to our elected officials\, sending postcards to voters\, using Bluesky…. \nSign up at https://swingleft.org/event/register/mobilize:274619?source=%2Fgroup%2Fswing-left-fridays-at-4-letter-writing-team&s=u
URL:https://nkindivisible.com/event/fridays-4-letter-writing-and-more-3/2026-05-08/
END:VEVENT
BEGIN:VEVENT
DTSTART;TZID=America/Los_Angeles:20260508T160000
DTEND;TZID=America/Los_Angeles:20260508T170000
DTSTAMP:20260422T160859
CREATED:20250913T053001Z
LAST-MODIFIED:20250914T204719Z
UID:10002122-1778256000-1778259600@nkindivisible.com
SUMMARY:End Occupation of Palestine
DESCRIPTION:Every Friday from 4 to 5pm. Next Gathering pm September 5th\nWhere: Corner of Viking Way and Finn Hill Rd in Poulsbo\, In front of the Viking Statue\nBring signs
URL:https://nkindivisible.com/event/end-occupation-of-palestine-2/2026-05-08/
END:VEVENT
BEGIN:VEVENT
DTSTART;TZID=America/Los_Angeles:20260507T120000
DTEND;TZID=America/Los_Angeles:20260507T130000
DTSTAMP:20260422T160859
CREATED:20260208T235115Z
LAST-MODIFIED:20260409T201120Z
UID:10003972-1778155200-1778158800@nkindivisible.com
SUMMARY:What's The Plan with Indivisible Co-founders
DESCRIPTION:Join Indivisible co-founders Leah Greenberg and Ezra Levin each week\, as we carve out an hour to discuss what’s happening and – more importantly – what’s the plan?\n\nVirtual event. Sign up here.
URL:https://nkindivisible.com/event/whats-the-plan-with-indivisible-co-founders-15/2026-05-07/
LOCATION:
END:VEVENT
BEGIN:VEVENT
DTSTART;TZID=America/Los_Angeles:20260506T160000
DTEND;TZID=America/Los_Angeles:20260506T173000
DTSTAMP:20260422T160859
CREATED:20250913T052647Z
LAST-MODIFIED:20250914T202223Z
UID:10001343-1778083200-1778088600@nkindivisible.com
SUMMARY:Rally-Indivisible Bremerton
DESCRIPTION:Every Wednesday from 4 to 5:30 pm.\nHosted by Indivisible Bremerton\nWhere:  Warren @ 15th\, Bremerton.\nJoin us for a peaceful low-key WEEKLY gathering. Bring your signs\, flags\,voices\, and friends. Whether you are a new or seasoned resister – you are welcome to join us.\nContact us at indivisiblebremerton@gmail.com
URL:https://nkindivisible.com/event/rally-indivisible-bremerton-3/2026-05-06/
END:VEVENT
BEGIN:VEVENT
DTSTART;TZID=America/Los_Angeles:20260506T140000
DTEND;TZID=America/Los_Angeles:20260506T153000
DTSTAMP:20260422T160859
CREATED:20250913T052524Z
LAST-MODIFIED:20250914T202009Z
UID:10001083-1778076000-1778081400@nkindivisible.com
SUMMARY:Postcards on Wednesday-Indivisible Bainbridge Island
DESCRIPTION:Every Wednesday  from 2 pm to 3:30 pm.\nHosted by Indivisible Bainbridge Island\nWhere: Upstairs at the Town & Country Market \n\n\nEmail postcards@indivisiblebainbridgeisland.org to get on the reminder list.
URL:https://nkindivisible.com/event/postcards-on-wednesday-indivisible-bainbridge-island-3/2026-05-06/
END:VEVENT
BEGIN:VEVENT
DTSTART;TZID=America/Los_Angeles:20260506T120000
DTEND;TZID=America/Los_Angeles:20260506T133000
DTSTAMP:20260422T160859
CREATED:20250913T052204Z
LAST-MODIFIED:20250914T195502Z
UID:10000443-1778068800-1778074200@nkindivisible.com
SUMMARY:Bainbridge Island Rally for America
DESCRIPTION:Wednesdays\, noon to 1:30 pm\nWhere: the intersection of 305 and Winslow Way.\nWhat: Signs in support of Ukraine\, Medicaid\, Social Security\, Medicare\, Education\, you name it.
URL:https://nkindivisible.com/event/bainbridge-island-rally-for-america-5/2026-05-06/
END:VEVENT
BEGIN:VEVENT
DTSTART;TZID=America/Los_Angeles:20260503T160000
DTEND;TZID=America/Los_Angeles:20260503T170000
DTSTAMP:20260422T160859
CREATED:20260119T084057Z
LAST-MODIFIED:20260119T084057Z
UID:10003633-1777824000-1777827600@nkindivisible.com
SUMMARY:End the Occupation - Free Palestine Rally - Bremerton
DESCRIPTION:Hosted by Kitsap Palestine Solidarity Coalition Where: Manette Circle (East end of Manette bridge)
URL:https://nkindivisible.com/event/end-the-occupation-free-palestine-rally-bremerton/2026-05-03/
END:VEVENT
BEGIN:VEVENT
DTSTART;TZID=America/Los_Angeles:20260503T124500
DTEND;TZID=America/Los_Angeles:20260503T141500
DTSTAMP:20260422T160859
CREATED:20250913T053215Z
LAST-MODIFIED:20250914T205035Z
UID:10002495-1777812300-1777817700@nkindivisible.com
SUMMARY:Free Palestine-Kingston
DESCRIPTION:Alternate Sundays between Bainbridge and Kingston.\nWhere: Kola Kole Park Sidewalk across from Coffee Oasis
URL:https://nkindivisible.com/event/free-palestine-kingston-2/2026-05-03/
END:VEVENT
BEGIN:VEVENT
DTSTART;TZID=America/Los_Angeles:20260503T110000
DTEND;TZID=America/Los_Angeles:20260503T133000
DTSTAMP:20260422T160859
CREATED:20251129T005609Z
LAST-MODIFIED:20260412T203903Z
UID:10001602-1777806000-1777815000@nkindivisible.com
SUMMARY:Poulsbo Weekly Democracy Rally
DESCRIPTION:Hosted by Poulsbo For All. \nWhere: Meet at the gazebo\, waterfront park.\nBring your signs\, your friends\, and your determination stand up for democracy. This is a peaceful event\, and it starts with an inspiring talk by Dr. Claudia Gorbman. Then attendees march with chants and signs\, and ending with open mike and inspirational comments from attendees at the gazebo. \nDuring winter months\, event may be called off due to weather.
URL:https://nkindivisible.com/event/poulsbo-weekly-democracy-rally-2-2/2026-05-03/
END:VEVENT
BEGIN:VEVENT
DTSTART;TZID=America/Los_Angeles:20260502T123000
DTEND;TZID=America/Los_Angeles:20260502T140000
DTSTAMP:20260422T160859
CREATED:20260401T195608Z
LAST-MODIFIED:20260401T195610Z
UID:10004024-1777725000-1777730400@nkindivisible.com
SUMMARY:NKI Sign-Waving
DESCRIPTION:Hosted by North Kitsap Indivisible.\nWhere: George’s Corner\, the intersection of Bond Rd and Hansville Hwy (27000 Miller Bay Rd NE Kingston)\nBring your signs\, your determination to sink the tRump ship and your friends! We have extra signs so don’t let that be a barrier.
URL:https://nkindivisible.com/event/nki-sign-waving-2-3-2-3/2026-05-02/
END:VEVENT
BEGIN:VEVENT
DTSTART;TZID=America/Los_Angeles:20260501T160000
DTEND;TZID=America/Los_Angeles:20260501T173000
DTSTAMP:20260422T160859
CREATED:20250914T061829Z
LAST-MODIFIED:20250914T201149Z
UID:10000182-1777651200-1777656600@nkindivisible.com
SUMMARY:Fridays @4 Letter Writing and More
DESCRIPTION:Swing Left– Fridays @4 Letter Writing and More\n\n\n\n\nThis is a weekly meeting via Zoom. Learn about the next letter writing campaign with Vote Forward.   And more: making phone calls to our elected officials\, sending postcards to voters\, using Bluesky…. \nSign up at https://swingleft.org/event/register/mobilize:274619?source=%2Fgroup%2Fswing-left-fridays-at-4-letter-writing-team&s=u
URL:https://nkindivisible.com/event/fridays-4-letter-writing-and-more-3/2026-05-01/
END:VEVENT
BEGIN:VEVENT
DTSTART;TZID=America/Los_Angeles:20260501T160000
DTEND;TZID=America/Los_Angeles:20260501T170000
DTSTAMP:20260422T160859
CREATED:20250913T053001Z
LAST-MODIFIED:20250914T204719Z
UID:10002121-1777651200-1777654800@nkindivisible.com
SUMMARY:End Occupation of Palestine
DESCRIPTION:Every Friday from 4 to 5pm. Next Gathering pm September 5th\nWhere: Corner of Viking Way and Finn Hill Rd in Poulsbo\, In front of the Viking Statue\nBring signs
URL:https://nkindivisible.com/event/end-occupation-of-palestine-2/2026-05-01/
END:VEVENT
BEGIN:VEVENT
DTSTART;TZID=America/Los_Angeles:20260430T120000
DTEND;TZID=America/Los_Angeles:20260430T130000
DTSTAMP:20260422T160859
CREATED:20260208T235115Z
LAST-MODIFIED:20260409T201120Z
UID:10003971-1777550400-1777554000@nkindivisible.com
SUMMARY:What's The Plan with Indivisible Co-founders
DESCRIPTION:Join Indivisible co-founders Leah Greenberg and Ezra Levin each week\, as we carve out an hour to discuss what’s happening and – more importantly – what’s the plan?\n\nVirtual event. Sign up here.
URL:https://nkindivisible.com/event/whats-the-plan-with-indivisible-co-founders-15/2026-04-30/
LOCATION:
END:VEVENT
BEGIN:VEVENT
DTSTART;TZID=America/Los_Angeles:20260429T160000
DTEND;TZID=America/Los_Angeles:20260429T173000
DTSTAMP:20260422T160859
CREATED:20250913T052647Z
LAST-MODIFIED:20250914T202223Z
UID:10001342-1777478400-1777483800@nkindivisible.com
SUMMARY:Rally-Indivisible Bremerton
DESCRIPTION:Every Wednesday from 4 to 5:30 pm.\nHosted by Indivisible Bremerton\nWhere:  Warren @ 15th\, Bremerton.\nJoin us for a peaceful low-key WEEKLY gathering. Bring your signs\, flags\,voices\, and friends. Whether you are a new or seasoned resister – you are welcome to join us.\nContact us at indivisiblebremerton@gmail.com
URL:https://nkindivisible.com/event/rally-indivisible-bremerton-3/2026-04-29/
END:VEVENT
BEGIN:VEVENT
DTSTART;TZID=America/Los_Angeles:20260429T140000
DTEND;TZID=America/Los_Angeles:20260429T153000
DTSTAMP:20260422T160859
CREATED:20250913T052524Z
LAST-MODIFIED:20250914T202009Z
UID:10001082-1777471200-1777476600@nkindivisible.com
SUMMARY:Postcards on Wednesday-Indivisible Bainbridge Island
DESCRIPTION:Every Wednesday  from 2 pm to 3:30 pm.\nHosted by Indivisible Bainbridge Island\nWhere: Upstairs at the Town & Country Market \n\n\nEmail postcards@indivisiblebainbridgeisland.org to get on the reminder list.
URL:https://nkindivisible.com/event/postcards-on-wednesday-indivisible-bainbridge-island-3/2026-04-29/
END:VEVENT
END:VCALENDAR