BEGIN:VCALENDAR
VERSION:2.0
PRODID:-//North Kitsap Indivisible - ECPv6.15.20//NONSGML v1.0//EN
CALSCALE:GREGORIAN
METHOD:PUBLISH
X-WR-CALNAME:North Kitsap Indivisible
X-ORIGINAL-URL:https://nkindivisible.com
X-WR-CALDESC:Events for North Kitsap Indivisible
REFRESH-INTERVAL;VALUE=DURATION:PT1H
X-Robots-Tag:noindex
X-PUBLISHED-TTL:PT1H
BEGIN:VTIMEZONE
TZID:America/Los_Angeles
BEGIN:DAYLIGHT
TZOFFSETFROM:-0800
TZOFFSETTO:-0700
TZNAME:PDT
DTSTART:20240310T100000
END:DAYLIGHT
BEGIN:STANDARD
TZOFFSETFROM:-0700
TZOFFSETTO:-0800
TZNAME:PST
DTSTART:20241103T090000
END:STANDARD
BEGIN:DAYLIGHT
TZOFFSETFROM:-0800
TZOFFSETTO:-0700
TZNAME:PDT
DTSTART:20250309T100000
END:DAYLIGHT
BEGIN:STANDARD
TZOFFSETFROM:-0700
TZOFFSETTO:-0800
TZNAME:PST
DTSTART:20251102T090000
END:STANDARD
BEGIN:DAYLIGHT
TZOFFSETFROM:-0800
TZOFFSETTO:-0700
TZNAME:PDT
DTSTART:20260308T100000
END:DAYLIGHT
BEGIN:STANDARD
TZOFFSETFROM:-0700
TZOFFSETTO:-0800
TZNAME:PST
DTSTART:20261101T090000
END:STANDARD
END:VTIMEZONE
BEGIN:VEVENT
DTSTART;TZID=America/Los_Angeles:20251130T124500
DTEND;TZID=America/Los_Angeles:20251130T141500
DTSTAMP:20260422T202926
CREATED:20250913T053215Z
LAST-MODIFIED:20250914T205035Z
UID:10002484-1764506700-1764512100@nkindivisible.com
SUMMARY:Free Palestine-Kingston
DESCRIPTION:Alternate Sundays between Bainbridge and Kingston.\nWhere: Kola Kole Park Sidewalk across from Coffee Oasis
URL:https://nkindivisible.com/event/free-palestine-kingston-2/2025-11-30/
END:VEVENT
BEGIN:VEVENT
DTSTART;TZID=America/Los_Angeles:20251129T121500
DTEND;TZID=America/Los_Angeles:20251129T131500
DTSTAMP:20260422T202926
CREATED:20251129T005819Z
LAST-MODIFIED:20251129T005819Z
UID:10002944-1764418500-1764422100@nkindivisible.com
SUMMARY:NKI Sign-Waving
DESCRIPTION:Where: George’s Corner at the intersection of Bond Rd (Hwy 104) and Miller Bay/Hansville Rd.  Parking at the Rite Aid lot. \nBring your own signs or we have extras. \nAfterwards we will head over to the Puerto Vallarta across the street for a friendly get-together!
URL:https://nkindivisible.com/event/nki-sign-waving-2/2025-11-29/
END:VEVENT
BEGIN:VEVENT
DTSTART;TZID=America/Los_Angeles:20251128T160000
DTEND;TZID=America/Los_Angeles:20251128T173000
DTSTAMP:20260422T202926
CREATED:20250914T061829Z
LAST-MODIFIED:20250914T201149Z
UID:10000160-1764345600-1764351000@nkindivisible.com
SUMMARY:Fridays @4 Letter Writing and More
DESCRIPTION:Swing Left– Fridays @4 Letter Writing and More\n\n\n\n\nThis is a weekly meeting via Zoom. Learn about the next letter writing campaign with Vote Forward.   And more: making phone calls to our elected officials\, sending postcards to voters\, using Bluesky…. \nSign up at https://swingleft.org/event/register/mobilize:274619?source=%2Fgroup%2Fswing-left-fridays-at-4-letter-writing-team&s=u
URL:https://nkindivisible.com/event/fridays-4-letter-writing-and-more-3/2025-11-28/
END:VEVENT
BEGIN:VEVENT
DTSTART;TZID=America/Los_Angeles:20251128T160000
DTEND;TZID=America/Los_Angeles:20251128T170000
DTSTAMP:20260422T202926
CREATED:20250913T053001Z
LAST-MODIFIED:20250914T204719Z
UID:10002099-1764345600-1764349200@nkindivisible.com
SUMMARY:End Occupation of Palestine
DESCRIPTION:Every Friday from 4 to 5pm. Next Gathering pm September 5th\nWhere: Corner of Viking Way and Finn Hill Rd in Poulsbo\, In front of the Viking Statue\nBring signs
URL:https://nkindivisible.com/event/end-occupation-of-palestine-2/2025-11-28/
END:VEVENT
BEGIN:VEVENT
DTSTART;TZID=America/Los_Angeles:20251127T120000
DTEND;TZID=America/Los_Angeles:20251127T130000
DTSTAMP:20260422T202926
CREATED:20250913T052800Z
LAST-MODIFIED:20251003T070858Z
UID:10001839-1764244800-1764248400@nkindivisible.com
SUMMARY:What’s the Plan? With Indivisible Co-Founders
DESCRIPTION:Join Indivisible co-founders Leah Greenberg and Ezra Levin each week\, as we carve out an hour to discuss what’s happening and – more importantly – what’s the plan?\n\nVirtual event.  Sign up here.
URL:https://nkindivisible.com/event/whats-the-plan-with-indivisible-co-founders-11/2025-11-27/
END:VEVENT
BEGIN:VEVENT
DTSTART;TZID=America/Los_Angeles:20251126T160000
DTEND;TZID=America/Los_Angeles:20251126T173000
DTSTAMP:20260422T202926
CREATED:20250913T052647Z
LAST-MODIFIED:20250914T202223Z
UID:10001320-1764172800-1764178200@nkindivisible.com
SUMMARY:Rally-Indivisible Bremerton
DESCRIPTION:Every Wednesday from 4 to 5:30 pm.\nHosted by Indivisible Bremerton\nWhere:  Warren @ 15th\, Bremerton.\nJoin us for a peaceful low-key WEEKLY gathering. Bring your signs\, flags\,voices\, and friends. Whether you are a new or seasoned resister – you are welcome to join us.\nContact us at indivisiblebremerton@gmail.com
URL:https://nkindivisible.com/event/rally-indivisible-bremerton-3/2025-11-26/
END:VEVENT
BEGIN:VEVENT
DTSTART;TZID=America/Los_Angeles:20251126T140000
DTEND;TZID=America/Los_Angeles:20251126T153000
DTSTAMP:20260422T202926
CREATED:20250913T052524Z
LAST-MODIFIED:20250914T202009Z
UID:10001060-1764165600-1764171000@nkindivisible.com
SUMMARY:Postcards on Wednesday-Indivisible Bainbridge Island
DESCRIPTION:Every Wednesday  from 2 pm to 3:30 pm.\nHosted by Indivisible Bainbridge Island\nWhere: Upstairs at the Town & Country Market \n\n\nEmail postcards@indivisiblebainbridgeisland.org to get on the reminder list.
URL:https://nkindivisible.com/event/postcards-on-wednesday-indivisible-bainbridge-island-3/2025-11-26/
END:VEVENT
BEGIN:VEVENT
DTSTART;TZID=America/Los_Angeles:20251126T120000
DTEND;TZID=America/Los_Angeles:20251126T133000
DTSTAMP:20260422T202926
CREATED:20250913T052204Z
LAST-MODIFIED:20250914T195502Z
UID:10000420-1764158400-1764163800@nkindivisible.com
SUMMARY:Bainbridge Island Rally for America
DESCRIPTION:Wednesdays\, noon to 1:30 pm\nWhere: the intersection of 305 and Winslow Way.\nWhat: Signs in support of Ukraine\, Medicaid\, Social Security\, Medicare\, Education\, you name it.
URL:https://nkindivisible.com/event/bainbridge-island-rally-for-america-5/2025-11-26/
END:VEVENT
BEGIN:VEVENT
DTSTART;TZID=America/Los_Angeles:20251125T150000
DTEND;TZID=America/Los_Angeles:20251125T180000
DTSTAMP:20260422T202926
CREATED:20250913T052056Z
LAST-MODIFIED:20250914T211648Z
UID:10000933-1764082800-1764093600@nkindivisible.com
SUMMARY:Tuesdays at the VA Hospital\, Seattle
DESCRIPTION:Every 2nd and 4th Tuesday\, 3:00 to 6:00 PM\nTuesdays at the VA Hospital\nHosted by Veterans For Peace Daniel Ellsberg Chapter 92\, Seattle\nWhere: Location: 1660 S Columbian Way\, Seattle.\n\nJoin Veterans\, healthcare workers\, union members & supporters. No cuts to VA services\, no mass firings\, stop the Trump coup!
URL:https://nkindivisible.com/event/tuesdays-at-the-va-hospital-seattle-3/2025-11-25/
END:VEVENT
BEGIN:VEVENT
DTSTART;TZID=America/Los_Angeles:20251123T124500
DTEND;TZID=America/Los_Angeles:20251123T141500
DTSTAMP:20260422T202926
CREATED:20250902T064758Z
LAST-MODIFIED:20250914T204902Z
UID:10002354-1763901900-1763907300@nkindivisible.com
SUMMARY:Free Palestine-Bainbridge Island
DESCRIPTION:Alternate Sundays between Bainbridge Island and Kingston.\nWhere: Stop light near Ferry Terminal
URL:https://nkindivisible.com/event/free-palestine-bainbridge-island/2025-11-23/
END:VEVENT
BEGIN:VEVENT
DTSTART;TZID=America/Los_Angeles:20251123T110000
DTEND;TZID=America/Los_Angeles:20251123T133000
DTSTAMP:20260422T202926
CREATED:20251129T005609Z
LAST-MODIFIED:20260412T203903Z
UID:10001579-1763895600-1763904600@nkindivisible.com
SUMMARY:Poulsbo Weekly Democracy Rally
DESCRIPTION:Hosted by Poulsbo For All. \nWhere: Meet at the gazebo\, waterfront park.\nBring your signs\, your friends\, and your determination stand up for democracy. This is a peaceful event\, and it starts with an inspiring talk by Dr. Claudia Gorbman. Then attendees march with chants and signs\, and ending with open mike and inspirational comments from attendees at the gazebo. \nDuring winter months\, event may be called off due to weather.
URL:https://nkindivisible.com/event/poulsbo-weekly-democracy-rally-2-2/2025-11-23/
END:VEVENT
BEGIN:VEVENT
DTSTART;TZID=America/Los_Angeles:20251122T120000
DTEND;TZID=America/Los_Angeles:20251122T130000
DTSTAMP:20260422T202926
CREATED:20251105T224039Z
LAST-MODIFIED:20251105T224039Z
UID:10002943-1763812800-1763816400@nkindivisible.com
SUMMARY:NKI Sign-Waving
DESCRIPTION:Where: George’s Corner at the intersection of Bond Rd (Hwy 104) and Miller Bay/Hansville Rd.  Parking at the Rite Aid lot. \nBring your own signs or we have extras. \nAfterwards we will head over to the Puerto Vallarta across the street for a friendly get-together!
URL:https://nkindivisible.com/event/nki-sign-waving/2025-11-22/
END:VEVENT
BEGIN:VEVENT
DTSTART;TZID=America/Los_Angeles:20251121T160000
DTEND;TZID=America/Los_Angeles:20251121T173000
DTSTAMP:20260422T202926
CREATED:20250914T061829Z
LAST-MODIFIED:20250914T201149Z
UID:10000159-1763740800-1763746200@nkindivisible.com
SUMMARY:Fridays @4 Letter Writing and More
DESCRIPTION:Swing Left– Fridays @4 Letter Writing and More\n\n\n\n\nThis is a weekly meeting via Zoom. Learn about the next letter writing campaign with Vote Forward.   And more: making phone calls to our elected officials\, sending postcards to voters\, using Bluesky…. \nSign up at https://swingleft.org/event/register/mobilize:274619?source=%2Fgroup%2Fswing-left-fridays-at-4-letter-writing-team&s=u
URL:https://nkindivisible.com/event/fridays-4-letter-writing-and-more-3/2025-11-21/
END:VEVENT
BEGIN:VEVENT
DTSTART;TZID=America/Los_Angeles:20251121T160000
DTEND;TZID=America/Los_Angeles:20251121T170000
DTSTAMP:20260422T202926
CREATED:20250913T053001Z
LAST-MODIFIED:20250914T204719Z
UID:10002098-1763740800-1763744400@nkindivisible.com
SUMMARY:End Occupation of Palestine
DESCRIPTION:Every Friday from 4 to 5pm. Next Gathering pm September 5th\nWhere: Corner of Viking Way and Finn Hill Rd in Poulsbo\, In front of the Viking Statue\nBring signs
URL:https://nkindivisible.com/event/end-occupation-of-palestine-2/2025-11-21/
END:VEVENT
BEGIN:VEVENT
DTSTART;TZID=America/Los_Angeles:20251120T120000
DTEND;TZID=America/Los_Angeles:20251120T130000
DTSTAMP:20260422T202926
CREATED:20250913T052800Z
LAST-MODIFIED:20251003T070858Z
UID:10001838-1763640000-1763643600@nkindivisible.com
SUMMARY:What’s the Plan? With Indivisible Co-Founders
DESCRIPTION:Join Indivisible co-founders Leah Greenberg and Ezra Levin each week\, as we carve out an hour to discuss what’s happening and – more importantly – what’s the plan?\n\nVirtual event.  Sign up here.
URL:https://nkindivisible.com/event/whats-the-plan-with-indivisible-co-founders-11/2025-11-20/
END:VEVENT
BEGIN:VEVENT
DTSTART;TZID=America/Los_Angeles:20251119T160000
DTEND;TZID=America/Los_Angeles:20251119T173000
DTSTAMP:20260422T202926
CREATED:20250913T052647Z
LAST-MODIFIED:20250914T202223Z
UID:10001319-1763568000-1763573400@nkindivisible.com
SUMMARY:Rally-Indivisible Bremerton
DESCRIPTION:Every Wednesday from 4 to 5:30 pm.\nHosted by Indivisible Bremerton\nWhere:  Warren @ 15th\, Bremerton.\nJoin us for a peaceful low-key WEEKLY gathering. Bring your signs\, flags\,voices\, and friends. Whether you are a new or seasoned resister – you are welcome to join us.\nContact us at indivisiblebremerton@gmail.com
URL:https://nkindivisible.com/event/rally-indivisible-bremerton-3/2025-11-19/
END:VEVENT
BEGIN:VEVENT
DTSTART;TZID=America/Los_Angeles:20251119T140000
DTEND;TZID=America/Los_Angeles:20251119T153000
DTSTAMP:20260422T202926
CREATED:20250913T052524Z
LAST-MODIFIED:20250914T202009Z
UID:10001059-1763560800-1763566200@nkindivisible.com
SUMMARY:Postcards on Wednesday-Indivisible Bainbridge Island
DESCRIPTION:Every Wednesday  from 2 pm to 3:30 pm.\nHosted by Indivisible Bainbridge Island\nWhere: Upstairs at the Town & Country Market \n\n\nEmail postcards@indivisiblebainbridgeisland.org to get on the reminder list.
URL:https://nkindivisible.com/event/postcards-on-wednesday-indivisible-bainbridge-island-3/2025-11-19/
END:VEVENT
BEGIN:VEVENT
DTSTART;TZID=America/Los_Angeles:20251119T120000
DTEND;TZID=America/Los_Angeles:20251119T133000
DTSTAMP:20260422T202926
CREATED:20250913T052204Z
LAST-MODIFIED:20250914T195502Z
UID:10000419-1763553600-1763559000@nkindivisible.com
SUMMARY:Bainbridge Island Rally for America
DESCRIPTION:Wednesdays\, noon to 1:30 pm\nWhere: the intersection of 305 and Winslow Way.\nWhat: Signs in support of Ukraine\, Medicaid\, Social Security\, Medicare\, Education\, you name it.
URL:https://nkindivisible.com/event/bainbridge-island-rally-for-america-5/2025-11-19/
END:VEVENT
BEGIN:VEVENT
DTSTART;TZID=America/Los_Angeles:20251118T120000
DTEND;TZID=America/Los_Angeles:20251118T143000
DTSTAMP:20260422T202926
CREATED:20251013T184914Z
LAST-MODIFIED:20251013T184914Z
UID:10002677-1763467200-1763476200@nkindivisible.com
SUMMARY:Spirituality\, Resistance and Love\, How Our Faiths Can Heal Our Democracy
DESCRIPTION:Where: Grace Episcopal Church\, 8595 NE Day Rd\, Bainbridge Island \nJoin Spiritual Leaders \n\nDee Eisenhauer\, Eagle Harbor Congregational\nPhilip Favero\, Agate Passage Friends Meeting Kitsap\nKathryn Lafond\, Sufi\nEric Mason\, Grace Episcopal
URL:https://nkindivisible.com/event/spirituality-resistance-and-love-how-our-faiths-can-heal-our-democracy/
END:VEVENT
BEGIN:VEVENT
DTSTART;TZID=America/Los_Angeles:20251117T180000
DTEND;TZID=America/Los_Angeles:20251117T203000
DTSTAMP:20260422T202926
CREATED:20250815T071525Z
LAST-MODIFIED:20250914T205216Z
UID:10002610-1763402400-1763411400@nkindivisible.com
SUMMARY:Kitsap County Democrats Gen Membership Mtg
DESCRIPTION:Every Third Monday. \nWhere: 1240 Hollis St\, Bremerton [Cloverleaf Sports Bar & Grill]\nEveryone welcome. You don’t need to be a member. See what the Kitsap Dems are doing \n6:00 PM Dinner/Social \n7:00 PM  Meeting
URL:https://nkindivisible.com/event/kitsap-county-democrats-gen-membership-mtg-2/2025-11-17/
END:VEVENT
BEGIN:VEVENT
DTSTART;TZID=America/Los_Angeles:20251116T124500
DTEND;TZID=America/Los_Angeles:20251116T141500
DTSTAMP:20260422T202926
CREATED:20250913T053215Z
LAST-MODIFIED:20250914T205035Z
UID:10002483-1763297100-1763302500@nkindivisible.com
SUMMARY:Free Palestine-Kingston
DESCRIPTION:Alternate Sundays between Bainbridge and Kingston.\nWhere: Kola Kole Park Sidewalk across from Coffee Oasis
URL:https://nkindivisible.com/event/free-palestine-kingston-2/2025-11-16/
END:VEVENT
BEGIN:VEVENT
DTSTART;TZID=America/Los_Angeles:20251116T110000
DTEND;TZID=America/Los_Angeles:20251116T133000
DTSTAMP:20260422T202926
CREATED:20250913T053659Z
LAST-MODIFIED:20250914T203936Z
UID:10001578-1763290800-1763299800@nkindivisible.com
SUMMARY:Poulsbo Weekly Democracy Rally
DESCRIPTION:Hosted by Poulsbo For All. \nWhere: Meet at the gazebo\, waterfront park.\nBring your signs\, your friends\, and your determination stand up for democracy. This is a peaceful event\, and it starts with an inspiring talk by Dr. Claudia Gorbman. Then attendees march with chants and signs\, and ending with open mike and inspirational comments from attendees at the gazebo.
URL:https://nkindivisible.com/event/poulsbo-weekly-democracy-rally-2/2025-11-16/
END:VEVENT
BEGIN:VEVENT
DTSTART;TZID=America/Los_Angeles:20251116T110000
DTEND;TZID=America/Los_Angeles:20251116T130000
DTSTAMP:20260422T202926
CREATED:20251025T213346Z
LAST-MODIFIED:20251025T213346Z
UID:10002940-1763290800-1763298000@nkindivisible.com
SUMMARY:Pramila Jayapal's Resistance Lab (Zoom)
DESCRIPTION:Pramila Jayapal’s Resistance Lab:  Virtual Organizing Training \nIt’s a few months out\, which gives us time to build this into one of our largest trainings ever. Click here to RSVP now. Click here to sign up to host a house party!
URL:https://nkindivisible.com/event/pramila-jayapals-resistance-lab-zoom/
END:VEVENT
BEGIN:VEVENT
DTSTART;TZID=America/Los_Angeles:20251115T120000
DTEND;TZID=America/Los_Angeles:20251115T130000
DTSTAMP:20260422T202926
CREATED:20251105T224039Z
LAST-MODIFIED:20251105T224039Z
UID:10002942-1763208000-1763211600@nkindivisible.com
SUMMARY:NKI Sign-Waving
DESCRIPTION:Where: George’s Corner at the intersection of Bond Rd (Hwy 104) and Miller Bay/Hansville Rd.  Parking at the Rite Aid lot. \nBring your own signs or we have extras. \nAfterwards we will head over to the Puerto Vallarta across the street for a friendly get-together!
URL:https://nkindivisible.com/event/nki-sign-waving/2025-11-15/
END:VEVENT
BEGIN:VEVENT
DTSTART;TZID=America/Los_Angeles:20251114T160000
DTEND;TZID=America/Los_Angeles:20251114T173000
DTSTAMP:20260422T202926
CREATED:20250914T061829Z
LAST-MODIFIED:20250914T201149Z
UID:10000158-1763136000-1763141400@nkindivisible.com
SUMMARY:Fridays @4 Letter Writing and More
DESCRIPTION:Swing Left– Fridays @4 Letter Writing and More\n\n\n\n\nThis is a weekly meeting via Zoom. Learn about the next letter writing campaign with Vote Forward.   And more: making phone calls to our elected officials\, sending postcards to voters\, using Bluesky…. \nSign up at https://swingleft.org/event/register/mobilize:274619?source=%2Fgroup%2Fswing-left-fridays-at-4-letter-writing-team&s=u
URL:https://nkindivisible.com/event/fridays-4-letter-writing-and-more-3/2025-11-14/
END:VEVENT
BEGIN:VEVENT
DTSTART;TZID=America/Los_Angeles:20251114T160000
DTEND;TZID=America/Los_Angeles:20251114T170000
DTSTAMP:20260422T202926
CREATED:20250913T053001Z
LAST-MODIFIED:20250914T204719Z
UID:10002097-1763136000-1763139600@nkindivisible.com
SUMMARY:End Occupation of Palestine
DESCRIPTION:Every Friday from 4 to 5pm. Next Gathering pm September 5th\nWhere: Corner of Viking Way and Finn Hill Rd in Poulsbo\, In front of the Viking Statue\nBring signs
URL:https://nkindivisible.com/event/end-occupation-of-palestine-2/2025-11-14/
END:VEVENT
BEGIN:VEVENT
DTSTART;TZID=America/Los_Angeles:20251113T120000
DTEND;TZID=America/Los_Angeles:20251113T130000
DTSTAMP:20260422T202926
CREATED:20250913T052800Z
LAST-MODIFIED:20251003T070858Z
UID:10001837-1763035200-1763038800@nkindivisible.com
SUMMARY:What’s the Plan? With Indivisible Co-Founders
DESCRIPTION:Join Indivisible co-founders Leah Greenberg and Ezra Levin each week\, as we carve out an hour to discuss what’s happening and – more importantly – what’s the plan?\n\nVirtual event.  Sign up here.
URL:https://nkindivisible.com/event/whats-the-plan-with-indivisible-co-founders-11/2025-11-13/
END:VEVENT
BEGIN:VEVENT
DTSTART;TZID=America/Los_Angeles:20251112T160000
DTEND;TZID=America/Los_Angeles:20251112T173000
DTSTAMP:20260422T202926
CREATED:20250913T052647Z
LAST-MODIFIED:20250914T202223Z
UID:10001318-1762963200-1762968600@nkindivisible.com
SUMMARY:Rally-Indivisible Bremerton
DESCRIPTION:Every Wednesday from 4 to 5:30 pm.\nHosted by Indivisible Bremerton\nWhere:  Warren @ 15th\, Bremerton.\nJoin us for a peaceful low-key WEEKLY gathering. Bring your signs\, flags\,voices\, and friends. Whether you are a new or seasoned resister – you are welcome to join us.\nContact us at indivisiblebremerton@gmail.com
URL:https://nkindivisible.com/event/rally-indivisible-bremerton-3/2025-11-12/
END:VEVENT
BEGIN:VEVENT
DTSTART;TZID=America/Los_Angeles:20251112T140000
DTEND;TZID=America/Los_Angeles:20251112T153000
DTSTAMP:20260422T202926
CREATED:20250913T052524Z
LAST-MODIFIED:20250914T202009Z
UID:10001058-1762956000-1762961400@nkindivisible.com
SUMMARY:Postcards on Wednesday-Indivisible Bainbridge Island
DESCRIPTION:Every Wednesday  from 2 pm to 3:30 pm.\nHosted by Indivisible Bainbridge Island\nWhere: Upstairs at the Town & Country Market \n\n\nEmail postcards@indivisiblebainbridgeisland.org to get on the reminder list.
URL:https://nkindivisible.com/event/postcards-on-wednesday-indivisible-bainbridge-island-3/2025-11-12/
END:VEVENT
BEGIN:VEVENT
DTSTART;TZID=America/Los_Angeles:20251112T120000
DTEND;TZID=America/Los_Angeles:20251112T133000
DTSTAMP:20260422T202926
CREATED:20250913T052204Z
LAST-MODIFIED:20250914T195502Z
UID:10000418-1762948800-1762954200@nkindivisible.com
SUMMARY:Bainbridge Island Rally for America
DESCRIPTION:Wednesdays\, noon to 1:30 pm\nWhere: the intersection of 305 and Winslow Way.\nWhat: Signs in support of Ukraine\, Medicaid\, Social Security\, Medicare\, Education\, you name it.
URL:https://nkindivisible.com/event/bainbridge-island-rally-for-america-5/2025-11-12/
END:VEVENT
END:VCALENDAR