BEGIN:VCALENDAR
VERSION:2.0
PRODID:-//North Kitsap Indivisible - ECPv6.15.20//NONSGML v1.0//EN
CALSCALE:GREGORIAN
METHOD:PUBLISH
X-WR-CALNAME:North Kitsap Indivisible
X-ORIGINAL-URL:https://nkindivisible.com
X-WR-CALDESC:Events for North Kitsap Indivisible
REFRESH-INTERVAL;VALUE=DURATION:PT1H
X-Robots-Tag:noindex
X-PUBLISHED-TTL:PT1H
BEGIN:VTIMEZONE
TZID:America/Los_Angeles
BEGIN:DAYLIGHT
TZOFFSETFROM:-0800
TZOFFSETTO:-0700
TZNAME:PDT
DTSTART:20240310T100000
END:DAYLIGHT
BEGIN:STANDARD
TZOFFSETFROM:-0700
TZOFFSETTO:-0800
TZNAME:PST
DTSTART:20241103T090000
END:STANDARD
BEGIN:DAYLIGHT
TZOFFSETFROM:-0800
TZOFFSETTO:-0700
TZNAME:PDT
DTSTART:20250309T100000
END:DAYLIGHT
BEGIN:STANDARD
TZOFFSETFROM:-0700
TZOFFSETTO:-0800
TZNAME:PST
DTSTART:20251102T090000
END:STANDARD
BEGIN:DAYLIGHT
TZOFFSETFROM:-0800
TZOFFSETTO:-0700
TZNAME:PDT
DTSTART:20260308T100000
END:DAYLIGHT
BEGIN:STANDARD
TZOFFSETFROM:-0700
TZOFFSETTO:-0800
TZNAME:PST
DTSTART:20261101T090000
END:STANDARD
END:VTIMEZONE
BEGIN:VEVENT
DTSTART;TZID=America/Los_Angeles:20251024T160000
DTEND;TZID=America/Los_Angeles:20251024T173000
DTSTAMP:20260422T215719
CREATED:20250914T061829Z
LAST-MODIFIED:20250914T201149Z
UID:10000155-1761321600-1761327000@nkindivisible.com
SUMMARY:Fridays @4 Letter Writing and More
DESCRIPTION:Swing Left– Fridays @4 Letter Writing and More\n\n\n\n\nThis is a weekly meeting via Zoom. Learn about the next letter writing campaign with Vote Forward.   And more: making phone calls to our elected officials\, sending postcards to voters\, using Bluesky…. \nSign up at https://swingleft.org/event/register/mobilize:274619?source=%2Fgroup%2Fswing-left-fridays-at-4-letter-writing-team&s=u
URL:https://nkindivisible.com/event/fridays-4-letter-writing-and-more-3/2025-10-24/
END:VEVENT
BEGIN:VEVENT
DTSTART;TZID=America/Los_Angeles:20251024T160000
DTEND;TZID=America/Los_Angeles:20251024T170000
DTSTAMP:20260422T215719
CREATED:20250913T053001Z
LAST-MODIFIED:20250914T204719Z
UID:10002094-1761321600-1761325200@nkindivisible.com
SUMMARY:End Occupation of Palestine
DESCRIPTION:Every Friday from 4 to 5pm. Next Gathering pm September 5th\nWhere: Corner of Viking Way and Finn Hill Rd in Poulsbo\, In front of the Viking Statue\nBring signs
URL:https://nkindivisible.com/event/end-occupation-of-palestine-2/2025-10-24/
END:VEVENT
BEGIN:VEVENT
DTSTART;TZID=America/Los_Angeles:20251023T120000
DTEND;TZID=America/Los_Angeles:20251023T130000
DTSTAMP:20260422T215719
CREATED:20250913T052800Z
LAST-MODIFIED:20251003T070858Z
UID:10001834-1761220800-1761224400@nkindivisible.com
SUMMARY:What’s the Plan? With Indivisible Co-Founders
DESCRIPTION:Join Indivisible co-founders Leah Greenberg and Ezra Levin each week\, as we carve out an hour to discuss what’s happening and – more importantly – what’s the plan?\n\nVirtual event.  Sign up here.
URL:https://nkindivisible.com/event/whats-the-plan-with-indivisible-co-founders-11/2025-10-23/
END:VEVENT
BEGIN:VEVENT
DTSTART;TZID=America/Los_Angeles:20251022T160000
DTEND;TZID=America/Los_Angeles:20251022T173000
DTSTAMP:20260422T215719
CREATED:20250913T052647Z
LAST-MODIFIED:20250914T202223Z
UID:10001315-1761148800-1761154200@nkindivisible.com
SUMMARY:Rally-Indivisible Bremerton
DESCRIPTION:Every Wednesday from 4 to 5:30 pm.\nHosted by Indivisible Bremerton\nWhere:  Warren @ 15th\, Bremerton.\nJoin us for a peaceful low-key WEEKLY gathering. Bring your signs\, flags\,voices\, and friends. Whether you are a new or seasoned resister – you are welcome to join us.\nContact us at indivisiblebremerton@gmail.com
URL:https://nkindivisible.com/event/rally-indivisible-bremerton-3/2025-10-22/
END:VEVENT
BEGIN:VEVENT
DTSTART;TZID=America/Los_Angeles:20251022T140000
DTEND;TZID=America/Los_Angeles:20251022T153000
DTSTAMP:20260422T215719
CREATED:20250913T052524Z
LAST-MODIFIED:20250914T202009Z
UID:10001055-1761141600-1761147000@nkindivisible.com
SUMMARY:Postcards on Wednesday-Indivisible Bainbridge Island
DESCRIPTION:Every Wednesday  from 2 pm to 3:30 pm.\nHosted by Indivisible Bainbridge Island\nWhere: Upstairs at the Town & Country Market \n\n\nEmail postcards@indivisiblebainbridgeisland.org to get on the reminder list.
URL:https://nkindivisible.com/event/postcards-on-wednesday-indivisible-bainbridge-island-3/2025-10-22/
END:VEVENT
BEGIN:VEVENT
DTSTART;TZID=America/Los_Angeles:20251022T120000
DTEND;TZID=America/Los_Angeles:20251022T133000
DTSTAMP:20260422T215719
CREATED:20250913T052204Z
LAST-MODIFIED:20250914T195502Z
UID:10000415-1761134400-1761139800@nkindivisible.com
SUMMARY:Bainbridge Island Rally for America
DESCRIPTION:Wednesdays\, noon to 1:30 pm\nWhere: the intersection of 305 and Winslow Way.\nWhat: Signs in support of Ukraine\, Medicaid\, Social Security\, Medicare\, Education\, you name it.
URL:https://nkindivisible.com/event/bainbridge-island-rally-for-america-5/2025-10-22/
END:VEVENT
BEGIN:VEVENT
DTSTART;TZID=America/Los_Angeles:20251021T160000
DTEND;TZID=America/Los_Angeles:20251021T170000
DTSTAMP:20260422T215719
CREATED:20251013T214932Z
LAST-MODIFIED:20251105T223209Z
UID:10002678-1761062400-1761066000@nkindivisible.com
SUMMARY:North Kitsap Indivisible – Sign Waving
DESCRIPTION:Note new time!  We’ll keep it here until it gets too dark\, then figure out what to do next. \nWhere: George’s Corner\, also known as Kountry Korners\, the intersection of Bond Rd (Hwy 104) and Miller Bay/Hansville Rd (27000 Miller Bay Rd NE Kingston) \nBring your signs\, your determination to sink the tRump ship and your friends!
URL:https://nkindivisible.com/event/north-kitsap-indivisible-sign-waving-7-2/2025-10-21/
END:VEVENT
BEGIN:VEVENT
DTSTART;TZID=America/Los_Angeles:20251020T180000
DTEND;TZID=America/Los_Angeles:20251020T203000
DTSTAMP:20260422T215719
CREATED:20250815T071525Z
LAST-MODIFIED:20250914T205216Z
UID:10002609-1760983200-1760992200@nkindivisible.com
SUMMARY:Kitsap County Democrats Gen Membership Mtg
DESCRIPTION:Every Third Monday. \nWhere: 1240 Hollis St\, Bremerton [Cloverleaf Sports Bar & Grill]\nEveryone welcome. You don’t need to be a member. See what the Kitsap Dems are doing \n6:00 PM Dinner/Social \n7:00 PM  Meeting
URL:https://nkindivisible.com/event/kitsap-county-democrats-gen-membership-mtg-2/2025-10-20/
END:VEVENT
BEGIN:VEVENT
DTSTART;TZID=America/Los_Angeles:20251019T124500
DTEND;TZID=America/Los_Angeles:20251019T141500
DTSTAMP:20260422T215719
CREATED:20250913T053215Z
LAST-MODIFIED:20250914T205035Z
UID:10002481-1760877900-1760883300@nkindivisible.com
SUMMARY:Free Palestine-Kingston
DESCRIPTION:Alternate Sundays between Bainbridge and Kingston.\nWhere: Kola Kole Park Sidewalk across from Coffee Oasis
URL:https://nkindivisible.com/event/free-palestine-kingston-2/2025-10-19/
END:VEVENT
BEGIN:VEVENT
DTSTART;TZID=America/Los_Angeles:20251019T110000
DTEND;TZID=America/Los_Angeles:20251019T133000
DTSTAMP:20260422T215719
CREATED:20250913T053659Z
LAST-MODIFIED:20250914T203936Z
UID:10001574-1760871600-1760880600@nkindivisible.com
SUMMARY:Poulsbo Weekly Democracy Rally
DESCRIPTION:Hosted by Poulsbo For All. \nWhere: Meet at the gazebo\, waterfront park.\nBring your signs\, your friends\, and your determination stand up for democracy. This is a peaceful event\, and it starts with an inspiring talk by Dr. Claudia Gorbman. Then attendees march with chants and signs\, and ending with open mike and inspirational comments from attendees at the gazebo.
URL:https://nkindivisible.com/event/poulsbo-weekly-democracy-rally-2/2025-10-19/
END:VEVENT
BEGIN:VEVENT
DTSTART;TZID=America/Los_Angeles:20251018T080000
DTEND;TZID=America/Los_Angeles:20251018T170000
DTSTAMP:20260422T215719
CREATED:20250914T072308Z
LAST-MODIFIED:20250927T023214Z
UID:10000151-1760774400-1760806800@nkindivisible.com
SUMMARY:No Kings 2-Save the Date!
DESCRIPTION:There will be many events so watch for further details. \nSo far: \nBainbridge Island  10AM to 12 PM  PDT                                                                                                                          Sign up for location  https://www.mobilize.us/nokings/event/846507/ \nBremerton – 12:30-2 PM    Manette Bridge    https://www.mobilize.us/nokings/event/839499/ \n\n\n\n\nKingston – 10am – 1pm PDT    Mike Wallace Park  11264 WA-104\n  https://www.mobilize.us/nokings/event/844030/\n\n\n\n\nPort Ludlow    12 – 1pm PDT   4 Way Stop  Oak Bay Road & Paradise Bay Road  Port Ludlow\, WA 98365 \n\n\nPort Orchard  12 – 2pm PDT    The Intersection of  Bethel Road Southeast & Southeast Lundberg Road         https://www.mobilize.us/nokings/?country=US&state=WA\n\n\n—————\n\n\nPoulsbo   2:30pm -4:00PM  NEW TIME Waterfront Park      https://www.mobilize.us/nokings/event/846245/?utm_source=indivisible\n\n\n\n\n\n\n\nAbout this event\n\n\n\n\n\n\nIn America\, we don’t put up with would-be kings. \nOur peaceful movement is only getting bigger and stronger. “NO KINGS” is more than just a slogan—it’s the foundation our nation was built upon. Born in the streets\, carried by millions in chants and on posters\, it echoes from city blocks to rural town squares\, uniting people across this country to fight dictatorship together. \nThe president thinks his rule is absolute. But in America\, we don’t have kings\, and we won’t back down against chaos\, corruption\, and cruelty. Grow our movement and join us. \nA core principle behind all No Kings events is a commitment to nonviolent action. We expect all participants to seek to de-escalate any potential confrontation with those who disagree with our values and to act lawfully at these events. Weapons of any kind\, including those legally permitted\, should not be brought to events.
URL:https://nkindivisible.com/event/no-kings-2-save-the-date/
END:VEVENT
BEGIN:VEVENT
DTSTART;TZID=America/Los_Angeles:20251017T160000
DTEND;TZID=America/Los_Angeles:20251017T173000
DTSTAMP:20260422T215719
CREATED:20250914T061829Z
LAST-MODIFIED:20250914T201149Z
UID:10000154-1760716800-1760722200@nkindivisible.com
SUMMARY:Fridays @4 Letter Writing and More
DESCRIPTION:Swing Left– Fridays @4 Letter Writing and More\n\n\n\n\nThis is a weekly meeting via Zoom. Learn about the next letter writing campaign with Vote Forward.   And more: making phone calls to our elected officials\, sending postcards to voters\, using Bluesky…. \nSign up at https://swingleft.org/event/register/mobilize:274619?source=%2Fgroup%2Fswing-left-fridays-at-4-letter-writing-team&s=u
URL:https://nkindivisible.com/event/fridays-4-letter-writing-and-more-3/2025-10-17/
END:VEVENT
BEGIN:VEVENT
DTSTART;TZID=America/Los_Angeles:20251017T160000
DTEND;TZID=America/Los_Angeles:20251017T170000
DTSTAMP:20260422T215719
CREATED:20250913T053001Z
LAST-MODIFIED:20250914T204719Z
UID:10002093-1760716800-1760720400@nkindivisible.com
SUMMARY:End Occupation of Palestine
DESCRIPTION:Every Friday from 4 to 5pm. Next Gathering pm September 5th\nWhere: Corner of Viking Way and Finn Hill Rd in Poulsbo\, In front of the Viking Statue\nBring signs
URL:https://nkindivisible.com/event/end-occupation-of-palestine-2/2025-10-17/
END:VEVENT
BEGIN:VEVENT
DTSTART;TZID=America/Los_Angeles:20251016T120000
DTEND;TZID=America/Los_Angeles:20251016T130000
DTSTAMP:20260422T215719
CREATED:20250913T052800Z
LAST-MODIFIED:20251003T070858Z
UID:10001833-1760616000-1760619600@nkindivisible.com
SUMMARY:What’s the Plan? With Indivisible Co-Founders
DESCRIPTION:Join Indivisible co-founders Leah Greenberg and Ezra Levin each week\, as we carve out an hour to discuss what’s happening and – more importantly – what’s the plan?\n\nVirtual event.  Sign up here.
URL:https://nkindivisible.com/event/whats-the-plan-with-indivisible-co-founders-11/2025-10-16/
END:VEVENT
BEGIN:VEVENT
DTSTART;TZID=America/Los_Angeles:20251015T160000
DTEND;TZID=America/Los_Angeles:20251015T173000
DTSTAMP:20260422T215719
CREATED:20250913T052647Z
LAST-MODIFIED:20250914T202223Z
UID:10001314-1760544000-1760549400@nkindivisible.com
SUMMARY:Rally-Indivisible Bremerton
DESCRIPTION:Every Wednesday from 4 to 5:30 pm.\nHosted by Indivisible Bremerton\nWhere:  Warren @ 15th\, Bremerton.\nJoin us for a peaceful low-key WEEKLY gathering. Bring your signs\, flags\,voices\, and friends. Whether you are a new or seasoned resister – you are welcome to join us.\nContact us at indivisiblebremerton@gmail.com
URL:https://nkindivisible.com/event/rally-indivisible-bremerton-3/2025-10-15/
END:VEVENT
BEGIN:VEVENT
DTSTART;TZID=America/Los_Angeles:20251015T140000
DTEND;TZID=America/Los_Angeles:20251015T153000
DTSTAMP:20260422T215719
CREATED:20250913T052524Z
LAST-MODIFIED:20250914T202009Z
UID:10001054-1760536800-1760542200@nkindivisible.com
SUMMARY:Postcards on Wednesday-Indivisible Bainbridge Island
DESCRIPTION:Every Wednesday  from 2 pm to 3:30 pm.\nHosted by Indivisible Bainbridge Island\nWhere: Upstairs at the Town & Country Market \n\n\nEmail postcards@indivisiblebainbridgeisland.org to get on the reminder list.
URL:https://nkindivisible.com/event/postcards-on-wednesday-indivisible-bainbridge-island-3/2025-10-15/
END:VEVENT
BEGIN:VEVENT
DTSTART;TZID=America/Los_Angeles:20251015T120000
DTEND;TZID=America/Los_Angeles:20251015T133000
DTSTAMP:20260422T215719
CREATED:20250913T052204Z
LAST-MODIFIED:20250914T195502Z
UID:10000414-1760529600-1760535000@nkindivisible.com
SUMMARY:Bainbridge Island Rally for America
DESCRIPTION:Wednesdays\, noon to 1:30 pm\nWhere: the intersection of 305 and Winslow Way.\nWhat: Signs in support of Ukraine\, Medicaid\, Social Security\, Medicare\, Education\, you name it.
URL:https://nkindivisible.com/event/bainbridge-island-rally-for-america-5/2025-10-15/
END:VEVENT
BEGIN:VEVENT
DTSTART;TZID=America/Los_Angeles:20251014T160000
DTEND;TZID=America/Los_Angeles:20251014T170000
DTSTAMP:20260422T215719
CREATED:20251013T214932Z
LAST-MODIFIED:20251105T223209Z
UID:10000674-1760457600-1760461200@nkindivisible.com
SUMMARY:North Kitsap Indivisible – Sign Waving
DESCRIPTION:Note new time!  We’ll keep it here until it gets too dark\, then figure out what to do next. \nWhere: George’s Corner\, also known as Kountry Korners\, the intersection of Bond Rd (Hwy 104) and Miller Bay/Hansville Rd (27000 Miller Bay Rd NE Kingston) \nBring your signs\, your determination to sink the tRump ship and your friends!
URL:https://nkindivisible.com/event/north-kitsap-indivisible-sign-waving-7-2/2025-10-14/
END:VEVENT
BEGIN:VEVENT
DTSTART;TZID=America/Los_Angeles:20251014T160000
DTEND;TZID=America/Los_Angeles:20251014T170000
DTSTAMP:20260422T215719
CREATED:20250913T052331Z
LAST-MODIFIED:20250913T052407Z
UID:10000126-1760457600-1760461200@nkindivisible.com
SUMMARY:Public School Strong
DESCRIPTION:Public School Strong (Virtual)\n\nOctober 14@ 4:00 pm – 5:30 pm\n\n\n\nPublic School Strong Orientation\nRegister here\nSecond Tuesday of every month  4:00-5:30 PM\nThis is a virtual event \nJoin public school parents\, family members and supporters from across the country to learn:\n-How to show your support for well-resourced and inclusive public schools\n-What to look for when you observe your school district’s school board meeting\n-How to form a Public School Strong team in your school district\n-Ways to join a national movement to protect and transform public schools that serve all children
URL:https://nkindivisible.com/event/1198/
END:VEVENT
BEGIN:VEVENT
DTSTART;TZID=America/Los_Angeles:20251014T000000
DTEND;TZID=America/Los_Angeles:20251014T000000
DTSTAMP:20260422T215719
CREATED:20250914T201740Z
LAST-MODIFIED:20250914T212106Z
UID:10000991-1760400000-1760400000@nkindivisible.com
SUMMARY:Tuesdays at the VA Hospital\, Seattle
DESCRIPTION:Every 2nd and 4th Tuesday\, 3:00 to 6:00 PM\nTuesdays at the VA Hospital\nHosted by Veterans For Peace Daniel Ellsberg Chapter 92\, Seattle\nWhere: Location: 1660 S Columbian Way\, Seattle.\n\nJoin Veterans\, healthcare workers\, union members & supporters. No cuts to VA services\, no mass firings\, stop the Trump coup!
URL:https://nkindivisible.com/event/tuesdays-at-the-va-hospital-seattle-3-2/2025-10-14/
END:VEVENT
BEGIN:VEVENT
DTSTART;TZID=America/Los_Angeles:20251012T124500
DTEND;TZID=America/Los_Angeles:20251012T141500
DTSTAMP:20260422T215719
CREATED:20250902T064758Z
LAST-MODIFIED:20250914T204902Z
UID:10002351-1760273100-1760278500@nkindivisible.com
SUMMARY:Free Palestine-Bainbridge Island
DESCRIPTION:Alternate Sundays between Bainbridge Island and Kingston.\nWhere: Stop light near Ferry Terminal
URL:https://nkindivisible.com/event/free-palestine-bainbridge-island/2025-10-12/
END:VEVENT
BEGIN:VEVENT
DTSTART;TZID=America/Los_Angeles:20251012T110000
DTEND;TZID=America/Los_Angeles:20251012T133000
DTSTAMP:20260422T215719
CREATED:20250913T053659Z
LAST-MODIFIED:20250914T203936Z
UID:10001573-1760266800-1760275800@nkindivisible.com
SUMMARY:Poulsbo Weekly Democracy Rally
DESCRIPTION:Hosted by Poulsbo For All. \nWhere: Meet at the gazebo\, waterfront park.\nBring your signs\, your friends\, and your determination stand up for democracy. This is a peaceful event\, and it starts with an inspiring talk by Dr. Claudia Gorbman. Then attendees march with chants and signs\, and ending with open mike and inspirational comments from attendees at the gazebo.
URL:https://nkindivisible.com/event/poulsbo-weekly-democracy-rally-2/2025-10-12/
END:VEVENT
BEGIN:VEVENT
DTSTART;TZID=America/Los_Angeles:20251010T160000
DTEND;TZID=America/Los_Angeles:20251010T173000
DTSTAMP:20260422T215719
CREATED:20250914T061829Z
LAST-MODIFIED:20250914T201149Z
UID:10000153-1760112000-1760117400@nkindivisible.com
SUMMARY:Fridays @4 Letter Writing and More
DESCRIPTION:Swing Left– Fridays @4 Letter Writing and More\n\n\n\n\nThis is a weekly meeting via Zoom. Learn about the next letter writing campaign with Vote Forward.   And more: making phone calls to our elected officials\, sending postcards to voters\, using Bluesky…. \nSign up at https://swingleft.org/event/register/mobilize:274619?source=%2Fgroup%2Fswing-left-fridays-at-4-letter-writing-team&s=u
URL:https://nkindivisible.com/event/fridays-4-letter-writing-and-more-3/2025-10-10/
END:VEVENT
BEGIN:VEVENT
DTSTART;TZID=America/Los_Angeles:20251010T160000
DTEND;TZID=America/Los_Angeles:20251010T170000
DTSTAMP:20260422T215719
CREATED:20250913T053001Z
LAST-MODIFIED:20250914T204719Z
UID:10002092-1760112000-1760115600@nkindivisible.com
SUMMARY:End Occupation of Palestine
DESCRIPTION:Every Friday from 4 to 5pm. Next Gathering pm September 5th\nWhere: Corner of Viking Way and Finn Hill Rd in Poulsbo\, In front of the Viking Statue\nBring signs
URL:https://nkindivisible.com/event/end-occupation-of-palestine-2/2025-10-10/
END:VEVENT
BEGIN:VEVENT
DTSTART;TZID=America/Los_Angeles:20251010T120000
DTEND;TZID=America/Los_Angeles:20251010T130000
DTSTAMP:20260422T215720
CREATED:20251003T060654Z
LAST-MODIFIED:20251003T060654Z
UID:10002671-1760097600-1760101200@nkindivisible.com
SUMMARY:What’s the Plan? With Indivisible Co-Founders
DESCRIPTION:October 10  @ 12:00 pm – 1:00 pm\n\n\n\n\n\n\n\n\n\n\n\n\n\n\nJoin Indivisible co-founders Leah Greenberg and Ezra Levin each week\, as we carve out an hour to discuss what’s happening and – more importantly – what’s the plan?\n\n\nWhat’s the Plan will be on Fridays (instead of Thursdays)  Oct 3 and Oct 10\n\n\n\n\n\n\n\nVirtual event.  Sign up here.
URL:https://nkindivisible.com/event/whats-the-plan-with-indivisible-co-founders-14/
END:VEVENT
BEGIN:VEVENT
DTSTART;TZID=America/Los_Angeles:20251008T160000
DTEND;TZID=America/Los_Angeles:20251008T173000
DTSTAMP:20260422T215720
CREATED:20250913T052647Z
LAST-MODIFIED:20250914T202223Z
UID:10001313-1759939200-1759944600@nkindivisible.com
SUMMARY:Rally-Indivisible Bremerton
DESCRIPTION:Every Wednesday from 4 to 5:30 pm.\nHosted by Indivisible Bremerton\nWhere:  Warren @ 15th\, Bremerton.\nJoin us for a peaceful low-key WEEKLY gathering. Bring your signs\, flags\,voices\, and friends. Whether you are a new or seasoned resister – you are welcome to join us.\nContact us at indivisiblebremerton@gmail.com
URL:https://nkindivisible.com/event/rally-indivisible-bremerton-3/2025-10-08/
END:VEVENT
BEGIN:VEVENT
DTSTART;TZID=America/Los_Angeles:20251008T140000
DTEND;TZID=America/Los_Angeles:20251008T153000
DTSTAMP:20260422T215720
CREATED:20250913T052524Z
LAST-MODIFIED:20250914T202009Z
UID:10001053-1759932000-1759937400@nkindivisible.com
SUMMARY:Postcards on Wednesday-Indivisible Bainbridge Island
DESCRIPTION:Every Wednesday  from 2 pm to 3:30 pm.\nHosted by Indivisible Bainbridge Island\nWhere: Upstairs at the Town & Country Market \n\n\nEmail postcards@indivisiblebainbridgeisland.org to get on the reminder list.
URL:https://nkindivisible.com/event/postcards-on-wednesday-indivisible-bainbridge-island-3/2025-10-08/
END:VEVENT
BEGIN:VEVENT
DTSTART;TZID=America/Los_Angeles:20251008T120000
DTEND;TZID=America/Los_Angeles:20251008T133000
DTSTAMP:20260422T215720
CREATED:20250913T052204Z
LAST-MODIFIED:20250914T195502Z
UID:10000413-1759924800-1759930200@nkindivisible.com
SUMMARY:Bainbridge Island Rally for America
DESCRIPTION:Wednesdays\, noon to 1:30 pm\nWhere: the intersection of 305 and Winslow Way.\nWhat: Signs in support of Ukraine\, Medicaid\, Social Security\, Medicare\, Education\, you name it.
URL:https://nkindivisible.com/event/bainbridge-island-rally-for-america-5/2025-10-08/
END:VEVENT
BEGIN:VEVENT
DTSTART;TZID=America/Los_Angeles:20251007T170000
DTEND;TZID=America/Los_Angeles:20251007T180000
DTSTAMP:20260422T215720
CREATED:20250913T051935Z
LAST-MODIFIED:20250914T200934Z
UID:10000673-1759856400-1759860000@nkindivisible.com
SUMMARY:North Kitsap Indivisible – Sign Waving
DESCRIPTION:Every Tuesday from 5pm to 6pm.\nWhere: George’s Corner\, also known as Kountry Korners\, the intersection of Bond Rd (Hwy 104) and Miller Bay/Hansville Rd (27000 Miller Bay Rd NE Kingston) \nBring your signs\, your determination to sink the tRump ship and your friends!
URL:https://nkindivisible.com/event/north-kitsap-indivisible-sign-waving-7/2025-10-07/
END:VEVENT
BEGIN:VEVENT
DTSTART;TZID=America/Los_Angeles:20251005T140000
DTEND;TZID=America/Los_Angeles:20251005T170000
DTSTAMP:20260422T215720
CREATED:20250914T072126Z
LAST-MODIFIED:20250914T213350Z
UID:10000150-1759672800-1759683600@nkindivisible.com
SUMMARY:2025 Civil Liberties Symposium -Bainbridge
DESCRIPTION:The Coram Nobis Cases that vacated the wartime convictions of Japanese Americans who resisted unjust government orders during WWII.  Speakers: Fred Korematsu\, Gordon Hirabayashi\, Minoru Yasui. \nWhere: Stan Pocock Legacy Rowing Center\, 301 Shannon Dr SE\, Bainbridge Island.\nDoors open at 1:30pm \nLearn more and get tickets here
URL:https://nkindivisible.com/event/2025-civil-liberties-symposium-bainbridge/
END:VEVENT
END:VCALENDAR