BEGIN:VCALENDAR
VERSION:2.0
PRODID:-//North Kitsap Indivisible - ECPv6.15.20//NONSGML v1.0//EN
CALSCALE:GREGORIAN
METHOD:PUBLISH
X-ORIGINAL-URL:https://nkindivisible.com
X-WR-CALDESC:Events for North Kitsap Indivisible
REFRESH-INTERVAL;VALUE=DURATION:PT1H
X-Robots-Tag:noindex
X-PUBLISHED-TTL:PT1H
BEGIN:VTIMEZONE
TZID:America/Los_Angeles
BEGIN:DAYLIGHT
TZOFFSETFROM:-0800
TZOFFSETTO:-0700
TZNAME:PDT
DTSTART:20250309T100000
END:DAYLIGHT
BEGIN:STANDARD
TZOFFSETFROM:-0700
TZOFFSETTO:-0800
TZNAME:PST
DTSTART:20251102T090000
END:STANDARD
BEGIN:DAYLIGHT
TZOFFSETFROM:-0800
TZOFFSETTO:-0700
TZNAME:PDT
DTSTART:20260308T100000
END:DAYLIGHT
BEGIN:STANDARD
TZOFFSETFROM:-0700
TZOFFSETTO:-0800
TZNAME:PST
DTSTART:20261101T090000
END:STANDARD
BEGIN:DAYLIGHT
TZOFFSETFROM:-0800
TZOFFSETTO:-0700
TZNAME:PDT
DTSTART:20270314T100000
END:DAYLIGHT
BEGIN:STANDARD
TZOFFSETFROM:-0700
TZOFFSETTO:-0800
TZNAME:PST
DTSTART:20271107T090000
END:STANDARD
END:VTIMEZONE
BEGIN:VEVENT
DTSTART;TZID=America/Los_Angeles:20260328T000000
DTEND;TZID=America/Los_Angeles:20260328T235959
DTSTAMP:20260422T104343
CREATED:20260315T054328Z
LAST-MODIFIED:20260327T025603Z
UID:10004007-1774656000-1774742399@nkindivisible.com
SUMMARY:No Kings 3 - various events
DESCRIPTION:To find all registered events: https://www.nokings.org\, and most local events are listed below. \nYou don’t have to register to attend an event\, but it helps the organizations plan ahead. \n\nBainbridge Island: 9 a.m. – 11 a.m at Winslow Way and Highway 305\nPoulsbo: 10 a.m. at Muriel Iverson Williams Waterfront Park\nSeabeck: 10:30 a.m. – noon at Seabeck General Store\nBremerton: Noon – 2 p.m. at Manette Bridge\nPort Orchard: Noon – 2 p.m. at Bethel Road and Lund Avenue\nKingston: 2:30 p.m. at Mike Wallace Park\, next to the Kingston Ferry Terminal\nGig Harbor: 12 p.m. – 2 p.m. at Point Fosdick Drive and Olympic Drive\nPort Ludlow: 12 p.m.- 1 p.m. at Oak Bay Road and Osprey Ridge Drive\nKey Peninsula: 1 p.m.- 3 p.m. at 92nd Street Northwest and Key Peninsula Highway Northwest\nHoodsport: 11:30 a.m. – 1 p.m. at the Port Of Hoodsport\nShelton: 11 a.m. – 1 p.m. Kneeland Park\nVashon Island: 2 p.m. – 4 p.m. at Southwest Bank Road and Vashon Highway Southwest\nTacoma: 10 a.m. – 11 a.m. at Tacoma Union Station;\nTacoma: 1 p.m. – 3 p.m. at Point Defiance Park entrance and Wright Park\nLakewood: 11 a.m. to 12 p.m. at Gravelly Lake Dr SW outside the Lakewood Towne Center\nUniversity Place: Noon – 2 p.m. at 3819 Bridgeport Way W\nOlympia: 11 a.m. march from Percival Landing; 12 p.m. rally at Capitol Campus\n\n 
URL:https://nkindivisible.com/event/no-kings-3-various-events/
END:VEVENT
END:VCALENDAR