BEGIN:VCALENDAR
VERSION:2.0
PRODID:-//North Kitsap Indivisible - ECPv6.15.20//NONSGML v1.0//EN
CALSCALE:GREGORIAN
METHOD:PUBLISH
X-ORIGINAL-URL:https://nkindivisible.com
X-WR-CALDESC:Events for North Kitsap Indivisible
REFRESH-INTERVAL;VALUE=DURATION:PT1H
X-Robots-Tag:noindex
X-PUBLISHED-TTL:PT1H
BEGIN:VTIMEZONE
TZID:America/Los_Angeles
BEGIN:DAYLIGHT
TZOFFSETFROM:-0800
TZOFFSETTO:-0700
TZNAME:PDT
DTSTART:20250309T100000
END:DAYLIGHT
BEGIN:STANDARD
TZOFFSETFROM:-0700
TZOFFSETTO:-0800
TZNAME:PST
DTSTART:20251102T090000
END:STANDARD
BEGIN:DAYLIGHT
TZOFFSETFROM:-0800
TZOFFSETTO:-0700
TZNAME:PDT
DTSTART:20260308T100000
END:DAYLIGHT
BEGIN:STANDARD
TZOFFSETFROM:-0700
TZOFFSETTO:-0800
TZNAME:PST
DTSTART:20261101T090000
END:STANDARD
BEGIN:DAYLIGHT
TZOFFSETFROM:-0800
TZOFFSETTO:-0700
TZNAME:PDT
DTSTART:20270314T100000
END:DAYLIGHT
BEGIN:STANDARD
TZOFFSETFROM:-0700
TZOFFSETTO:-0800
TZNAME:PST
DTSTART:20271107T090000
END:STANDARD
END:VTIMEZONE
BEGIN:VEVENT
DTSTART;TZID=America/Los_Angeles:20260224T150000
DTEND;TZID=America/Los_Angeles:20260224T180000
DTSTAMP:20260422T124552
CREATED:20250913T052056Z
LAST-MODIFIED:20250914T211648Z
UID:10000936-1771945200-1771956000@nkindivisible.com
SUMMARY:Tuesdays at the VA Hospital\, Seattle
DESCRIPTION:Every 2nd and 4th Tuesday\, 3:00 to 6:00 PM\nTuesdays at the VA Hospital\nHosted by Veterans For Peace Daniel Ellsberg Chapter 92\, Seattle\nWhere: Location: 1660 S Columbian Way\, Seattle.\n\nJoin Veterans\, healthcare workers\, union members & supporters. No cuts to VA services\, no mass firings\, stop the Trump coup!
URL:https://nkindivisible.com/event/tuesdays-at-the-va-hospital-seattle-3/2026-02-24/
END:VEVENT
BEGIN:VEVENT
DTSTART;TZID=America/Los_Angeles:20260224T170000
DTEND;TZID=America/Los_Angeles:20260224T200000
DTSTAMP:20260422T124552
CREATED:20260224T052711Z
LAST-MODIFIED:20260224T052711Z
UID:10003954-1771952400-1771963200@nkindivisible.com
SUMMARY:People's State of the Union LiveStream
DESCRIPTION:The State of the Union (SOTU) is a Constitutionally-mandated presidential address traditionally attended by every Member of Congress and\, since the advent of television\, watched by millions. This year will be different! \nRather than lend credence to yet another anti-democratic Trump propaganda fest\, a long list of Democratic lawmakers aren’t going; many of them will instead join MoveOn\, MeidasTouch\, and a host of other partners (including Indivisible) for the People’s State of the Union\, live-streamed counter-programming (Tuesday\, 8–11pm ET). \nWe’ll be joined by\, among others\, Senators Tina Smith and Chris Van Hollen\, Representatives Pramila Jayapal and Delia Ramirez\, fellow organizers\, and Americans directly impacted by the regime’s cruelty and chaos. We cannot give Trump and his lies the attention he craves. This SOTU isn’t business as usual — it’s a call to action. We hope you’ll join us! \nRegister at https://www.mobilize.us/moveon/event/903012/?utm_source=indivisible \n 
URL:https://nkindivisible.com/event/peoples_sotu/
LOCATION:
END:VEVENT
END:VCALENDAR