BEGIN:VCALENDAR
VERSION:2.0
PRODID:-//North Kitsap Indivisible - ECPv6.15.20//NONSGML v1.0//EN
CALSCALE:GREGORIAN
METHOD:PUBLISH
X-ORIGINAL-URL:https://nkindivisible.com
X-WR-CALDESC:Events for North Kitsap Indivisible
REFRESH-INTERVAL;VALUE=DURATION:PT1H
X-Robots-Tag:noindex
X-PUBLISHED-TTL:PT1H
BEGIN:VTIMEZONE
TZID:America/Los_Angeles
BEGIN:DAYLIGHT
TZOFFSETFROM:-0800
TZOFFSETTO:-0700
TZNAME:PDT
DTSTART:20250309T100000
END:DAYLIGHT
BEGIN:STANDARD
TZOFFSETFROM:-0700
TZOFFSETTO:-0800
TZNAME:PST
DTSTART:20251102T090000
END:STANDARD
BEGIN:DAYLIGHT
TZOFFSETFROM:-0800
TZOFFSETTO:-0700
TZNAME:PDT
DTSTART:20260308T100000
END:DAYLIGHT
BEGIN:STANDARD
TZOFFSETFROM:-0700
TZOFFSETTO:-0800
TZNAME:PST
DTSTART:20261101T090000
END:STANDARD
BEGIN:DAYLIGHT
TZOFFSETFROM:-0800
TZOFFSETTO:-0700
TZNAME:PDT
DTSTART:20270314T100000
END:DAYLIGHT
BEGIN:STANDARD
TZOFFSETFROM:-0700
TZOFFSETTO:-0800
TZNAME:PST
DTSTART:20271107T090000
END:STANDARD
END:VTIMEZONE
BEGIN:VEVENT
DTSTART;TZID=America/Los_Angeles:20260207T121500
DTEND;TZID=America/Los_Angeles:20260207T133000
DTSTAMP:20260422T124545
CREATED:20260207T200039Z
LAST-MODIFIED:20260207T200040Z
UID:10003222-1770466500-1770471000@nkindivisible.com
SUMMARY:NKI Sign-Waving-ICE OUT
DESCRIPTION:Cancelled today Hosted by North Kitsap Indivisible. More information and RSVP here\nWhere: George’s Corner\, also known as Kountry Korners\, the intersection of Bond Rd and Hansville Hwy (27000 Miller Bay Rd NE Kingston)\nBring your signs\, your determination to sink the tRump ship and your friends! We have extra signs so don’t let that be a barrier.
URL:https://nkindivisible.com/event/nki-sign-waving-2-3-2-2/
END:VEVENT
END:VCALENDAR