BEGIN:VCALENDAR
VERSION:2.0
PRODID:-//North Kitsap Indivisible - ECPv6.15.20//NONSGML v1.0//EN
CALSCALE:GREGORIAN
METHOD:PUBLISH
X-ORIGINAL-URL:https://nkindivisible.com
X-WR-CALDESC:Events for North Kitsap Indivisible
REFRESH-INTERVAL;VALUE=DURATION:PT1H
X-Robots-Tag:noindex
X-PUBLISHED-TTL:PT1H
BEGIN:VTIMEZONE
TZID:America/Los_Angeles
BEGIN:DAYLIGHT
TZOFFSETFROM:-0800
TZOFFSETTO:-0700
TZNAME:PDT
DTSTART:20250309T100000
END:DAYLIGHT
BEGIN:STANDARD
TZOFFSETFROM:-0700
TZOFFSETTO:-0800
TZNAME:PST
DTSTART:20251102T090000
END:STANDARD
BEGIN:DAYLIGHT
TZOFFSETFROM:-0800
TZOFFSETTO:-0700
TZNAME:PDT
DTSTART:20260308T100000
END:DAYLIGHT
BEGIN:STANDARD
TZOFFSETFROM:-0700
TZOFFSETTO:-0800
TZNAME:PST
DTSTART:20261101T090000
END:STANDARD
BEGIN:DAYLIGHT
TZOFFSETFROM:-0800
TZOFFSETTO:-0700
TZNAME:PDT
DTSTART:20270314T100000
END:DAYLIGHT
BEGIN:STANDARD
TZOFFSETFROM:-0700
TZOFFSETTO:-0800
TZNAME:PST
DTSTART:20271107T090000
END:STANDARD
END:VTIMEZONE
BEGIN:VEVENT
DTSTART;TZID=America/Los_Angeles:20260124T100000
DTEND;TZID=America/Los_Angeles:20260124T113000
DTSTAMP:20260422T145241
CREATED:20260117T190341Z
LAST-MODIFIED:20260117T190910Z
UID:10003612-1769248800-1769254200@nkindivisible.com
SUMMARY:Rep Nance Town Hall - Kingston
DESCRIPTION:Join WA Rep Greg Nance and Kitsap Commissioner Christine Rolfes for a town hall meeting. \nLocation: Kingston Village Green\, 26159 Dulay Rd.\, Kingston \nNance is holding other town halls as well: \nPoulsbo\, 1/19\, 2-3:30\, 200 Moe St. Poulsbo\nBainbridge\, 1/24\, 2-3:30\, Bainbridge City Hall\nBremerton\, 1/31\, 2-3:30\, Norm Dicks
URL:https://nkindivisible.com/event/rep-nance-town-hall-poulsbo-2/
END:VEVENT
BEGIN:VEVENT
DTSTART;TZID=America/Los_Angeles:20260124T121500
DTEND;TZID=America/Los_Angeles:20260124T133000
DTSTAMP:20260422T145241
CREATED:20260112T184816Z
LAST-MODIFIED:20260112T184817Z
UID:10003220-1769256900-1769261400@nkindivisible.com
SUMMARY:NKI Sign-Waving
DESCRIPTION:Where: George’s Corner at the intersection of Bond Rd (Hwy 104) and Miller Bay/Hansville Rd.  Parking at the Rite Aid lot. \nBring your own signs or we have extras. \nAfterwards we will head over to the Puerto Vallarta across the street for a friendly get-together!
URL:https://nkindivisible.com/event/nki-sign-waving-2-3/2026-01-24/
END:VEVENT
BEGIN:VEVENT
DTSTART;TZID=America/Los_Angeles:20260124T140000
DTEND;TZID=America/Los_Angeles:20260124T153000
DTSTAMP:20260422T145241
CREATED:20260117T190556Z
LAST-MODIFIED:20260117T191204Z
UID:10003613-1769263200-1769268600@nkindivisible.com
SUMMARY:Rep Nance Town Hall - Bainbridge
DESCRIPTION:Join WA Rep Greg Nance and Bainbridge Mayor Ashley Matthews for a town hall meeting. \nLocation: Bainbridge City Hall\, 280 Madison Ave N.\, Bainbridge \nNance is holding other town halls as well: \nPoulsbo\, 1/19\, 2-3:30\, Poulsbo City Hall\nKingston\, 1/24\, 10-11:30\, Kingston Village Green\nBremerton\, 1/31\, 2-3:30\, Norm Dicks
URL:https://nkindivisible.com/event/rep-nance-town-hall-bainbridge/
END:VEVENT
END:VCALENDAR