BEGIN:VCALENDAR
VERSION:2.0
PRODID:-//North Kitsap Indivisible - ECPv6.15.20//NONSGML v1.0//EN
CALSCALE:GREGORIAN
METHOD:PUBLISH
X-WR-CALNAME:North Kitsap Indivisible
X-ORIGINAL-URL:https://nkindivisible.com
X-WR-CALDESC:Events for North Kitsap Indivisible
REFRESH-INTERVAL;VALUE=DURATION:PT1H
X-Robots-Tag:noindex
X-PUBLISHED-TTL:PT1H
BEGIN:VTIMEZONE
TZID:America/Los_Angeles
BEGIN:DAYLIGHT
TZOFFSETFROM:-0800
TZOFFSETTO:-0700
TZNAME:PDT
DTSTART:20250309T100000
END:DAYLIGHT
BEGIN:STANDARD
TZOFFSETFROM:-0700
TZOFFSETTO:-0800
TZNAME:PST
DTSTART:20251102T090000
END:STANDARD
BEGIN:DAYLIGHT
TZOFFSETFROM:-0800
TZOFFSETTO:-0700
TZNAME:PDT
DTSTART:20260308T100000
END:DAYLIGHT
BEGIN:STANDARD
TZOFFSETFROM:-0700
TZOFFSETTO:-0800
TZNAME:PST
DTSTART:20261101T090000
END:STANDARD
BEGIN:DAYLIGHT
TZOFFSETFROM:-0800
TZOFFSETTO:-0700
TZNAME:PDT
DTSTART:20270314T100000
END:DAYLIGHT
BEGIN:STANDARD
TZOFFSETFROM:-0700
TZOFFSETTO:-0800
TZNAME:PST
DTSTART:20271107T090000
END:STANDARD
END:VTIMEZONE
BEGIN:VEVENT
DTSTART;TZID=America/Los_Angeles:20260123T140000
DTEND;TZID=America/Los_Angeles:20260123T170000
DTSTAMP:20260422T145024
CREATED:20260122T202411Z
LAST-MODIFIED:20260122T202411Z
UID:10003880-1769176800-1769187600@nkindivisible.com
SUMMARY:ICE Out for Good - Bainbridge Island
DESCRIPTION:Location: Street Corners by Ferry\nWinslow Way East & Olympic Drive Southeast \nhttps://www.mobilize.us/indivisible/event/890293/ \nWednesday\, January 7th\, an American citizen was killed by Immigration and Customs Enforcement (ICE) in Minneapolis\, Minnesota. This killing is part of a broader pattern of unchecked violence\, impunity\, and abuse carried out by federal immigration enforcement agencies against members of our communities. \nA broad coalition of groups across the country is calling for a coordinated Ice Out For Good actions on Friday\, January 23rd in solidarity for Minnesota\, and to demand accountability\, honor the life lost\, and make visible the human cost of ICE’s actions. \nA core principle behind all ICE Out For Good events is a commitment to nonviolent action and no civil disobedience. We expect all participants to seek to de-escalate any potential confrontation with those who disagree with our values\, and to act lawfully at these events. Weapons of any kind\, including those legally permitted\, should not be brought to events. All events should be held in public spaces or on public property. Indivisible is managing data and communications with participants. By registering\, you agree to receive info from Indivisible about the event\, receive communications via e-mail or SMS message from Indivisible\, and receive any other updates and opportunities to take action or support ICE OUT FOR GOOD partner organizations. You also agree to have any data entered in this registration collected by Indivisible. Indivisible will treat your data according to our organization’s applicable privacy policy: https://indivisible.org/privacy-policy
URL:https://nkindivisible.com/event/ice-out-for-good-bainbridge-island/
END:VEVENT
BEGIN:VEVENT
DTSTART;TZID=America/Los_Angeles:20260123T160000
DTEND;TZID=America/Los_Angeles:20260123T170000
DTSTAMP:20260422T145024
CREATED:20250913T053001Z
LAST-MODIFIED:20250914T204719Z
UID:10002107-1769184000-1769187600@nkindivisible.com
SUMMARY:End Occupation of Palestine
DESCRIPTION:Every Friday from 4 to 5pm. Next Gathering pm September 5th\nWhere: Corner of Viking Way and Finn Hill Rd in Poulsbo\, In front of the Viking Statue\nBring signs
URL:https://nkindivisible.com/event/end-occupation-of-palestine-2/2026-01-23/
END:VEVENT
BEGIN:VEVENT
DTSTART;TZID=America/Los_Angeles:20260123T160000
DTEND;TZID=America/Los_Angeles:20260123T173000
DTSTAMP:20260422T145024
CREATED:20250914T061829Z
LAST-MODIFIED:20250914T201149Z
UID:10000168-1769184000-1769189400@nkindivisible.com
SUMMARY:Fridays @4 Letter Writing and More
DESCRIPTION:Swing Left– Fridays @4 Letter Writing and More\n\n\n\n\nThis is a weekly meeting via Zoom. Learn about the next letter writing campaign with Vote Forward.   And more: making phone calls to our elected officials\, sending postcards to voters\, using Bluesky…. \nSign up at https://swingleft.org/event/register/mobilize:274619?source=%2Fgroup%2Fswing-left-fridays-at-4-letter-writing-team&s=u
URL:https://nkindivisible.com/event/fridays-4-letter-writing-and-more-3/2026-01-23/
END:VEVENT
END:VCALENDAR