BEGIN:VCALENDAR
VERSION:2.0
PRODID:-//North Kitsap Indivisible - ECPv6.15.20//NONSGML v1.0//EN
CALSCALE:GREGORIAN
METHOD:PUBLISH
X-WR-CALNAME:North Kitsap Indivisible
X-ORIGINAL-URL:https://nkindivisible.com
X-WR-CALDESC:Events for North Kitsap Indivisible
REFRESH-INTERVAL;VALUE=DURATION:PT1H
X-Robots-Tag:noindex
X-PUBLISHED-TTL:PT1H
BEGIN:VTIMEZONE
TZID:America/Los_Angeles
BEGIN:DAYLIGHT
TZOFFSETFROM:-0800
TZOFFSETTO:-0700
TZNAME:PDT
DTSTART:20250309T100000
END:DAYLIGHT
BEGIN:STANDARD
TZOFFSETFROM:-0700
TZOFFSETTO:-0800
TZNAME:PST
DTSTART:20251102T090000
END:STANDARD
BEGIN:DAYLIGHT
TZOFFSETFROM:-0800
TZOFFSETTO:-0700
TZNAME:PDT
DTSTART:20260308T100000
END:DAYLIGHT
BEGIN:STANDARD
TZOFFSETFROM:-0700
TZOFFSETTO:-0800
TZNAME:PST
DTSTART:20261101T090000
END:STANDARD
BEGIN:DAYLIGHT
TZOFFSETFROM:-0800
TZOFFSETTO:-0700
TZNAME:PDT
DTSTART:20270314T100000
END:DAYLIGHT
BEGIN:STANDARD
TZOFFSETFROM:-0700
TZOFFSETTO:-0800
TZNAME:PST
DTSTART:20271107T090000
END:STANDARD
END:VTIMEZONE
BEGIN:VEVENT
DTSTART;TZID=America/Los_Angeles:20260120T000000
DTEND;TZID=America/Los_Angeles:20260120T143000
DTSTAMP:20260422T144949
CREATED:20260110T082108Z
LAST-MODIFIED:20260110T082108Z
UID:10003609-1768867200-1768919400@nkindivisible.com
SUMMARY:Free America Walkout
DESCRIPTION:STAND UP TO FASCISM !! FREE AMERICA WALKOUT \nA multi-city protest across the Sound \nJanuary 20th 12:00-2:30PM \nKingston – Mike Wallace Park – Kingston Marina \nEdmonds – Sunset and Main Street – next to Edmonds Ferry \nJanuary 20th is the one-year anniversary of the inauguration of the tRump regime\, which started off pardoning all the insurrectionists from Jan. 6\, then terrorizing our communities with his private army of ICE goons. In the last 12-months\, the damage to our democracy and his self-enrichment are too much to list here. \nIn Kingston we start at Mike Wallace Park\, next to the Kingston Marina for opening remarks\, then walk up the hill to downtown Kingston and Highway 104. We will be led by a team dressed in black holding “Signs of Fascism” followed by all the sign wavers!   \nEdmonds will be doing something similar at the same time!!  \nWe Need YOU! Bring your signs\, your noise makers\, your enthusiasm and your friends.  \nSign up for Kingston: https://action.womensmarch.com/events/kingston-wa-free-america-walkout-signs-of-fascism \nSign up for Edmonds: https://mobilize.us/s/n4gmok \nSponsored by South Snohomish County Indivisible\, Kingston Alliance for Democracy and North Kitsap Indivisible
URL:https://nkindivisible.com/event/free-america-walkout/
END:VEVENT
END:VCALENDAR