BEGIN:VCALENDAR
VERSION:2.0
PRODID:-//North Kitsap Indivisible - ECPv6.15.20//NONSGML v1.0//EN
CALSCALE:GREGORIAN
METHOD:PUBLISH
X-WR-CALNAME:North Kitsap Indivisible
X-ORIGINAL-URL:https://nkindivisible.com
X-WR-CALDESC:Events for North Kitsap Indivisible
REFRESH-INTERVAL;VALUE=DURATION:PT1H
X-Robots-Tag:noindex
X-PUBLISHED-TTL:PT1H
BEGIN:VTIMEZONE
TZID:America/Los_Angeles
BEGIN:DAYLIGHT
TZOFFSETFROM:-0800
TZOFFSETTO:-0700
TZNAME:PDT
DTSTART:20250309T100000
END:DAYLIGHT
BEGIN:STANDARD
TZOFFSETFROM:-0700
TZOFFSETTO:-0800
TZNAME:PST
DTSTART:20251102T090000
END:STANDARD
BEGIN:DAYLIGHT
TZOFFSETFROM:-0800
TZOFFSETTO:-0700
TZNAME:PDT
DTSTART:20260308T100000
END:DAYLIGHT
BEGIN:STANDARD
TZOFFSETFROM:-0700
TZOFFSETTO:-0800
TZNAME:PST
DTSTART:20261101T090000
END:STANDARD
BEGIN:DAYLIGHT
TZOFFSETFROM:-0800
TZOFFSETTO:-0700
TZNAME:PDT
DTSTART:20270314T100000
END:DAYLIGHT
BEGIN:STANDARD
TZOFFSETFROM:-0700
TZOFFSETTO:-0800
TZNAME:PST
DTSTART:20271107T090000
END:STANDARD
END:VTIMEZONE
BEGIN:VEVENT
DTSTART;TZID=America/Los_Angeles:20260117T094500
DTEND;TZID=America/Los_Angeles:20260117T111500
DTSTAMP:20260422T144951
CREATED:20251129T010238Z
LAST-MODIFIED:20251129T010238Z
UID:10003476-1768643100-1768648500@nkindivisible.com
SUMMARY:Signs of Fascism\, Kingston
DESCRIPTION:Hosted by Kingston Alliance for Democracy\nWhere: Kola Kole Park near the ferry dock\, 26100 Bannister St NE\, Kingston\nThe Kingston Alliance for Democracy will be holding the “Signs of Fascism” as the ferry traffic goes by. It is very powerful. We furnish the signs. Wear all black\, dress warm\, and plan for rain. We have a few black umbrellas! Watch the video and you can see what it looks like here.
URL:https://nkindivisible.com/event/signs-of-fascism-kingston/2026-01-17/
END:VEVENT
BEGIN:VEVENT
DTSTART;TZID=America/Los_Angeles:20260117T121500
DTEND;TZID=America/Los_Angeles:20260117T133000
DTSTAMP:20260422T144951
CREATED:20260112T184816Z
LAST-MODIFIED:20260112T184817Z
UID:10003219-1768652100-1768656600@nkindivisible.com
SUMMARY:NKI Sign-Waving
DESCRIPTION:Where: George’s Corner at the intersection of Bond Rd (Hwy 104) and Miller Bay/Hansville Rd.  Parking at the Rite Aid lot. \nBring your own signs or we have extras. \nAfterwards we will head over to the Puerto Vallarta across the street for a friendly get-together!
URL:https://nkindivisible.com/event/nki-sign-waving-2-3/2026-01-17/
END:VEVENT
END:VCALENDAR