BEGIN:VCALENDAR
VERSION:2.0
PRODID:-//North Kitsap Indivisible - ECPv6.15.20//NONSGML v1.0//EN
CALSCALE:GREGORIAN
METHOD:PUBLISH
X-WR-CALNAME:North Kitsap Indivisible
X-ORIGINAL-URL:https://nkindivisible.com
X-WR-CALDESC:Events for North Kitsap Indivisible
REFRESH-INTERVAL;VALUE=DURATION:PT1H
X-Robots-Tag:noindex
X-PUBLISHED-TTL:PT1H
BEGIN:VTIMEZONE
TZID:America/Los_Angeles
BEGIN:DAYLIGHT
TZOFFSETFROM:-0800
TZOFFSETTO:-0700
TZNAME:PDT
DTSTART:20250309T100000
END:DAYLIGHT
BEGIN:STANDARD
TZOFFSETFROM:-0700
TZOFFSETTO:-0800
TZNAME:PST
DTSTART:20251102T090000
END:STANDARD
BEGIN:DAYLIGHT
TZOFFSETFROM:-0800
TZOFFSETTO:-0700
TZNAME:PDT
DTSTART:20260308T100000
END:DAYLIGHT
BEGIN:STANDARD
TZOFFSETFROM:-0700
TZOFFSETTO:-0800
TZNAME:PST
DTSTART:20261101T090000
END:STANDARD
BEGIN:DAYLIGHT
TZOFFSETFROM:-0800
TZOFFSETTO:-0700
TZNAME:PDT
DTSTART:20270314T100000
END:DAYLIGHT
BEGIN:STANDARD
TZOFFSETFROM:-0700
TZOFFSETTO:-0800
TZNAME:PST
DTSTART:20271107T090000
END:STANDARD
END:VTIMEZONE
BEGIN:VEVENT
DTSTART;TZID=America/Los_Angeles:20260110T121500
DTEND;TZID=America/Los_Angeles:20260110T131500
DTSTAMP:20260422T145025
CREATED:20260110T072611Z
LAST-MODIFIED:20260110T072625Z
UID:10003218-1768047300-1768050900@nkindivisible.com
SUMMARY:NKI Sign-Waving Protest in Response to the ICE Murder in Minneapolis.
DESCRIPTION:Where: George’s Corner at the intersection of Bond Rd (Hwy 104) and Miller Bay/Hansville Rd.  Parking at the Rite Aid lot. \nBring your own signs or we have extras. \n 
URL:https://nkindivisible.com/event/nki-sign-waving-2-2/
END:VEVENT
END:VCALENDAR