BEGIN:VCALENDAR
VERSION:2.0
PRODID:-//North Kitsap Indivisible - ECPv6.15.20//NONSGML v1.0//EN
CALSCALE:GREGORIAN
METHOD:PUBLISH
X-ORIGINAL-URL:https://nkindivisible.com
X-WR-CALDESC:Events for North Kitsap Indivisible
REFRESH-INTERVAL;VALUE=DURATION:PT1H
X-Robots-Tag:noindex
X-PUBLISHED-TTL:PT1H
BEGIN:VTIMEZONE
TZID:America/Los_Angeles
BEGIN:DAYLIGHT
TZOFFSETFROM:-0800
TZOFFSETTO:-0700
TZNAME:PDT
DTSTART:20240310T100000
END:DAYLIGHT
BEGIN:STANDARD
TZOFFSETFROM:-0700
TZOFFSETTO:-0800
TZNAME:PST
DTSTART:20241103T090000
END:STANDARD
BEGIN:DAYLIGHT
TZOFFSETFROM:-0800
TZOFFSETTO:-0700
TZNAME:PDT
DTSTART:20250309T100000
END:DAYLIGHT
BEGIN:STANDARD
TZOFFSETFROM:-0700
TZOFFSETTO:-0800
TZNAME:PST
DTSTART:20251102T090000
END:STANDARD
BEGIN:DAYLIGHT
TZOFFSETFROM:-0800
TZOFFSETTO:-0700
TZNAME:PDT
DTSTART:20260308T100000
END:DAYLIGHT
BEGIN:STANDARD
TZOFFSETFROM:-0700
TZOFFSETTO:-0800
TZNAME:PST
DTSTART:20261101T090000
END:STANDARD
END:VTIMEZONE
BEGIN:VEVENT
DTSTART;TZID=America/Los_Angeles:20251116T110000
DTEND;TZID=America/Los_Angeles:20251116T130000
DTSTAMP:20260422T030306
CREATED:20251025T213346Z
LAST-MODIFIED:20251025T213346Z
UID:10002940-1763290800-1763298000@nkindivisible.com
SUMMARY:Pramila Jayapal's Resistance Lab (Zoom)
DESCRIPTION:Pramila Jayapal’s Resistance Lab:  Virtual Organizing Training \nIt’s a few months out\, which gives us time to build this into one of our largest trainings ever. Click here to RSVP now. Click here to sign up to host a house party!
URL:https://nkindivisible.com/event/pramila-jayapals-resistance-lab-zoom/
END:VEVENT
BEGIN:VEVENT
DTSTART;TZID=America/Los_Angeles:20251116T110000
DTEND;TZID=America/Los_Angeles:20251116T133000
DTSTAMP:20260422T030306
CREATED:20250913T053659Z
LAST-MODIFIED:20250914T203936Z
UID:10001578-1763290800-1763299800@nkindivisible.com
SUMMARY:Poulsbo Weekly Democracy Rally
DESCRIPTION:Hosted by Poulsbo For All. \nWhere: Meet at the gazebo\, waterfront park.\nBring your signs\, your friends\, and your determination stand up for democracy. This is a peaceful event\, and it starts with an inspiring talk by Dr. Claudia Gorbman. Then attendees march with chants and signs\, and ending with open mike and inspirational comments from attendees at the gazebo.
URL:https://nkindivisible.com/event/poulsbo-weekly-democracy-rally-2/2025-11-16/
END:VEVENT
BEGIN:VEVENT
DTSTART;TZID=America/Los_Angeles:20251116T124500
DTEND;TZID=America/Los_Angeles:20251116T141500
DTSTAMP:20260422T030306
CREATED:20250913T053215Z
LAST-MODIFIED:20250914T205035Z
UID:10002483-1763297100-1763302500@nkindivisible.com
SUMMARY:Free Palestine-Kingston
DESCRIPTION:Alternate Sundays between Bainbridge and Kingston.\nWhere: Kola Kole Park Sidewalk across from Coffee Oasis
URL:https://nkindivisible.com/event/free-palestine-kingston-2/2025-11-16/
END:VEVENT
END:VCALENDAR