BEGIN:VCALENDAR
VERSION:2.0
PRODID:-//North Kitsap Indivisible - ECPv6.15.20//NONSGML v1.0//EN
CALSCALE:GREGORIAN
METHOD:PUBLISH
X-ORIGINAL-URL:https://nkindivisible.com
X-WR-CALDESC:Events for North Kitsap Indivisible
REFRESH-INTERVAL;VALUE=DURATION:PT1H
X-Robots-Tag:noindex
X-PUBLISHED-TTL:PT1H
BEGIN:VTIMEZONE
TZID:America/Los_Angeles
BEGIN:DAYLIGHT
TZOFFSETFROM:-0800
TZOFFSETTO:-0700
TZNAME:PDT
DTSTART:20240310T100000
END:DAYLIGHT
BEGIN:STANDARD
TZOFFSETFROM:-0700
TZOFFSETTO:-0800
TZNAME:PST
DTSTART:20241103T090000
END:STANDARD
BEGIN:DAYLIGHT
TZOFFSETFROM:-0800
TZOFFSETTO:-0700
TZNAME:PDT
DTSTART:20250309T100000
END:DAYLIGHT
BEGIN:STANDARD
TZOFFSETFROM:-0700
TZOFFSETTO:-0800
TZNAME:PST
DTSTART:20251102T090000
END:STANDARD
BEGIN:DAYLIGHT
TZOFFSETFROM:-0800
TZOFFSETTO:-0700
TZNAME:PDT
DTSTART:20260308T100000
END:DAYLIGHT
BEGIN:STANDARD
TZOFFSETFROM:-0700
TZOFFSETTO:-0800
TZNAME:PST
DTSTART:20261101T090000
END:STANDARD
END:VTIMEZONE
BEGIN:VEVENT
DTSTART;TZID=America/Los_Angeles:20251106T120000
DTEND;TZID=America/Los_Angeles:20251106T130000
DTSTAMP:20260422T182312
CREATED:20250913T052800Z
LAST-MODIFIED:20251003T070858Z
UID:10001836-1762430400-1762434000@nkindivisible.com
SUMMARY:What’s the Plan? With Indivisible Co-Founders
DESCRIPTION:Join Indivisible co-founders Leah Greenberg and Ezra Levin each week\, as we carve out an hour to discuss what’s happening and – more importantly – what’s the plan?\n\nVirtual event.  Sign up here.
URL:https://nkindivisible.com/event/whats-the-plan-with-indivisible-co-founders-11/2025-11-06/
END:VEVENT
BEGIN:VEVENT
DTSTART;TZID=America/Los_Angeles:20251106T183000
DTEND;TZID=America/Los_Angeles:20251106T203000
DTSTAMP:20260422T182312
CREATED:20251025T213046Z
LAST-MODIFIED:20251025T213046Z
UID:10002939-1762453800-1762461000@nkindivisible.com
SUMMARY:Divest from Fossil Fuels  (Olympia)
DESCRIPTION:Thursday\, November 6th –  6:30pm – 8:30pm\nDivest from Fossil Fuels (& Other Evils)\nGood Shepherd Church: 1601 North St. SE\, Olympia\, WA 98501 or via zoom\nMove your bank\, your credit card\, your home and auto and insurance\, and your IRA away from multinational companies that harm the planet!
URL:https://nkindivisible.com/event/divest-from-fossil-fuels-olympia/
END:VEVENT
END:VCALENDAR