BEGIN:VCALENDAR
VERSION:2.0
PRODID:-//North Kitsap Indivisible - ECPv6.15.20//NONSGML v1.0//EN
CALSCALE:GREGORIAN
METHOD:PUBLISH
X-ORIGINAL-URL:https://nkindivisible.com
X-WR-CALDESC:Events for North Kitsap Indivisible
REFRESH-INTERVAL;VALUE=DURATION:PT1H
X-Robots-Tag:noindex
X-PUBLISHED-TTL:PT1H
BEGIN:VTIMEZONE
TZID:America/Los_Angeles
BEGIN:DAYLIGHT
TZOFFSETFROM:-0800
TZOFFSETTO:-0700
TZNAME:PDT
DTSTART:20240310T100000
END:DAYLIGHT
BEGIN:STANDARD
TZOFFSETFROM:-0700
TZOFFSETTO:-0800
TZNAME:PST
DTSTART:20241103T090000
END:STANDARD
BEGIN:DAYLIGHT
TZOFFSETFROM:-0800
TZOFFSETTO:-0700
TZNAME:PDT
DTSTART:20250309T100000
END:DAYLIGHT
BEGIN:STANDARD
TZOFFSETFROM:-0700
TZOFFSETTO:-0800
TZNAME:PST
DTSTART:20251102T090000
END:STANDARD
BEGIN:DAYLIGHT
TZOFFSETFROM:-0800
TZOFFSETTO:-0700
TZNAME:PDT
DTSTART:20260308T100000
END:DAYLIGHT
BEGIN:STANDARD
TZOFFSETFROM:-0700
TZOFFSETTO:-0800
TZNAME:PST
DTSTART:20261101T090000
END:STANDARD
END:VTIMEZONE
BEGIN:VEVENT
DTSTART;TZID=America/Los_Angeles:20251028T150000
DTEND;TZID=America/Los_Angeles:20251028T180000
DTSTAMP:20260422T182311
CREATED:20250913T052056Z
LAST-MODIFIED:20250914T211648Z
UID:10000932-1761663600-1761674400@nkindivisible.com
SUMMARY:Tuesdays at the VA Hospital\, Seattle
DESCRIPTION:Every 2nd and 4th Tuesday\, 3:00 to 6:00 PM\nTuesdays at the VA Hospital\nHosted by Veterans For Peace Daniel Ellsberg Chapter 92\, Seattle\nWhere: Location: 1660 S Columbian Way\, Seattle.\n\nJoin Veterans\, healthcare workers\, union members & supporters. No cuts to VA services\, no mass firings\, stop the Trump coup!
URL:https://nkindivisible.com/event/tuesdays-at-the-va-hospital-seattle-3/2025-10-28/
END:VEVENT
BEGIN:VEVENT
DTSTART;TZID=America/Los_Angeles:20251028T160000
DTEND;TZID=America/Los_Angeles:20251028T170000
DTSTAMP:20260422T182311
CREATED:20251013T214932Z
LAST-MODIFIED:20251105T223209Z
UID:10002679-1761667200-1761670800@nkindivisible.com
SUMMARY:North Kitsap Indivisible – Sign Waving
DESCRIPTION:Note new time!  We’ll keep it here until it gets too dark\, then figure out what to do next. \nWhere: George’s Corner\, also known as Kountry Korners\, the intersection of Bond Rd (Hwy 104) and Miller Bay/Hansville Rd (27000 Miller Bay Rd NE Kingston) \nBring your signs\, your determination to sink the tRump ship and your friends!
URL:https://nkindivisible.com/event/north-kitsap-indivisible-sign-waving-7-2/2025-10-28/
END:VEVENT
BEGIN:VEVENT
DTSTART;TZID=America/Los_Angeles:20251028T170000
DTEND;TZID=America/Los_Angeles:20251028T190000
DTSTAMP:20260422T182311
CREATED:20251025T212808Z
LAST-MODIFIED:20251025T212808Z
UID:10002938-1761670800-1761678000@nkindivisible.com
SUMMARY:Civics is a Drag - Democracy Meets Drag! (Bremerton)
DESCRIPTION:Tuesday October 28th – Doors open at 5pm\nCivics is a Drag – Democracy Meets Drag!\nWhere: The Roxy Theatre\, 270 4th Street\, Bremerton \nThis free\, all-ages event uses the art of drag to break down barriers\, spark conversation\, and make civic engagement fabulous\, fun\, and accessible to all.
URL:https://nkindivisible.com/event/civics-is-a-drag-democracy-meets-drag-bremerton/
END:VEVENT
END:VCALENDAR