BEGIN:VCALENDAR
VERSION:2.0
PRODID:-//North Kitsap Indivisible - ECPv6.15.20//NONSGML v1.0//EN
CALSCALE:GREGORIAN
METHOD:PUBLISH
X-WR-CALNAME:North Kitsap Indivisible
X-ORIGINAL-URL:https://nkindivisible.com
X-WR-CALDESC:Events for North Kitsap Indivisible
REFRESH-INTERVAL;VALUE=DURATION:PT1H
X-Robots-Tag:noindex
X-PUBLISHED-TTL:PT1H
BEGIN:VTIMEZONE
TZID:America/Los_Angeles
BEGIN:DAYLIGHT
TZOFFSETFROM:-0800
TZOFFSETTO:-0700
TZNAME:PDT
DTSTART:20240310T100000
END:DAYLIGHT
BEGIN:STANDARD
TZOFFSETFROM:-0700
TZOFFSETTO:-0800
TZNAME:PST
DTSTART:20241103T090000
END:STANDARD
BEGIN:DAYLIGHT
TZOFFSETFROM:-0800
TZOFFSETTO:-0700
TZNAME:PDT
DTSTART:20250309T100000
END:DAYLIGHT
BEGIN:STANDARD
TZOFFSETFROM:-0700
TZOFFSETTO:-0800
TZNAME:PST
DTSTART:20251102T090000
END:STANDARD
BEGIN:DAYLIGHT
TZOFFSETFROM:-0800
TZOFFSETTO:-0700
TZNAME:PDT
DTSTART:20260308T100000
END:DAYLIGHT
BEGIN:STANDARD
TZOFFSETFROM:-0700
TZOFFSETTO:-0800
TZNAME:PST
DTSTART:20261101T090000
END:STANDARD
END:VTIMEZONE
BEGIN:VEVENT
DTSTART;TZID=America/Los_Angeles:20251026T110000
DTEND;TZID=America/Los_Angeles:20251026T133000
DTSTAMP:20260422T182307
CREATED:20250913T053659Z
LAST-MODIFIED:20250914T203936Z
UID:10001575-1761476400-1761485400@nkindivisible.com
SUMMARY:Poulsbo Weekly Democracy Rally
DESCRIPTION:Hosted by Poulsbo For All. \nWhere: Meet at the gazebo\, waterfront park.\nBring your signs\, your friends\, and your determination stand up for democracy. This is a peaceful event\, and it starts with an inspiring talk by Dr. Claudia Gorbman. Then attendees march with chants and signs\, and ending with open mike and inspirational comments from attendees at the gazebo.
URL:https://nkindivisible.com/event/poulsbo-weekly-democracy-rally-2/2025-10-26/
END:VEVENT
BEGIN:VEVENT
DTSTART;TZID=America/Los_Angeles:20251026T124500
DTEND;TZID=America/Los_Angeles:20251026T141500
DTSTAMP:20260422T182307
CREATED:20250902T064758Z
LAST-MODIFIED:20250914T204902Z
UID:10002352-1761482700-1761488100@nkindivisible.com
SUMMARY:Free Palestine-Bainbridge Island
DESCRIPTION:Alternate Sundays between Bainbridge Island and Kingston.\nWhere: Stop light near Ferry Terminal
URL:https://nkindivisible.com/event/free-palestine-bainbridge-island/2025-10-26/
END:VEVENT
BEGIN:VEVENT
DTSTART;TZID=America/Los_Angeles:20251026T193000
DTEND;TZID=America/Los_Angeles:20251026T203000
DTSTAMP:20260422T182307
CREATED:20250914T071450Z
LAST-MODIFIED:20251025T212532Z
UID:10000148-1761507000-1761510600@nkindivisible.com
SUMMARY:Timothy Snyder speaking at Benaroya Hall
DESCRIPTION:Get tickets here \nCo-Presented by United Way of King County\nCost: $7 – 96 \nOr\, plan to attend the live-streaming hosted by Indivisible Bainbridge\, \nOct. 26\, 6:30 pm. A live streaming of Timothy Snyder’s speech at Benaroya Hall hosted by Indivisible Bainbridge Island at Island Center Hall\, 8395 Fletcher Bay Rd NE\, BI. Doors open at 6 pm. At 6:30 pm noted political scientist will provide commentary and answer questions from the audience. Parking is limited\, so please park in the Bethany Lutheran Church parking lot and take our shuttle starting at 5:30 pm
URL:https://nkindivisible.com/event/timothy-snyder-speaking-at-benaroya-hall/
END:VEVENT
END:VCALENDAR