BEGIN:VCALENDAR
VERSION:2.0
PRODID:-//North Kitsap Indivisible - ECPv6.15.20//NONSGML v1.0//EN
CALSCALE:GREGORIAN
METHOD:PUBLISH
X-WR-CALNAME:North Kitsap Indivisible
X-ORIGINAL-URL:https://nkindivisible.com
X-WR-CALDESC:Events for North Kitsap Indivisible
REFRESH-INTERVAL;VALUE=DURATION:PT1H
X-Robots-Tag:noindex
X-PUBLISHED-TTL:PT1H
BEGIN:VTIMEZONE
TZID:America/Los_Angeles
BEGIN:DAYLIGHT
TZOFFSETFROM:-0800
TZOFFSETTO:-0700
TZNAME:PDT
DTSTART:20240310T100000
END:DAYLIGHT
BEGIN:STANDARD
TZOFFSETFROM:-0700
TZOFFSETTO:-0800
TZNAME:PST
DTSTART:20241103T090000
END:STANDARD
BEGIN:DAYLIGHT
TZOFFSETFROM:-0800
TZOFFSETTO:-0700
TZNAME:PDT
DTSTART:20250309T100000
END:DAYLIGHT
BEGIN:STANDARD
TZOFFSETFROM:-0700
TZOFFSETTO:-0800
TZNAME:PST
DTSTART:20251102T090000
END:STANDARD
BEGIN:DAYLIGHT
TZOFFSETFROM:-0800
TZOFFSETTO:-0700
TZNAME:PDT
DTSTART:20260308T100000
END:DAYLIGHT
BEGIN:STANDARD
TZOFFSETFROM:-0700
TZOFFSETTO:-0800
TZNAME:PST
DTSTART:20261101T090000
END:STANDARD
END:VTIMEZONE
BEGIN:VEVENT
DTSTART;TZID=America/Los_Angeles:20251014T160000
DTEND;TZID=America/Los_Angeles:20251014T170000
DTSTAMP:20260423T144802
CREATED:20250913T052331Z
LAST-MODIFIED:20250913T052407Z
UID:10000126-1760457600-1760461200@nkindivisible.com
SUMMARY:Public School Strong
DESCRIPTION:Public School Strong (Virtual)\n\nOctober 14@ 4:00 pm – 5:30 pm\n\n\n\nPublic School Strong Orientation\nRegister here\nSecond Tuesday of every month  4:00-5:30 PM\nThis is a virtual event \nJoin public school parents\, family members and supporters from across the country to learn:\n-How to show your support for well-resourced and inclusive public schools\n-What to look for when you observe your school district’s school board meeting\n-How to form a Public School Strong team in your school district\n-Ways to join a national movement to protect and transform public schools that serve all children
URL:https://nkindivisible.com/event/1198/
END:VEVENT
BEGIN:VEVENT
DTSTART;TZID=America/Los_Angeles:20251014T160000
DTEND;TZID=America/Los_Angeles:20251014T170000
DTSTAMP:20260423T144802
CREATED:20251013T214932Z
LAST-MODIFIED:20251105T223209Z
UID:10000674-1760457600-1760461200@nkindivisible.com
SUMMARY:North Kitsap Indivisible – Sign Waving
DESCRIPTION:Note new time!  We’ll keep it here until it gets too dark\, then figure out what to do next. \nWhere: George’s Corner\, also known as Kountry Korners\, the intersection of Bond Rd (Hwy 104) and Miller Bay/Hansville Rd (27000 Miller Bay Rd NE Kingston) \nBring your signs\, your determination to sink the tRump ship and your friends!
URL:https://nkindivisible.com/event/north-kitsap-indivisible-sign-waving-7-2/2025-10-14/
END:VEVENT
END:VCALENDAR