BEGIN:VCALENDAR
VERSION:2.0
PRODID:-//North Kitsap Indivisible - ECPv6.15.20//NONSGML v1.0//EN
CALSCALE:GREGORIAN
METHOD:PUBLISH
X-ORIGINAL-URL:https://nkindivisible.com
X-WR-CALDESC:Events for North Kitsap Indivisible
REFRESH-INTERVAL;VALUE=DURATION:PT1H
X-Robots-Tag:noindex
X-PUBLISHED-TTL:PT1H
BEGIN:VTIMEZONE
TZID:America/Los_Angeles
BEGIN:DAYLIGHT
TZOFFSETFROM:-0800
TZOFFSETTO:-0700
TZNAME:PDT
DTSTART:20240310T100000
END:DAYLIGHT
BEGIN:STANDARD
TZOFFSETFROM:-0700
TZOFFSETTO:-0800
TZNAME:PST
DTSTART:20241103T090000
END:STANDARD
BEGIN:DAYLIGHT
TZOFFSETFROM:-0800
TZOFFSETTO:-0700
TZNAME:PDT
DTSTART:20250309T100000
END:DAYLIGHT
BEGIN:STANDARD
TZOFFSETFROM:-0700
TZOFFSETTO:-0800
TZNAME:PST
DTSTART:20251102T090000
END:STANDARD
BEGIN:DAYLIGHT
TZOFFSETFROM:-0800
TZOFFSETTO:-0700
TZNAME:PDT
DTSTART:20260308T100000
END:DAYLIGHT
BEGIN:STANDARD
TZOFFSETFROM:-0700
TZOFFSETTO:-0800
TZNAME:PST
DTSTART:20261101T090000
END:STANDARD
END:VTIMEZONE
BEGIN:VEVENT
DTSTART;TZID=America/Los_Angeles:20251004T090000
DTEND;TZID=America/Los_Angeles:20251004T140000
DTSTAMP:20260424T071058
CREATED:20250914T071654Z
LAST-MODIFIED:20250914T213137Z
UID:10000149-1759568400-1759586400@nkindivisible.com
SUMMARY:Food Drive for Helpline House
DESCRIPTION:Where: Eagle Harbor Congregational Church\, front parking lot.\nThis food drive was originally planned for Oct. 18.  SNAP cuts went into effect on Sept. 1\, so this food drive is needed more than ever. \nHosted by Indivisible Bainbridge Island
URL:https://nkindivisible.com/event/food-drive-for-helpline-house/
END:VEVENT
BEGIN:VEVENT
DTSTART;TZID=America/Los_Angeles:20251004T100000
DTEND;TZID=America/Los_Angeles:20251004T120000
DTSTAMP:20260424T071058
CREATED:20251003T071603Z
LAST-MODIFIED:20251003T071603Z
UID:10002676-1759572000-1759579200@nkindivisible.com
SUMMARY:Healthcare not Authoritarianism Rally - Kingston
DESCRIPTION:Join us at Kola Kole Park in Kingston to show our support for our senators\, who are fighting to prevent the government from kicking millions off health care and jacking up prices for the rest of us. \nIf you can bring healthcare oriented signs\, that is a plus.
URL:https://nkindivisible.com/event/healthcare-not-authoritarianism-rally-kingston/
END:VEVENT
END:VCALENDAR