BEGIN:VCALENDAR
VERSION:2.0
PRODID:-//North Kitsap Indivisible - ECPv6.15.20//NONSGML v1.0//EN
CALSCALE:GREGORIAN
METHOD:PUBLISH
X-WR-CALNAME:North Kitsap Indivisible
X-ORIGINAL-URL:https://nkindivisible.com
X-WR-CALDESC:Events for North Kitsap Indivisible
REFRESH-INTERVAL;VALUE=DURATION:PT1H
X-Robots-Tag:noindex
X-PUBLISHED-TTL:PT1H
BEGIN:VTIMEZONE
TZID:America/Los_Angeles
BEGIN:DAYLIGHT
TZOFFSETFROM:-0800
TZOFFSETTO:-0700
TZNAME:PDT
DTSTART:20240310T100000
END:DAYLIGHT
BEGIN:STANDARD
TZOFFSETFROM:-0700
TZOFFSETTO:-0800
TZNAME:PST
DTSTART:20241103T090000
END:STANDARD
BEGIN:DAYLIGHT
TZOFFSETFROM:-0800
TZOFFSETTO:-0700
TZNAME:PDT
DTSTART:20250309T100000
END:DAYLIGHT
BEGIN:STANDARD
TZOFFSETFROM:-0700
TZOFFSETTO:-0800
TZNAME:PST
DTSTART:20251102T090000
END:STANDARD
BEGIN:DAYLIGHT
TZOFFSETFROM:-0800
TZOFFSETTO:-0700
TZNAME:PDT
DTSTART:20260308T100000
END:DAYLIGHT
BEGIN:STANDARD
TZOFFSETFROM:-0700
TZOFFSETTO:-0800
TZNAME:PST
DTSTART:20261101T090000
END:STANDARD
END:VTIMEZONE
BEGIN:VEVENT
DTSTART;TZID=America/Los_Angeles:20251003T120000
DTEND;TZID=America/Los_Angeles:20251003T130000
DTSTAMP:20260424T083420
CREATED:20251003T060325Z
LAST-MODIFIED:20251003T060325Z
UID:10002670-1759492800-1759496400@nkindivisible.com
SUMMARY:What’s the Plan? With Indivisible Co-Founders
DESCRIPTION:October 3 @ 12:00 pm – 1:00 pm\n\n\n\n\n\n\n\n\n\n\n\n\n\n\nJoin Indivisible co-founders Leah Greenberg and Ezra Levin each week\, as we carve out an hour to discuss what’s happening and – more importantly – what’s the plan?\n\n\nWhat’s the Plan will be on Fridays (instead of Thursdays)  Oct 3 and Oct 10\n\n\n\n\n\n\n\nVirtual event.  Sign up here.
URL:https://nkindivisible.com/event/whats-the-plan-with-indivisible-co-founders-13/
END:VEVENT
BEGIN:VEVENT
DTSTART;TZID=America/Los_Angeles:20251003T140000
DTEND;TZID=America/Los_Angeles:20251003T150000
DTSTAMP:20260424T083420
CREATED:20250918T063557Z
LAST-MODIFIED:20250918T063557Z
UID:10002669-1759500000-1759503600@nkindivisible.com
SUMMARY:Book Reading: Safa Suleiman
DESCRIPTION:October 3 @ 2 pm –3 pm\n\n\n\nKPSC welcomes author Safa Suleiman\nFor two special readings with discussion of her children’s book: Hilwa’s Gifts \nAdmission free\nFriday\, Oct. 3\, 2 PM\, Suquamish Museum\n6861 NE South St.\, Suquamish \nAbout Hilwa’s Gifts:\nAli is visiting his family in Palestine during the olive harvest and is startled by the whacking of the trees\, especially his favorite tree\, Hilwa. His grandfather Seedo reassures him that the whacking doesn’t harm the trees. “We would never hurt olive trees\, habibi\,” Seedo tells him. “Their gifts are too precious.” Soon Ali joins his grandparents and his cousins in singing and dancing and harvesting olives—just a gentle whack is all it takes for the tree to rain down its fruit. After that the olives are taken to the press and made into delicious oil. But Hilwa’s gifts don’t end there. \n“Combining a centuries-old practice with the story about a Palestinian family and their relationship to the land make Hilwa’s Gifts an absolute treasure.”\n—Booklist Starred Review
URL:https://nkindivisible.com/event/book-reading-safa-suleiman-2/
END:VEVENT
BEGIN:VEVENT
DTSTART;TZID=America/Los_Angeles:20251003T160000
DTEND;TZID=America/Los_Angeles:20251003T170000
DTSTAMP:20260424T083420
CREATED:20250913T053001Z
LAST-MODIFIED:20250914T204719Z
UID:10002091-1759507200-1759510800@nkindivisible.com
SUMMARY:End Occupation of Palestine
DESCRIPTION:Every Friday from 4 to 5pm. Next Gathering pm September 5th\nWhere: Corner of Viking Way and Finn Hill Rd in Poulsbo\, In front of the Viking Statue\nBring signs
URL:https://nkindivisible.com/event/end-occupation-of-palestine-2/2025-10-03/
END:VEVENT
BEGIN:VEVENT
DTSTART;TZID=America/Los_Angeles:20251003T160000
DTEND;TZID=America/Los_Angeles:20251003T170000
DTSTAMP:20260424T083420
CREATED:20251003T060844Z
LAST-MODIFIED:20251003T060844Z
UID:10002672-1759507200-1759510800@nkindivisible.com
SUMMARY:STAND WITH PALESTINE
DESCRIPTION:Israel Is Attacking the Global Sumud Flotilla Today \nSTAND WITH PALESTINE: STOP THE GENOCIDE \nPoulsbo \nCorner of Viking Way and Finn Hill Rd in Poulsbo\nIn front of the Viking Statue
URL:https://nkindivisible.com/event/stand-with-palestine/
END:VEVENT
BEGIN:VEVENT
DTSTART;TZID=America/Los_Angeles:20251003T160000
DTEND;TZID=America/Los_Angeles:20251003T173000
DTSTAMP:20260424T083420
CREATED:20250914T061829Z
LAST-MODIFIED:20250914T201149Z
UID:10000152-1759507200-1759512600@nkindivisible.com
SUMMARY:Fridays @4 Letter Writing and More
DESCRIPTION:Swing Left– Fridays @4 Letter Writing and More\n\n\n\n\nThis is a weekly meeting via Zoom. Learn about the next letter writing campaign with Vote Forward.   And more: making phone calls to our elected officials\, sending postcards to voters\, using Bluesky…. \nSign up at https://swingleft.org/event/register/mobilize:274619?source=%2Fgroup%2Fswing-left-fridays-at-4-letter-writing-team&s=u
URL:https://nkindivisible.com/event/fridays-4-letter-writing-and-more-3/2025-10-03/
END:VEVENT
END:VCALENDAR