BEGIN:VCALENDAR
VERSION:2.0
PRODID:-//North Kitsap Indivisible - ECPv6.15.20//NONSGML v1.0//EN
CALSCALE:GREGORIAN
METHOD:PUBLISH
X-ORIGINAL-URL:https://nkindivisible.com
X-WR-CALDESC:Events for North Kitsap Indivisible
REFRESH-INTERVAL;VALUE=DURATION:PT1H
X-Robots-Tag:noindex
X-PUBLISHED-TTL:PT1H
BEGIN:VTIMEZONE
TZID:America/Los_Angeles
BEGIN:DAYLIGHT
TZOFFSETFROM:-0800
TZOFFSETTO:-0700
TZNAME:PDT
DTSTART:20240310T100000
END:DAYLIGHT
BEGIN:STANDARD
TZOFFSETFROM:-0700
TZOFFSETTO:-0800
TZNAME:PST
DTSTART:20241103T090000
END:STANDARD
BEGIN:DAYLIGHT
TZOFFSETFROM:-0800
TZOFFSETTO:-0700
TZNAME:PDT
DTSTART:20250309T100000
END:DAYLIGHT
BEGIN:STANDARD
TZOFFSETFROM:-0700
TZOFFSETTO:-0800
TZNAME:PST
DTSTART:20251102T090000
END:STANDARD
BEGIN:DAYLIGHT
TZOFFSETFROM:-0800
TZOFFSETTO:-0700
TZNAME:PDT
DTSTART:20260308T100000
END:DAYLIGHT
BEGIN:STANDARD
TZOFFSETFROM:-0700
TZOFFSETTO:-0800
TZNAME:PST
DTSTART:20261101T090000
END:STANDARD
END:VTIMEZONE
BEGIN:VEVENT
DTSTART;TZID=America/Los_Angeles:20250901T100000
DTEND;TZID=America/Los_Angeles:20250901T173000
DTSTAMP:20260424T181954
CREATED:20250820T190422Z
LAST-MODIFIED:20250824T083426Z
UID:10000106-1756720800-1756747800@nkindivisible.com
SUMMARY:FIFTYFIFTY.ONE  Nationwide Protest: Bremerton\, Kingston\, Port Orchard\, Poulsbo
DESCRIPTION:Monday\, September 1st – multiple events in multiple county locations\nSee individual events below for time and location: \n  \n***Monday September 1    10am to 11:30am:  Bremerton\nHosted by Indivisible Bremerton\, More information to follow \nFight the Trump Takeover/Workers Over Billionaires:  \nWe’re organizing a National Day of Action\nWhere: Manette Bridge\, Bremerton \n  \n***Monday September 1    10:30am to noon: Kingston \nWORKERS OVER BILLIONAIRES!! \n\n\n\n\nHosted by Kingston Alliance for Democracy and North Kitsap Indivisible\n\n\nMonday\, September 1st\, 202510:30AM-12:00PM Kola Kole Park – Kingston WA11128 NE Maine Street\, Kingston WA\n\n\nPlease join us for a peaceful protest and sign waving along Highway 104. Bring your sign and a friend as we continue to make our voices heard against the corrupt administration and the billionaires that support it!\n\n\n\n\n  \n***Monday\, September 1    12 to 2pm PDT:  Port Orchard\nHosted by Port Orchard Southworth Indivisible \nMay Day Strong – Workers over Billionaires\nLocation: Bay Street & Orchard Avenue Port Orchard\, WA 98366\nRSVP and more information here \nhttps://www.mobilize.us/portorchardswindivisible/event/825443/ \n  \n***Monday\, September 1    1 pm PDT:  Poulsbo \nHosted by Poulsbo for All\nLabor Day Rally\nLocation: Poulsbo Waterfront Park \n  \n***Monday\, September 1st – from 4:00 to 5:30 p.m.:  Bremerton\nOverpass Bannering\, Hwy. 3 near 4900 Auto Center Way\nHosted by Indivisible Bremerton\nBanners provided. Questions?  Email us at indivisiblebremerton@gmail.com
URL:https://nkindivisible.com/event/fiftyfifty-one-nationwide-protest-bremerton-kingston-port-orchard/
END:VEVENT
END:VCALENDAR