BEGIN:VCALENDAR
VERSION:2.0
PRODID:-//North Kitsap Indivisible - ECPv6.15.20//NONSGML v1.0//EN
CALSCALE:GREGORIAN
METHOD:PUBLISH
X-WR-CALNAME:North Kitsap Indivisible
X-ORIGINAL-URL:https://nkindivisible.com
X-WR-CALDESC:Events for North Kitsap Indivisible
REFRESH-INTERVAL;VALUE=DURATION:PT1H
X-Robots-Tag:noindex
X-PUBLISHED-TTL:PT1H
BEGIN:VTIMEZONE
TZID:America/Los_Angeles
BEGIN:DAYLIGHT
TZOFFSETFROM:-0800
TZOFFSETTO:-0700
TZNAME:PDT
DTSTART:20240310T100000
END:DAYLIGHT
BEGIN:STANDARD
TZOFFSETFROM:-0700
TZOFFSETTO:-0800
TZNAME:PST
DTSTART:20241103T090000
END:STANDARD
BEGIN:DAYLIGHT
TZOFFSETFROM:-0800
TZOFFSETTO:-0700
TZNAME:PDT
DTSTART:20250309T100000
END:DAYLIGHT
BEGIN:STANDARD
TZOFFSETFROM:-0700
TZOFFSETTO:-0800
TZNAME:PST
DTSTART:20251102T090000
END:STANDARD
BEGIN:DAYLIGHT
TZOFFSETFROM:-0800
TZOFFSETTO:-0700
TZNAME:PDT
DTSTART:20260308T100000
END:DAYLIGHT
BEGIN:STANDARD
TZOFFSETFROM:-0700
TZOFFSETTO:-0800
TZNAME:PST
DTSTART:20261101T090000
END:STANDARD
END:VTIMEZONE
BEGIN:VEVENT
DTSTART;TZID=America/Los_Angeles:20250824T110000
DTEND;TZID=America/Los_Angeles:20250824T133000
DTSTAMP:20260424T184103
CREATED:20250724T003058Z
LAST-MODIFIED:20250724T003058Z
UID:10000060-1756033200-1756042200@nkindivisible.com
SUMMARY:Poulsbo Weekly Democracy Rally
DESCRIPTION:Poulsbo Weekly Democracy Rally\n\nAugust 24  @ 11:00 am – 1:30 pm\n\n\n\nHosted by Poulsbo for All and North Kitsap Indivisible. \nMeet at the gazebo. Bring your signs\, your determination to sink the tRump ship and your friends. \nThis is a peaceful event.
URL:https://nkindivisible.com/event/poulsbo-weekly-democracy-rally-5/
END:VEVENT
BEGIN:VEVENT
DTSTART;TZID=America/Los_Angeles:20250824T124500
DTEND;TZID=America/Los_Angeles:20250824T141500
DTSTAMP:20260424T184103
CREATED:20250812T033748Z
LAST-MODIFIED:20250812T033748Z
UID:10000082-1756039500-1756044900@nkindivisible.com
SUMMARY:Kitsap Palestine Solidarity Actions: Kingston
DESCRIPTION:August 24  12:45-2:15 PM \nKingston: Kole Kole Park [11128 NE Maine St\, Kingston\, WA 98346] \n  \nDemonstrations alternate between Bainbridge Island and Kingston on Sundays at 12:45-2:15 \nIn August the actions will be on Bainbridge Island on the 3rd and 17th and in Kingston on the 10th and 24th.
URL:https://nkindivisible.com/event/kitsap-palestine-solidarity-actions-kingston/
END:VEVENT
BEGIN:VEVENT
DTSTART;TZID=America/Los_Angeles:20250824T160000
DTEND;TZID=America/Los_Angeles:20250824T170000
DTSTAMP:20260424T184103
CREATED:20250824T070500Z
LAST-MODIFIED:20250824T070500Z
UID:10000107-1756051200-1756054800@nkindivisible.com
SUMMARY:Free Palestine: Bremerton
DESCRIPTION:End the Occupation – Free Palestine \n4-5 PM \nBremerton\, Manette Circle (Manette side of the bridge) 
URL:https://nkindivisible.com/event/free-palestine-bremerton/
END:VEVENT
END:VCALENDAR