BEGIN:VCALENDAR
VERSION:2.0
PRODID:-//North Kitsap Indivisible - ECPv6.15.20//NONSGML v1.0//EN
CALSCALE:GREGORIAN
METHOD:PUBLISH
X-ORIGINAL-URL:https://nkindivisible.com
X-WR-CALDESC:Events for North Kitsap Indivisible
REFRESH-INTERVAL;VALUE=DURATION:PT1H
X-Robots-Tag:noindex
X-PUBLISHED-TTL:PT1H
BEGIN:VTIMEZONE
TZID:America/Los_Angeles
BEGIN:DAYLIGHT
TZOFFSETFROM:-0800
TZOFFSETTO:-0700
TZNAME:PDT
DTSTART:20240310T100000
END:DAYLIGHT
BEGIN:STANDARD
TZOFFSETFROM:-0700
TZOFFSETTO:-0800
TZNAME:PST
DTSTART:20241103T090000
END:STANDARD
BEGIN:DAYLIGHT
TZOFFSETFROM:-0800
TZOFFSETTO:-0700
TZNAME:PDT
DTSTART:20250309T100000
END:DAYLIGHT
BEGIN:STANDARD
TZOFFSETFROM:-0700
TZOFFSETTO:-0800
TZNAME:PST
DTSTART:20251102T090000
END:STANDARD
BEGIN:DAYLIGHT
TZOFFSETFROM:-0800
TZOFFSETTO:-0700
TZNAME:PDT
DTSTART:20260308T100000
END:DAYLIGHT
BEGIN:STANDARD
TZOFFSETFROM:-0700
TZOFFSETTO:-0800
TZNAME:PST
DTSTART:20261101T090000
END:STANDARD
END:VTIMEZONE
BEGIN:VEVENT
DTSTART;TZID=America/Los_Angeles:20250816T123000
DTEND;TZID=America/Los_Angeles:20250816T140000
DTSTAMP:20260424T184206
CREATED:20250812T023541Z
LAST-MODIFIED:20250814T074936Z
UID:10000075-1755347400-1755352800@nkindivisible.com
SUMMARY:National Day of Action: Fight the Trump Takeover: Bremerton
DESCRIPTION: Saturday\, August     12:30 – 2pm PDT\n\n\n\n\n\n\nLocation  Manette Bridge  Bremerton\, WA 98337\n\n\n\n\nAbout this event\n                                       sign up: https://www.mobilize.us/fightthetrumptakeover/event/826375/\n\n\n\n\n\n\nThe Texas House Democrats are denying quorum to stop the Trump takeover of Texas and block his attempt to rig the 2026 midterm elections. But Trump isn’t stopping in Texas. He’s targeting Missouri\, Ohio\, Florida\, and every state he can twist to help him steal Congress next year. States like California and New York are starting to fight back. \nLet’s be clear: this fight started in Texas\, but it doesn’t end there. This isn’t just about redistricting or one state’s politics. It’s about the future of our democracy. Trump is terrified of the American people. He knows he can’t win on his ideas\, so he’s trying to take Congress by hook or by crook–and he’s doing it by silencing the voices of communities of color. We’re not going to let that happen. \nThat’s why we’re organizing a National Day of Action\, on Saturday\, August 16\, to fight back against the Trump takeover of our country. \nTexas will lead with an anchor rally at the Capitol in Austin. Across the country\, we’re asking people to show up at their state houses\, city halls\, or community spaces and make it clear — we see what Trump is doing\, and we won’t stand for it. \nPlease note: A core principle behind our Fight the Trump Takeover actions is a commitment to nonviolence in all we do. We expect all participants to seek to de-escalate any potential confrontation with those who disagree with our values.
URL:https://nkindivisible.com/event/national-day-of-action-fight-the-trump-takeover/
END:VEVENT
BEGIN:VEVENT
DTSTART;TZID=America/Los_Angeles:20250816T170000
DTEND;TZID=America/Los_Angeles:20250816T180000
DTSTAMP:20260424T184206
CREATED:20250814T074815Z
LAST-MODIFIED:20250814T074815Z
UID:10000084-1755363600-1755367200@nkindivisible.com
SUMMARY:Fight The Trump Takeover Rally - Kingston
DESCRIPTION:Saturday – Kingston\nNational Day of Action\nSaturday\, August 16th – 5pm to 6pm\nHosted by North Kitsap Indivisible\nWhere: George’s Corner\, also known as Kountry Korners\, the intersection of Bond Rd [Hwy 104] and Miller Bay/Hansville Hwy (27000 Miller Bay Rd NE Kingston) \nFight The Trump Takeover Rally. The Texas House Democrats are denying quorum to stop theTrump takeover of Texas and block his attempt to rig the 2026 midterm elections. But Trump isn’t stopping in Texas. He’s targeting Missouri\, Ohio\,Florida\, and every state he can twist to help him steal Congress next year. Let’s be clear:this fight started in Texas\, but it doesn’t end there. It ends with us and it won’t be easy! Bring your signs\, your determination to sink the tRump ship and your friends!\nRSVP and more information here.
URL:https://nkindivisible.com/event/fight-the-trump-takeover-rally-kingston/
END:VEVENT
END:VCALENDAR