BEGIN:VCALENDAR
VERSION:2.0
PRODID:-//North Kitsap Indivisible - ECPv6.15.20//NONSGML v1.0//EN
CALSCALE:GREGORIAN
METHOD:PUBLISH
X-ORIGINAL-URL:https://nkindivisible.com
X-WR-CALDESC:Events for North Kitsap Indivisible
REFRESH-INTERVAL;VALUE=DURATION:PT1H
X-Robots-Tag:noindex
X-PUBLISHED-TTL:PT1H
BEGIN:VTIMEZONE
TZID:America/Los_Angeles
BEGIN:DAYLIGHT
TZOFFSETFROM:-0800
TZOFFSETTO:-0700
TZNAME:PDT
DTSTART:20240310T100000
END:DAYLIGHT
BEGIN:STANDARD
TZOFFSETFROM:-0700
TZOFFSETTO:-0800
TZNAME:PST
DTSTART:20241103T090000
END:STANDARD
BEGIN:DAYLIGHT
TZOFFSETFROM:-0800
TZOFFSETTO:-0700
TZNAME:PDT
DTSTART:20250309T100000
END:DAYLIGHT
BEGIN:STANDARD
TZOFFSETFROM:-0700
TZOFFSETTO:-0800
TZNAME:PST
DTSTART:20251102T090000
END:STANDARD
BEGIN:DAYLIGHT
TZOFFSETFROM:-0800
TZOFFSETTO:-0700
TZNAME:PDT
DTSTART:20260308T100000
END:DAYLIGHT
BEGIN:STANDARD
TZOFFSETFROM:-0700
TZOFFSETTO:-0800
TZNAME:PST
DTSTART:20261101T090000
END:STANDARD
END:VTIMEZONE
BEGIN:VEVENT
DTSTART;TZID=America/Los_Angeles:20250813T170000
DTEND;TZID=America/Los_Angeles:20250813T183000
DTSTAMP:20260424T184204
CREATED:20250711T061303Z
LAST-MODIFIED:20250711T062607Z
UID:10000045-1755104400-1755109800@nkindivisible.com
SUMMARY:One Million Rising: Strategic Non-Cooperation to Fight Authoritarianism  #3
DESCRIPTION:One Million Rising: Strategic Non-Cooperation to Fight Authoritarianism\n\n\n\nTime  Wednesdays  5 – 6:30pm PDT\n         July 16       July 30      August 13\n\n\n\n\n\n\nLocation  Virtual event    Join from anywhere\nTo register: One Million Rising: Strategic Non-Cooperation to Fight Authoritarianism › \n  \n\nAbout this event\n\n\n\n\n\n\nAcross the country\, authoritarian forces are getting bolder and more dangerous. Trump and his allies are not hiding their agenda: mass deportations\, rollbacks of civil rights\, weaponized courts\, and full-scale attacks on our democracy. We don’t have to wait until it’s too late. We can stop this. But it’ll take all of us—not just on single days of mass action\, but through sustained organizing in our communities. \nThat’s why this summer\, we’re launching One Million Rising—a national effort to train one million people in the strategic logic and practice of non-cooperation\, as well as the basics of community organizing and campaign design. This is how we build people power that can’t be ignored. You’re invited to join us—and lead. \nLet’s build a force bigger than fear and louder than hate. Let’s get ready. Let’s get organized. Let’s stop Trump. \nSession 1: The Moment & Your Mission – July 16 Get oriented to making meaning of this moment and the role you can play in coordinated strategic action. \nSession 2: How to Make it Happen – July 30 This train-the-trainer session is how we get to one million. Learn not just our strategy\, but how you can train others and get them on board. You’ll host your first community resistance gathering after this session. \nSession 3: What Now? – August 13 You’ll be onboarded to basic campaign design and learn how to implement it locally as well as get plugged into our next national campaign work. Your second community resistance gathering will move this action forward. \nSign up for all 3 sessions to get the most out of this experience. Watch it live with a friend in person\, and get ready now to host your own community resistance gatherings after the second and third sessions. This is how we get to 1 million!
URL:https://nkindivisible.com/event/one-million-rising-strategic-non-cooperation-to-fight-authoritarianism-3/
END:VEVENT
END:VCALENDAR