BEGIN:VCALENDAR
VERSION:2.0
PRODID:-//North Kitsap Indivisible - ECPv6.15.20//NONSGML v1.0//EN
CALSCALE:GREGORIAN
METHOD:PUBLISH
X-WR-CALNAME:North Kitsap Indivisible
X-ORIGINAL-URL:https://nkindivisible.com
X-WR-CALDESC:Events for North Kitsap Indivisible
REFRESH-INTERVAL;VALUE=DURATION:PT1H
X-Robots-Tag:noindex
X-PUBLISHED-TTL:PT1H
BEGIN:VTIMEZONE
TZID:America/Los_Angeles
BEGIN:DAYLIGHT
TZOFFSETFROM:-0800
TZOFFSETTO:-0700
TZNAME:PDT
DTSTART:20240310T100000
END:DAYLIGHT
BEGIN:STANDARD
TZOFFSETFROM:-0700
TZOFFSETTO:-0800
TZNAME:PST
DTSTART:20241103T090000
END:STANDARD
BEGIN:DAYLIGHT
TZOFFSETFROM:-0800
TZOFFSETTO:-0700
TZNAME:PDT
DTSTART:20250309T100000
END:DAYLIGHT
BEGIN:STANDARD
TZOFFSETFROM:-0700
TZOFFSETTO:-0800
TZNAME:PST
DTSTART:20251102T090000
END:STANDARD
BEGIN:DAYLIGHT
TZOFFSETFROM:-0800
TZOFFSETTO:-0700
TZNAME:PDT
DTSTART:20260308T100000
END:DAYLIGHT
BEGIN:STANDARD
TZOFFSETFROM:-0700
TZOFFSETTO:-0800
TZNAME:PST
DTSTART:20261101T090000
END:STANDARD
END:VTIMEZONE
BEGIN:VEVENT
DTSTART;TZID=America/Los_Angeles:20250802T103000
DTEND;TZID=America/Los_Angeles:20250802T120000
DTSTAMP:20260424T184035
CREATED:20250801T220352Z
LAST-MODIFIED:20250801T220352Z
UID:10000071-1754130600-1754136000@nkindivisible.com
SUMMARY:National Day of Action – Rage Against the Regime
DESCRIPTION:National Day of Action – Rage Against the Regime\n\n\n\n\nSaturday August 2nd – 10:30am to noon\nRage Against the Regime\, National Rally\nHosted by Kitsap Alliance for Democracy and North Kitsap Indivisible\nWhere: Mike Wallace Park\, 25931 Washington Blvd NE Kingston
URL:https://nkindivisible.com/event/national-day-of-action-rage-against-the-regime/
END:VEVENT
BEGIN:VEVENT
DTSTART;TZID=America/Los_Angeles:20250802T140000
DTEND;TZID=America/Los_Angeles:20250802T160000
DTSTAMP:20260424T184035
CREATED:20250801T215319Z
LAST-MODIFIED:20250801T215319Z
UID:10000070-1754143200-1754150400@nkindivisible.com
SUMMARY:Dare to Fight Fascism!
DESCRIPTION:Location\n\n\n\n\n\nMuriel Iverson Williams Waterfront Park\, Poulsbo\, Washington\, \nDate & Time\n\n\n\n\n\n\n\n\nSaturday\, August 2\, 2025 from 2:00 PM to 3:30 PM \n\n\n\n\nOrganized By\n\n\nPoulsboForAll2025\nhttps://www.poulsboforall.com/ \n@poulsboforall2025
URL:https://nkindivisible.com/event/dare-to-fight-fascism/
END:VEVENT
END:VCALENDAR