BEGIN:VCALENDAR
VERSION:2.0
PRODID:-//North Kitsap Indivisible - ECPv6.15.20//NONSGML v1.0//EN
CALSCALE:GREGORIAN
METHOD:PUBLISH
X-ORIGINAL-URL:https://nkindivisible.com
X-WR-CALDESC:Events for North Kitsap Indivisible
REFRESH-INTERVAL;VALUE=DURATION:PT1H
X-Robots-Tag:noindex
X-PUBLISHED-TTL:PT1H
BEGIN:VTIMEZONE
TZID:America/Los_Angeles
BEGIN:DAYLIGHT
TZOFFSETFROM:-0800
TZOFFSETTO:-0700
TZNAME:PDT
DTSTART:20240310T100000
END:DAYLIGHT
BEGIN:STANDARD
TZOFFSETFROM:-0700
TZOFFSETTO:-0800
TZNAME:PST
DTSTART:20241103T090000
END:STANDARD
BEGIN:DAYLIGHT
TZOFFSETFROM:-0800
TZOFFSETTO:-0700
TZNAME:PDT
DTSTART:20250309T100000
END:DAYLIGHT
BEGIN:STANDARD
TZOFFSETFROM:-0700
TZOFFSETTO:-0800
TZNAME:PST
DTSTART:20251102T090000
END:STANDARD
BEGIN:DAYLIGHT
TZOFFSETFROM:-0800
TZOFFSETTO:-0700
TZNAME:PDT
DTSTART:20260308T100000
END:DAYLIGHT
BEGIN:STANDARD
TZOFFSETFROM:-0700
TZOFFSETTO:-0800
TZNAME:PST
DTSTART:20261101T090000
END:STANDARD
END:VTIMEZONE
BEGIN:VEVENT
DTSTART;TZID=America/Los_Angeles:20250724T120000
DTEND;TZID=America/Los_Angeles:20250724T130000
DTSTAMP:20260424T203549
CREATED:20250620T080922Z
LAST-MODIFIED:20250620T080922Z
UID:10000025-1753358400-1753362000@nkindivisible.com
SUMMARY:What’s the Plan? With Indivisible Co-Founders
DESCRIPTION:Thursday\,  July 24 @ 12:00 pm – 1:00 pm  Pacific Time\n\n\n\n\n\n\nVirtual event \nJoin from anywhere\n\n\nJoin Indivisible co-founders Leah Greenberg and Ezra Levin each week\, as we carve out an hour to discuss what’s happening and – more importantly – what’s the plan?\n\nRSVP: https://www.mobilize.us/indivisible/event/773746/
URL:https://nkindivisible.com/event/whats-the-plan-with-indivisible-co-founders-5/
END:VEVENT
BEGIN:VEVENT
DTSTART;TZID=America/Los_Angeles:20250724T163000
DTEND;TZID=America/Los_Angeles:20250724T173000
DTSTAMP:20260424T203549
CREATED:20250724T010410Z
LAST-MODIFIED:20250724T010410Z
UID:10000069-1753374600-1753378200@nkindivisible.com
SUMMARY:Powers Of The Judicial Branch - Red Wine and Blue
DESCRIPTION:Thursday\, July 24th –  4:30pm – 5:30PM  PDT\nThe Powers Of The Judicial Branch\nHosted by Red Wine And Blue\nWith norms crumbling and the other branches of government failing to uphold their duties\, the courts are increasingly the last line of defense for our Democracy. But what gives them that power and who keeps them in check? Join us for the next RWB Civics Salon as we dive into the judicial branch. We will learn how it’s set up\, what powers it holds\, and how it fits into our system of checks and balances. We’ll get to the heart of what the courts are actually supposed to do and why it matters now more than ever. \nRegister here:  https://secure.everyaction.com/FuUjJhJ2KUOyYqdv3ed96A2
URL:https://nkindivisible.com/event/powers-of-the-judicial-branch-red-wine-and-blue/
END:VEVENT
END:VCALENDAR