BEGIN:VCALENDAR
VERSION:2.0
PRODID:-//North Kitsap Indivisible - ECPv6.15.20//NONSGML v1.0//EN
CALSCALE:GREGORIAN
METHOD:PUBLISH
X-WR-CALNAME:North Kitsap Indivisible
X-ORIGINAL-URL:https://nkindivisible.com
X-WR-CALDESC:Events for North Kitsap Indivisible
REFRESH-INTERVAL;VALUE=DURATION:PT1H
X-Robots-Tag:noindex
X-PUBLISHED-TTL:PT1H
BEGIN:VTIMEZONE
TZID:America/Los_Angeles
BEGIN:DAYLIGHT
TZOFFSETFROM:-0800
TZOFFSETTO:-0700
TZNAME:PDT
DTSTART:20240310T100000
END:DAYLIGHT
BEGIN:STANDARD
TZOFFSETFROM:-0700
TZOFFSETTO:-0800
TZNAME:PST
DTSTART:20241103T090000
END:STANDARD
BEGIN:DAYLIGHT
TZOFFSETFROM:-0800
TZOFFSETTO:-0700
TZNAME:PDT
DTSTART:20250309T100000
END:DAYLIGHT
BEGIN:STANDARD
TZOFFSETFROM:-0700
TZOFFSETTO:-0800
TZNAME:PST
DTSTART:20251102T090000
END:STANDARD
BEGIN:DAYLIGHT
TZOFFSETFROM:-0800
TZOFFSETTO:-0700
TZNAME:PDT
DTSTART:20260308T100000
END:DAYLIGHT
BEGIN:STANDARD
TZOFFSETFROM:-0700
TZOFFSETTO:-0800
TZNAME:PST
DTSTART:20261101T090000
END:STANDARD
END:VTIMEZONE
BEGIN:VEVENT
DTSTART;TZID=America/Los_Angeles:20250720T110000
DTEND;TZID=America/Los_Angeles:20250720T133000
DTSTAMP:20260424T203430
CREATED:20250701T062448Z
LAST-MODIFIED:20250719T055337Z
UID:10000036-1753009200-1753018200@nkindivisible.com
SUMMARY:CANCELLED  Poulsbo  Weekly Democracy Rally/March
DESCRIPTION:CANCELLED for July 20.  Next rally July 27 \nHosted by Poulsbo for All and North Kitsap Indivisible. \n 
URL:https://nkindivisible.com/event/poulsbo-weekly-democracy-rally-march/
END:VEVENT
END:VCALENDAR