BEGIN:VCALENDAR
VERSION:2.0
PRODID:-//North Kitsap Indivisible - ECPv6.15.20//NONSGML v1.0//EN
CALSCALE:GREGORIAN
METHOD:PUBLISH
X-ORIGINAL-URL:https://nkindivisible.com
X-WR-CALDESC:Events for North Kitsap Indivisible
REFRESH-INTERVAL;VALUE=DURATION:PT1H
X-Robots-Tag:noindex
X-PUBLISHED-TTL:PT1H
BEGIN:VTIMEZONE
TZID:America/Los_Angeles
BEGIN:DAYLIGHT
TZOFFSETFROM:-0800
TZOFFSETTO:-0700
TZNAME:PDT
DTSTART:20240310T100000
END:DAYLIGHT
BEGIN:STANDARD
TZOFFSETFROM:-0700
TZOFFSETTO:-0800
TZNAME:PST
DTSTART:20241103T090000
END:STANDARD
BEGIN:DAYLIGHT
TZOFFSETFROM:-0800
TZOFFSETTO:-0700
TZNAME:PDT
DTSTART:20250309T100000
END:DAYLIGHT
BEGIN:STANDARD
TZOFFSETFROM:-0700
TZOFFSETTO:-0800
TZNAME:PST
DTSTART:20251102T090000
END:STANDARD
BEGIN:DAYLIGHT
TZOFFSETFROM:-0800
TZOFFSETTO:-0700
TZNAME:PDT
DTSTART:20260308T100000
END:DAYLIGHT
BEGIN:STANDARD
TZOFFSETFROM:-0700
TZOFFSETTO:-0800
TZNAME:PST
DTSTART:20261101T090000
END:STANDARD
END:VTIMEZONE
BEGIN:VEVENT
DTSTART;TZID=America/Los_Angeles:20250717T000000
DTEND;TZID=America/Los_Angeles:20250717T235959
DTSTAMP:20260424T203542
CREATED:20250701T064143Z
LAST-MODIFIED:20250701T064143Z
UID:10000038-1752710400-1752796799@nkindivisible.com
SUMMARY:Good Trouble Lives On - National Day of Action
DESCRIPTION:Thursday July 17th – Time/Locations TBD \nGood Trouble Lives On mobilization – National Day of Action\, (details to be determined) \nGood Trouble Lives On refers to a term popularized by the late Rep. John Lewis\, who has described his significant involvement and leadership in the 1960s civil rights movement — he was an original Freedom Rider and an organizer of the March on Washington in 1963 — as “good trouble” and “necessary trouble.” Over the years\, the Georgia lawmaker’s use of the phrase good trouble has served as a reminder of the importance of activism.
URL:https://nkindivisible.com/event/good-trouble-lives-on-national-day-of-action/
END:VEVENT
BEGIN:VEVENT
DTSTART;TZID=America/Los_Angeles:20250717T120000
DTEND;TZID=America/Los_Angeles:20250717T130000
DTSTAMP:20260424T203542
CREATED:20250620T080621Z
LAST-MODIFIED:20250620T080621Z
UID:10000024-1752753600-1752757200@nkindivisible.com
SUMMARY:What’s the Plan? With Indivisible Co-Founders
DESCRIPTION:Thursday\,  July 17 @ 12:00 pm – 1:00 pm  Pacific Time\n\n\n\n\n\n\nVirtual event \nJoin from anywhere\n\n\nJoin Indivisible co-founders Leah Greenberg and Ezra Levin each week\, as we carve out an hour to discuss what’s happening and – more importantly – what’s the plan?\n\nRSVP: https://www.mobilize.us/indivisible/event/773746/
URL:https://nkindivisible.com/event/whats-the-plan-with-indivisible-co-founders-4/
END:VEVENT
END:VCALENDAR