BEGIN:VCALENDAR
VERSION:2.0
PRODID:-//North Kitsap Indivisible - ECPv6.15.20//NONSGML v1.0//EN
CALSCALE:GREGORIAN
METHOD:PUBLISH
X-WR-CALNAME:North Kitsap Indivisible
X-ORIGINAL-URL:https://nkindivisible.com
X-WR-CALDESC:Events for North Kitsap Indivisible
REFRESH-INTERVAL;VALUE=DURATION:PT1H
X-Robots-Tag:noindex
X-PUBLISHED-TTL:PT1H
BEGIN:VTIMEZONE
TZID:America/Los_Angeles
BEGIN:DAYLIGHT
TZOFFSETFROM:-0800
TZOFFSETTO:-0700
TZNAME:PDT
DTSTART:20240310T100000
END:DAYLIGHT
BEGIN:STANDARD
TZOFFSETFROM:-0700
TZOFFSETTO:-0800
TZNAME:PST
DTSTART:20241103T090000
END:STANDARD
BEGIN:DAYLIGHT
TZOFFSETFROM:-0800
TZOFFSETTO:-0700
TZNAME:PDT
DTSTART:20250309T100000
END:DAYLIGHT
BEGIN:STANDARD
TZOFFSETFROM:-0700
TZOFFSETTO:-0800
TZNAME:PST
DTSTART:20251102T090000
END:STANDARD
BEGIN:DAYLIGHT
TZOFFSETFROM:-0800
TZOFFSETTO:-0700
TZNAME:PDT
DTSTART:20260308T100000
END:DAYLIGHT
BEGIN:STANDARD
TZOFFSETFROM:-0700
TZOFFSETTO:-0800
TZNAME:PST
DTSTART:20261101T090000
END:STANDARD
END:VTIMEZONE
BEGIN:VEVENT
DTSTART;TZID=America/Los_Angeles:20250713T110000
DTEND;TZID=America/Los_Angeles:20250713T130000
DTSTAMP:20260424T203544
CREATED:20250620T075045Z
LAST-MODIFIED:20250620T075045Z
UID:10000022-1752404400-1752411600@nkindivisible.com
SUMMARY:Pramila's Resistance Lab
DESCRIPTION:Pramila Jayapal knew we need a way to turn our anger\, fear\, and frustration into action and progress. That’s exactly why she launched The Resistance Lab\, an in-depth organizing training to build our movement and give you the tools you need in this moment. \nThe scary truth is that democracies fall in a matter of months. So this is an immediate\, urgent matter – and we need to quickly build our capacity to resist.  \nThe Resistance Lab is a series of trainings that are developed specifically for this moment. In this first lab\, we look at how non-violent movements around the world have responded to leaders who seize power in authoritarian ways and the most effective tools and tactics to utilize in these moments. We offer frameworks to understand this moment at home\, and incorporate interactive conversation with others to help create community and build our resistance movement.  \nUse the link below for more information and to sign up for training on July 13  11 AM -1 PM Pacific Time \nhttps://www.mobilize.us/pramilaforcongress/event/805374/ \n  \n 
URL:https://nkindivisible.com/event/pramilas-resistance-lab/
END:VEVENT
BEGIN:VEVENT
DTSTART;TZID=America/Los_Angeles:20250713T110000
DTEND;TZID=America/Los_Angeles:20250713T130000
DTSTAMP:20260424T203544
CREATED:20250624T064724Z
LAST-MODIFIED:20250701T061414Z
UID:10000032-1752404400-1752411600@nkindivisible.com
SUMMARY:Poulsbo Weekly Democracy March/Rally
DESCRIPTION:Poulsbo Weekly Democracy March/Rally\n\n\nSunday\, 13 July \n\n\n11:00 am – 1:00 pm \n\n\n\n18809 Anderson Pkwy\, Poulsbo\, WA 98370\, USA\n\n\n\nMeet at Poulsbo’s Waterfront Park Gazebo at 11AM to march and rally for democracy.
URL:https://nkindivisible.com/event/poulsbo-weekly-march-rally-3/
END:VEVENT
END:VCALENDAR