BEGIN:VCALENDAR
VERSION:2.0
PRODID:-//North Kitsap Indivisible - ECPv6.15.20//NONSGML v1.0//EN
CALSCALE:GREGORIAN
METHOD:PUBLISH
X-WR-CALNAME:North Kitsap Indivisible
X-ORIGINAL-URL:https://nkindivisible.com
X-WR-CALDESC:Events for North Kitsap Indivisible
REFRESH-INTERVAL;VALUE=DURATION:PT1H
X-Robots-Tag:noindex
X-PUBLISHED-TTL:PT1H
BEGIN:VTIMEZONE
TZID:America/Los_Angeles
BEGIN:DAYLIGHT
TZOFFSETFROM:-0800
TZOFFSETTO:-0700
TZNAME:PDT
DTSTART:20240310T100000
END:DAYLIGHT
BEGIN:STANDARD
TZOFFSETFROM:-0700
TZOFFSETTO:-0800
TZNAME:PST
DTSTART:20241103T090000
END:STANDARD
BEGIN:DAYLIGHT
TZOFFSETFROM:-0800
TZOFFSETTO:-0700
TZNAME:PDT
DTSTART:20250309T100000
END:DAYLIGHT
BEGIN:STANDARD
TZOFFSETFROM:-0700
TZOFFSETTO:-0800
TZNAME:PST
DTSTART:20251102T090000
END:STANDARD
BEGIN:DAYLIGHT
TZOFFSETFROM:-0800
TZOFFSETTO:-0700
TZNAME:PDT
DTSTART:20260308T100000
END:DAYLIGHT
BEGIN:STANDARD
TZOFFSETFROM:-0700
TZOFFSETTO:-0800
TZNAME:PST
DTSTART:20261101T090000
END:STANDARD
END:VTIMEZONE
BEGIN:VEVENT
DTSTART;TZID=America/Los_Angeles:20250712T100000
DTEND;TZID=America/Los_Angeles:20250712T130000
DTSTAMP:20260424T203457
CREATED:20250701T062047Z
LAST-MODIFIED:20250701T062047Z
UID:10000035-1752314400-1752325200@nkindivisible.com
SUMMARY:Intro to Unarmed Civilian Protection
DESCRIPTION:Saturday July 12th 1-4:00pm ET     (or 10AM-1PM Pacific Time)\nLocation: ONLINE; Zoom link provided in the confirmation window that will pop up after you complete registration. It will also be sent via email about 24 hrs. before the session \nContact: Sal Corbin at sal.corbin@yahoo.com\n\nUnarmed Civilian Protection and Accompaniment is a methodology for teams that offer direct protection of civilians and others\, reduction of hostility\, re-humanization of parties\, as well as increasing local peace infrastructures. This workshop will be largely experiential and learning-by-doing. The skills learned can be modified and applied in many facets of life\, including political demonstrations\, local events\, accompaniment of those in danger\, neighborhood conflicts\, and international conflicts. \nObjectives:\n1) Sharing experiences of unarmed protection and accompaniment\n2) An increased awareness of the orientation\, strategies\, methods\, and impact of unarmed civilian protection\n3) Acquiring skills by role-playing how peace teams use these strategies and tactics in local community conflicts \n\nPayment is requested on a sliding scale. Please consider $50-$100 to support our work and help us better serve the community. No one will be turned away for lack of payment and we welcome you either way. \nAfter completing registration below\, please submit payment today–https://ssl.charityweb.net/dcpeaceteam/training.htm; or checks can be written out to DC Peace Team and mailed to Eli McCarthy\, 7305 Baylor Ave. College Park\, MD 20740.\n\nFacilitator:\nSal Corbin worked for 15 years in academia as a Psychology Professor before transitioning to nonprofit work with reentry\, homelessness\, and substance use recovery. He has done workforce development training and program management and built the Restorative Justice program with the DC Peace Team and is the Training Coordinator for the Behavioral Health System of Baltimore. His vision is to build and maintain healthy relationships with conflict transformation as the primary focus. His extensive background in leadership facilitation supports his efforts to keep showing up and sharing. He holds degrees in Clinical (M.S.) and Educational (PhD) Psychology.\n  \nRSVP: \nhttps://docs.google.com/forms/d/e/1FAIpQLScaj76V81Iv6XyidwkZd15wVh3rYHTbrcZRDb5kcYxCae9xVg/viewform
URL:https://nkindivisible.com/event/intro-to-unarmed-civilian-protection/
END:VEVENT
END:VCALENDAR