BEGIN:VCALENDAR
VERSION:2.0
PRODID:-//North Kitsap Indivisible - ECPv6.15.20//NONSGML v1.0//EN
CALSCALE:GREGORIAN
METHOD:PUBLISH
X-WR-CALNAME:North Kitsap Indivisible
X-ORIGINAL-URL:https://nkindivisible.com
X-WR-CALDESC:Events for North Kitsap Indivisible
REFRESH-INTERVAL;VALUE=DURATION:PT1H
X-Robots-Tag:noindex
X-PUBLISHED-TTL:PT1H
BEGIN:VTIMEZONE
TZID:America/Los_Angeles
BEGIN:DAYLIGHT
TZOFFSETFROM:-0800
TZOFFSETTO:-0700
TZNAME:PDT
DTSTART:20240310T100000
END:DAYLIGHT
BEGIN:STANDARD
TZOFFSETFROM:-0700
TZOFFSETTO:-0800
TZNAME:PST
DTSTART:20241103T090000
END:STANDARD
BEGIN:DAYLIGHT
TZOFFSETFROM:-0800
TZOFFSETTO:-0700
TZNAME:PDT
DTSTART:20250309T100000
END:DAYLIGHT
BEGIN:STANDARD
TZOFFSETFROM:-0700
TZOFFSETTO:-0800
TZNAME:PST
DTSTART:20251102T090000
END:STANDARD
BEGIN:DAYLIGHT
TZOFFSETFROM:-0800
TZOFFSETTO:-0700
TZNAME:PDT
DTSTART:20260308T100000
END:DAYLIGHT
BEGIN:STANDARD
TZOFFSETFROM:-0700
TZOFFSETTO:-0800
TZNAME:PST
DTSTART:20261101T090000
END:STANDARD
END:VTIMEZONE
BEGIN:VEVENT
DTSTART;TZID=America/Los_Angeles:20250629T110000
DTEND;TZID=America/Los_Angeles:20250629T130000
DTSTAMP:20260424T203430
CREATED:20250624T064103Z
LAST-MODIFIED:20250624T064103Z
UID:10000029-1751194800-1751202000@nkindivisible.com
SUMMARY:Poulsbo Weekly March/Rally
DESCRIPTION:Poulsbo Weekly March/Rally\n\n\nSunday\, 29 June \n\n\n11:00 am – 1:00 pm \n\n\n\n18809 Anderson Pkwy\, Poulsbo\, WA 98370\, USA\n\n\n\nMeet at Poulsbo’s Waterfront Park Gazebo at 11AM to march and rally for democracy.
URL:https://nkindivisible.com/event/poulsbo-weekly-march-rally/
END:VEVENT
END:VCALENDAR